BEGIN:VCALENDAR
VERSION:2.0
PRODID:-//Infotetquebec - ECPv6.15.20//NONSGML v1.0//EN
CALSCALE:GREGORIAN
METHOD:PUBLISH
X-WR-CALNAME:Infotetquebec
X-ORIGINAL-URL:https://www.infotetquebec.com/es/
X-WR-CALDESC:Eventos para Infotetquebec
REFRESH-INTERVAL;VALUE=DURATION:PT1H
X-Robots-Tag:noindex
X-PUBLISHED-TTL:PT1H
BEGIN:VTIMEZONE
TZID:America/Toronto
BEGIN:DAYLIGHT
TZOFFSETFROM:-0500
TZOFFSETTO:-0400
TZNAME:EDT
DTSTART:20250309T070000
END:DAYLIGHT
BEGIN:STANDARD
TZOFFSETFROM:-0400
TZOFFSETTO:-0500
TZNAME:EST
DTSTART:20251102T060000
END:STANDARD
BEGIN:DAYLIGHT
TZOFFSETFROM:-0500
TZOFFSETTO:-0400
TZNAME:EDT
DTSTART:20260308T070000
END:DAYLIGHT
BEGIN:STANDARD
TZOFFSETFROM:-0400
TZOFFSETTO:-0500
TZNAME:EST
DTSTART:20261101T060000
END:STANDARD
BEGIN:DAYLIGHT
TZOFFSETFROM:-0500
TZOFFSETTO:-0400
TZNAME:EDT
DTSTART:20270314T070000
END:DAYLIGHT
BEGIN:STANDARD
TZOFFSETFROM:-0400
TZOFFSETTO:-0500
TZNAME:EST
DTSTART:20271107T060000
END:STANDARD
END:VTIMEZONE
BEGIN:VEVENT
DTSTART;TZID=America/Toronto:20260207T090000
DTEND;TZID=America/Toronto:20260207T130000
DTSTAMP:20260421T092818
CREATED:20260119T135652Z
LAST-MODIFIED:20260119T135655Z
UID:25831-1770454800-1770469200@www.infotetquebec.com
SUMMARY:Sept-Îles\, QC / Esquí de fondo para los TET
DESCRIPTION:Sept-Îles\, QC / Esquí de fondo para los TET \n📍 Centro de actividades al aire libre del Lac des Rapides\, Chemin du Lac des Rapides\, Sept-Îles\, QC.📅 07 de febrero de 2026🕐 9:00–15:00 \n👉 Esta actividad está dirigida a los trabajadores extranjeros temporales. \nPor favor\, siga las instrucciones indicadas en el afiche y contacte al organizador.
URL:https://www.infotetquebec.com/es/event/sept-iles-qc-esqui-de-fondo-para-los-tet/
LOCATION:Centre de plein air du Lac des Rapides\, Chemin du Lac des Rapides\, Sept-Îles\, QC.
CATEGORIES:Activité culturelle ou sportive
END:VEVENT
END:VCALENDAR