BEGIN:VCALENDAR
VERSION:2.0
PRODID:-//Infotetquebec - ECPv6.15.20//NONSGML v1.0//EN
CALSCALE:GREGORIAN
METHOD:PUBLISH
X-WR-CALNAME:Infotetquebec
X-ORIGINAL-URL:https://www.infotetquebec.com/es/
X-WR-CALDESC:Eventos para Infotetquebec
REFRESH-INTERVAL;VALUE=DURATION:PT1H
X-Robots-Tag:noindex
X-PUBLISHED-TTL:PT1H
BEGIN:VTIMEZONE
TZID:America/New_York
BEGIN:DAYLIGHT
TZOFFSETFROM:-0500
TZOFFSETTO:-0400
TZNAME:EDT
DTSTART:20220313T070000
END:DAYLIGHT
BEGIN:STANDARD
TZOFFSETFROM:-0400
TZOFFSETTO:-0500
TZNAME:EST
DTSTART:20221106T060000
END:STANDARD
BEGIN:DAYLIGHT
TZOFFSETFROM:-0500
TZOFFSETTO:-0400
TZNAME:EDT
DTSTART:20230312T070000
END:DAYLIGHT
BEGIN:STANDARD
TZOFFSETFROM:-0400
TZOFFSETTO:-0500
TZNAME:EST
DTSTART:20231105T060000
END:STANDARD
BEGIN:DAYLIGHT
TZOFFSETFROM:-0500
TZOFFSETTO:-0400
TZNAME:EDT
DTSTART:20240310T070000
END:DAYLIGHT
BEGIN:STANDARD
TZOFFSETFROM:-0400
TZOFFSETTO:-0500
TZNAME:EST
DTSTART:20241103T060000
END:STANDARD
END:VTIMEZONE
BEGIN:VEVENT
DTSTART;TZID=America/New_York:20230617T093000
DTEND;TZID=America/New_York:20230617T120000
DTSTAMP:20260423T214551
CREATED:20230607T153341Z
LAST-MODIFIED:20230607T153341Z
UID:7501-1686994200-1687003200@www.infotetquebec.com
SUMMARY:Saint-Tite-des-Caps / Actividad de jardinería
DESCRIPTION:Actividad de jardinería con Semeurs d’espoir de 9.30 a 12 h. \nPara más información y reservas\, póngase en contacto con Joany Boily\, 418 435-2503\, joany@cje-appui.qc.ca.
URL:https://www.infotetquebec.com/es/event/saint-tite-des-caps-actividad-de-jardineria/
LOCATION:Saint-Tite-des-Caps
CATEGORIES:Sesión de información
ATTACH;FMTTYPE=image/jpeg:https://www.infotetquebec.com/wp-content/uploads/2023/06/jardinage-scaled.jpg
ORGANIZER;CN="Services de Main d'oeuvre L'Appui":MAILTO:info@cje-appui.qc.ca
END:VEVENT
END:VCALENDAR