BEGIN:VCALENDAR
VERSION:2.0
PRODID:-//Infotetquebec - ECPv6.15.20//NONSGML v1.0//EN
CALSCALE:GREGORIAN
METHOD:PUBLISH
X-WR-CALNAME:Infotetquebec
X-ORIGINAL-URL:https://www.infotetquebec.com/es/
X-WR-CALDESC:Eventos para Infotetquebec
REFRESH-INTERVAL;VALUE=DURATION:PT1H
X-Robots-Tag:noindex
X-PUBLISHED-TTL:PT1H
BEGIN:VTIMEZONE
TZID:America/New_York
BEGIN:DAYLIGHT
TZOFFSETFROM:-0500
TZOFFSETTO:-0400
TZNAME:EDT
DTSTART:20220313T070000
END:DAYLIGHT
BEGIN:STANDARD
TZOFFSETFROM:-0400
TZOFFSETTO:-0500
TZNAME:EST
DTSTART:20221106T060000
END:STANDARD
BEGIN:DAYLIGHT
TZOFFSETFROM:-0500
TZOFFSETTO:-0400
TZNAME:EDT
DTSTART:20230312T070000
END:DAYLIGHT
BEGIN:STANDARD
TZOFFSETFROM:-0400
TZOFFSETTO:-0500
TZNAME:EST
DTSTART:20231105T060000
END:STANDARD
BEGIN:DAYLIGHT
TZOFFSETFROM:-0500
TZOFFSETTO:-0400
TZNAME:EDT
DTSTART:20240310T070000
END:DAYLIGHT
BEGIN:STANDARD
TZOFFSETFROM:-0400
TZOFFSETTO:-0500
TZNAME:EST
DTSTART:20241103T060000
END:STANDARD
END:VTIMEZONE
BEGIN:VEVENT
DTSTART;TZID=America/New_York:20231207T180000
DTEND;TZID=America/New_York:20231207T200000
DTSTAMP:20260421T215823
CREATED:20231123T210318Z
LAST-MODIFIED:20240126T185817Z
UID:10255-1701972000-1701979200@www.infotetquebec.com
SUMMARY:Saint-Paul-d'Abbotsford / Fiesta de Navidad
DESCRIPTION:Inscriptions : https://forms.office.com/pages/responsepage.aspx?id=0_JvlIF-AUOMcJZzeTeuK9Z4nxmedR5FjMolHYNnFTdUMDZaRjBXTTlIS0dISjNLNVpEUjE2RUZCMC4u&origin=QRCode&qrcodeorigin=presentation\n\n 
URL:https://www.infotetquebec.com/es/event/saint-paul-dabbotsford-fiesta-de-navidad/
LOCATION:Salle municipale de Saint-Paul-d’Abbotsford\, 35 Rue Codaire\, Saint-Paul-d'Abbotsford\, Québec\, J0E 1A0\, Canada
CATEGORIES:boliche
ORGANIZER;CN="Int%C3%A9gration comp%C3%A9tences":MAILTO:lilianasalgado@integrationcompetences.ca
END:VEVENT
END:VCALENDAR