BEGIN:VCALENDAR
VERSION:2.0
PRODID:-//Infotetquebec - ECPv6.15.20//NONSGML v1.0//EN
CALSCALE:GREGORIAN
METHOD:PUBLISH
X-WR-CALNAME:Infotetquebec
X-ORIGINAL-URL:https://www.infotetquebec.com/es/
X-WR-CALDESC:Eventos para Infotetquebec
REFRESH-INTERVAL;VALUE=DURATION:PT1H
X-Robots-Tag:noindex
X-PUBLISHED-TTL:PT1H
BEGIN:VTIMEZONE
TZID:America/New_York
BEGIN:DAYLIGHT
TZOFFSETFROM:-0500
TZOFFSETTO:-0400
TZNAME:EDT
DTSTART:20220313T070000
END:DAYLIGHT
BEGIN:STANDARD
TZOFFSETFROM:-0400
TZOFFSETTO:-0500
TZNAME:EST
DTSTART:20221106T060000
END:STANDARD
BEGIN:DAYLIGHT
TZOFFSETFROM:-0500
TZOFFSETTO:-0400
TZNAME:EDT
DTSTART:20230312T070000
END:DAYLIGHT
BEGIN:STANDARD
TZOFFSETFROM:-0400
TZOFFSETTO:-0500
TZNAME:EST
DTSTART:20231105T060000
END:STANDARD
BEGIN:DAYLIGHT
TZOFFSETFROM:-0500
TZOFFSETTO:-0400
TZNAME:EDT
DTSTART:20240310T070000
END:DAYLIGHT
BEGIN:STANDARD
TZOFFSETFROM:-0400
TZOFFSETTO:-0500
TZNAME:EST
DTSTART:20241103T060000
END:STANDARD
END:VTIMEZONE
BEGIN:VEVENT
DTSTART;TZID=America/New_York:20230617T090000
DTEND;TZID=America/New_York:20230617T120000
DTSTAMP:20260423T202153
CREATED:20230606T202933Z
LAST-MODIFIED:20230606T203057Z
UID:7461-1686992400-1687003200@www.infotetquebec.com
SUMMARY:Saint-Jean-sur-Richelieu / Torneo express de fútbol 2023
DESCRIPTION:Torneo de Fútbol Express 2023. \n¡Ven y muévete con nosotros! \nInformación: Karla Dueñas\, +1 438 390-2132\, karladuenas@lancre.ca.
URL:https://www.infotetquebec.com/es/event/saint-jean-sur-richelieu-torneo-express-de-futbol-2023/
LOCATION:Parc Marguerite-Bourgeoys\, 11e Avenue\, Saint-Jean-sur-Richelieu (Iberville)\, Québec\, Canada
CATEGORIES:fútbol
ATTACH;FMTTYPE=image/png:https://www.infotetquebec.com/wp-content/uploads/2023/06/LANCRE_TET_SOCCER_Carre_ES.png
ORGANIZER;CN="L'ANCRE":MAILTO:karladuenas@lancre.ca
END:VEVENT
END:VCALENDAR