BEGIN:VCALENDAR
VERSION:2.0
PRODID:-//Infotetquebec - ECPv6.15.20//NONSGML v1.0//EN
CALSCALE:GREGORIAN
METHOD:PUBLISH
X-WR-CALNAME:Infotetquebec
X-ORIGINAL-URL:https://www.infotetquebec.com/es/
X-WR-CALDESC:Eventos para Infotetquebec
REFRESH-INTERVAL;VALUE=DURATION:PT1H
X-Robots-Tag:noindex
X-PUBLISHED-TTL:PT1H
BEGIN:VTIMEZONE
TZID:America/New_York
BEGIN:DAYLIGHT
TZOFFSETFROM:-0500
TZOFFSETTO:-0400
TZNAME:EDT
DTSTART:20220313T070000
END:DAYLIGHT
BEGIN:STANDARD
TZOFFSETFROM:-0400
TZOFFSETTO:-0500
TZNAME:EST
DTSTART:20221106T060000
END:STANDARD
BEGIN:DAYLIGHT
TZOFFSETFROM:-0500
TZOFFSETTO:-0400
TZNAME:EDT
DTSTART:20230312T070000
END:DAYLIGHT
BEGIN:STANDARD
TZOFFSETFROM:-0400
TZOFFSETTO:-0500
TZNAME:EST
DTSTART:20231105T060000
END:STANDARD
BEGIN:DAYLIGHT
TZOFFSETFROM:-0500
TZOFFSETTO:-0400
TZNAME:EDT
DTSTART:20240310T070000
END:DAYLIGHT
BEGIN:STANDARD
TZOFFSETFROM:-0400
TZOFFSETTO:-0500
TZNAME:EST
DTSTART:20241103T060000
END:STANDARD
END:VTIMEZONE
BEGIN:VEVENT
DTSTART;TZID=America/New_York:20231112T183000
DTEND;TZID=America/New_York:20231112T213000
DTSTAMP:20260422T145505
CREATED:20231109T185529Z
LAST-MODIFIED:20240126T163049Z
UID:9752-1699813800-1699824600@www.infotetquebec.com
SUMMARY:Rougemont / Tarde de cine intercultural
DESCRIPTION:VENEZ DÉCOUVRIR LA VERSION MEXICAINE D’UN FILM QUÉBÉCOIS\n\nET RENCONTRER LES TRAVAILLEURS AGRICOLES DE ROUGEMONT!\n\n12 NOVEMBRE 2023\n\nBoisson et popcorn inclus\n\n18H30\n\n270\, RANG LA GRANDE-CAROLINE\n\nROUGEMONT (QUÉBEC) JOL 1MO\n\nSALLE DE LOISIRS\n\nINSCRIPTION OBLIGATOIRE\n\nWhatsApp auprès de Karla Duenas\n\n438 390-2132 ou via le formulaire en ligne : https://mrcrouville.qc.ca/cinema/\n\n*Film en espagnol avec sous-titres en français
URL:https://www.infotetquebec.com/es/event/rougemont-tarde-de-cine-intercultural/
LOCATION:270\, RANG LA GRANDE-CAROLINE\, 270\, RANG LA GRANDE-CAROLINE\, Rougement\, Québec\, JOL 1MO\, Canada
CATEGORIES:Activité culturelle ou sportive,Velada
ORGANIZER;CN="L'ANCRE":MAILTO:karladuenas@lancre.ca
END:VEVENT
END:VCALENDAR