BEGIN:VCALENDAR
VERSION:2.0
PRODID:-//Infotetquebec - ECPv6.15.20//NONSGML v1.0//EN
CALSCALE:GREGORIAN
METHOD:PUBLISH
X-WR-CALNAME:Infotetquebec
X-ORIGINAL-URL:https://www.infotetquebec.com/es/
X-WR-CALDESC:Eventos para Infotetquebec
REFRESH-INTERVAL;VALUE=DURATION:PT1H
X-Robots-Tag:noindex
X-PUBLISHED-TTL:PT1H
BEGIN:VTIMEZONE
TZID:America/Toronto
BEGIN:DAYLIGHT
TZOFFSETFROM:-0500
TZOFFSETTO:-0400
TZNAME:EDT
DTSTART:20240310T070000
END:DAYLIGHT
BEGIN:STANDARD
TZOFFSETFROM:-0400
TZOFFSETTO:-0500
TZNAME:EST
DTSTART:20241103T060000
END:STANDARD
BEGIN:DAYLIGHT
TZOFFSETFROM:-0500
TZOFFSETTO:-0400
TZNAME:EDT
DTSTART:20250309T070000
END:DAYLIGHT
BEGIN:STANDARD
TZOFFSETFROM:-0400
TZOFFSETTO:-0500
TZNAME:EST
DTSTART:20251102T060000
END:STANDARD
BEGIN:DAYLIGHT
TZOFFSETFROM:-0500
TZOFFSETTO:-0400
TZNAME:EDT
DTSTART:20260308T070000
END:DAYLIGHT
BEGIN:STANDARD
TZOFFSETFROM:-0400
TZOFFSETTO:-0500
TZNAME:EST
DTSTART:20261101T060000
END:STANDARD
END:VTIMEZONE
BEGIN:VEVENT
DTSTART;TZID=America/Toronto:20250803T130000
DTEND;TZID=America/Toronto:20250803T160000
DTSTAMP:20260421T043919
CREATED:20250722T154716Z
LAST-MODIFIED:20250722T155408Z
UID:21630-1754226000-1754236800@www.infotetquebec.com
SUMMARY:Quebec / Día de arborismo en Arbraska Chauveau
DESCRIPTION:Quebec / Tarde de salto de árbol en Arbraska Chauveau
URL:https://www.infotetquebec.com/es/event/quebec-tarde-de-salto-de-arbol-en-arbraska-chauveau/
LOCATION:7200 BOULEVARD DE L’ORMIÈRE\, QUÉBEC QC G2C 1C1
CATEGORIES:Actividad social,Activité culturelle ou sportive
ATTACH;FMTTYPE=image/png:https://www.infotetquebec.com/wp-content/uploads/2025/07/Flyer-Arbraska-Chauveau-CMQ_esp.png
ORGANIZER;CN="Centre multiethnique de Qu%C3%A9bec":MAILTO:sgiroux@centremultiethnique
END:VEVENT
END:VCALENDAR