BEGIN:VCALENDAR
VERSION:2.0
PRODID:-//Infotetquebec - ECPv6.15.20//NONSGML v1.0//EN
CALSCALE:GREGORIAN
METHOD:PUBLISH
X-WR-CALNAME:Infotetquebec
X-ORIGINAL-URL:https://www.infotetquebec.com/es/
X-WR-CALDESC:Eventos para Infotetquebec
REFRESH-INTERVAL;VALUE=DURATION:PT1H
X-Robots-Tag:noindex
X-PUBLISHED-TTL:PT1H
BEGIN:VTIMEZONE
TZID:America/Toronto
BEGIN:DAYLIGHT
TZOFFSETFROM:-0500
TZOFFSETTO:-0400
TZNAME:EDT
DTSTART:20240310T070000
END:DAYLIGHT
BEGIN:STANDARD
TZOFFSETFROM:-0400
TZOFFSETTO:-0500
TZNAME:EST
DTSTART:20241103T060000
END:STANDARD
BEGIN:DAYLIGHT
TZOFFSETFROM:-0500
TZOFFSETTO:-0400
TZNAME:EDT
DTSTART:20250309T070000
END:DAYLIGHT
BEGIN:STANDARD
TZOFFSETFROM:-0400
TZOFFSETTO:-0500
TZNAME:EST
DTSTART:20251102T060000
END:STANDARD
BEGIN:DAYLIGHT
TZOFFSETFROM:-0500
TZOFFSETTO:-0400
TZNAME:EDT
DTSTART:20260308T070000
END:DAYLIGHT
BEGIN:STANDARD
TZOFFSETFROM:-0400
TZOFFSETTO:-0500
TZNAME:EST
DTSTART:20261101T060000
END:STANDARD
END:VTIMEZONE
BEGIN:VEVENT
DTSTART;TZID=America/Toronto:20250802T170000
DTEND;TZID=America/Toronto:20250802T200000
DTSTAMP:20260421T041721
CREATED:20250729T143149Z
LAST-MODIFIED:20250729T143404Z
UID:21809-1754154000-1754164800@www.infotetquebec.com
SUMMARY:Québec\, QC/Partido de Futbol
DESCRIPTION:Québec\, QC/Partido de Futbol \n📍 1000 Rue de Bar le Duc\, Québec\, QC G1W 4X6\, Canada\n📅 02-Agosto-2025\n🕐 17:00-20:00 horas \n👉 Esta actividad está dirigida a trabajadores extranjeros temporales (con permiso de trabajo cerrado). \nPor favor\, siga las instrucciones indicadas en el cartel del evento.
URL:https://www.infotetquebec.com/es/event/quebec-qc-partido-de-futbol/
LOCATION:1000 Rue de Bar le Duc\, Québec\, QC G1W 4X6\, Canada
CATEGORIES:Activité culturelle ou sportive,fútbol
ATTACH;FMTTYPE=image/png:https://www.infotetquebec.com/wp-content/uploads/2025/07/Parties-de-soccer-CMQ-_-ESP.png
ORGANIZER;CN="Centre multiethnique de Qu%C3%A9bec":MAILTO:sgiroux@centremultiethnique
END:VEVENT
END:VCALENDAR