BEGIN:VCALENDAR
VERSION:2.0
PRODID:-//Infotetquebec - ECPv6.15.20//NONSGML v1.0//EN
CALSCALE:GREGORIAN
METHOD:PUBLISH
X-WR-CALNAME:Infotetquebec
X-ORIGINAL-URL:https://www.infotetquebec.com/es/
X-WR-CALDESC:Eventos para Infotetquebec
REFRESH-INTERVAL;VALUE=DURATION:PT1H
X-Robots-Tag:noindex
X-PUBLISHED-TTL:PT1H
BEGIN:VTIMEZONE
TZID:America/Toronto
BEGIN:DAYLIGHT
TZOFFSETFROM:-0500
TZOFFSETTO:-0400
TZNAME:EDT
DTSTART:20240310T070000
END:DAYLIGHT
BEGIN:STANDARD
TZOFFSETFROM:-0400
TZOFFSETTO:-0500
TZNAME:EST
DTSTART:20241103T060000
END:STANDARD
BEGIN:DAYLIGHT
TZOFFSETFROM:-0500
TZOFFSETTO:-0400
TZNAME:EDT
DTSTART:20250309T070000
END:DAYLIGHT
BEGIN:STANDARD
TZOFFSETFROM:-0400
TZOFFSETTO:-0500
TZNAME:EST
DTSTART:20251102T060000
END:STANDARD
BEGIN:DAYLIGHT
TZOFFSETFROM:-0500
TZOFFSETTO:-0400
TZNAME:EDT
DTSTART:20260308T070000
END:DAYLIGHT
BEGIN:STANDARD
TZOFFSETFROM:-0400
TZOFFSETTO:-0500
TZNAME:EST
DTSTART:20261101T060000
END:STANDARD
END:VTIMEZONE
BEGIN:VEVENT
DTSTART;TZID=America/Toronto:20250628T183000
DTEND;TZID=America/Toronto:20250628T210000
DTSTAMP:20260421T092823
CREATED:20250610T143211Z
LAST-MODIFIED:20250610T143333Z
UID:20243-1751135400-1751144400@www.infotetquebec.com
SUMMARY:Nicolet\, QC/Fiesta de reconocimiento de los TET.
DESCRIPTION:Fiesta de Reconocimiento de los TET\nSábado\, 28 de junio de 2025\n6:30 PM – 9:00 PM \nEste evento es gratuito para los Trabajadores Extranjeros Temporales (TET) con permiso de trabajo cerrado. \nEstamos organizando esta fiesta para agradecer a los trabajadores extranjeros temporales que tienen un permiso de trabajo cerrado. \nPara más información y reservar tu lugar (cupo limitado)\, por favor contacta a: \nYeny vía WhatsApp: 819 720-4051\nMarie-Pierre Lemire: 819 294-6020 #203
URL:https://www.infotetquebec.com/es/event/nicolet-qc-fiesta-de-reconocimiento-de-los-tet/
LOCATION:725 Bd Louis Fréchette\, Nicolet\, QC J3T 1L6\, Canada\, 725 Bd Louis Fréchette\, Nicolet\, Quebec\, J3T1L6\, Canada
CATEGORIES:Actividad social
ATTACH;FMTTYPE=image/png:https://www.infotetquebec.com/wp-content/uploads/2025/06/Fiesta-Latina-2025-espagnol.png
END:VEVENT
END:VCALENDAR