BEGIN:VCALENDAR
VERSION:2.0
PRODID:-//Infotetquebec - ECPv6.15.20//NONSGML v1.0//EN
CALSCALE:GREGORIAN
METHOD:PUBLISH
X-WR-CALNAME:Infotetquebec
X-ORIGINAL-URL:https://www.infotetquebec.com/es/
X-WR-CALDESC:Eventos para Infotetquebec
REFRESH-INTERVAL;VALUE=DURATION:PT1H
X-Robots-Tag:noindex
X-PUBLISHED-TTL:PT1H
BEGIN:VTIMEZONE
TZID:America/New_York
BEGIN:DAYLIGHT
TZOFFSETFROM:-0500
TZOFFSETTO:-0400
TZNAME:EDT
DTSTART:20220313T070000
END:DAYLIGHT
BEGIN:STANDARD
TZOFFSETFROM:-0400
TZOFFSETTO:-0500
TZNAME:EST
DTSTART:20221106T060000
END:STANDARD
BEGIN:DAYLIGHT
TZOFFSETFROM:-0500
TZOFFSETTO:-0400
TZNAME:EDT
DTSTART:20230312T070000
END:DAYLIGHT
BEGIN:STANDARD
TZOFFSETFROM:-0400
TZOFFSETTO:-0500
TZNAME:EST
DTSTART:20231105T060000
END:STANDARD
BEGIN:DAYLIGHT
TZOFFSETFROM:-0500
TZOFFSETTO:-0400
TZNAME:EDT
DTSTART:20240310T070000
END:DAYLIGHT
BEGIN:STANDARD
TZOFFSETFROM:-0400
TZOFFSETTO:-0500
TZNAME:EST
DTSTART:20241103T060000
END:STANDARD
END:VTIMEZONE
BEGIN:VEVENT
DTSTART;TZID=America/New_York:20230415T183000
DTEND;TZID=America/New_York:20230415T200000
DTSTAMP:20260423T013128
CREATED:20230119T221208Z
LAST-MODIFIED:20230119T221208Z
UID:5354-1681583400-1681588800@www.infotetquebec.com
SUMMARY:Misa en español en la iglesia Saint-Pierre de Saint-Jérôme
DESCRIPTION:¡Venga a celebrar una misa en español en la iglesia de San Pedro organizada por la comunidad hispanohablante de Saint-Jérôme!
URL:https://www.infotetquebec.com/es/event/misa-en-espanol-en-la-iglesia-saint-pierre-de-saint-jerome-4/
LOCATION:520 boulebard Bourassa\, Saint-Jérôme\, QC\, J7Y 1X9\, Canada
CATEGORIES:Misa
ATTACH;FMTTYPE=image/jpeg:https://www.infotetquebec.com/wp-content/uploads/2023/01/thays-orrico-unsplash-scaled.jpg
END:VEVENT
END:VCALENDAR