BEGIN:VCALENDAR
VERSION:2.0
PRODID:-//Infotetquebec - ECPv6.15.20//NONSGML v1.0//EN
CALSCALE:GREGORIAN
METHOD:PUBLISH
X-WR-CALNAME:Infotetquebec
X-ORIGINAL-URL:https://www.infotetquebec.com/es/
X-WR-CALDESC:Eventos para Infotetquebec
REFRESH-INTERVAL;VALUE=DURATION:PT1H
X-Robots-Tag:noindex
X-PUBLISHED-TTL:PT1H
BEGIN:VTIMEZONE
TZID:America/Toronto
BEGIN:DAYLIGHT
TZOFFSETFROM:-0500
TZOFFSETTO:-0400
TZNAME:EDT
DTSTART:20250309T070000
END:DAYLIGHT
BEGIN:STANDARD
TZOFFSETFROM:-0400
TZOFFSETTO:-0500
TZNAME:EST
DTSTART:20251102T060000
END:STANDARD
BEGIN:DAYLIGHT
TZOFFSETFROM:-0500
TZOFFSETTO:-0400
TZNAME:EDT
DTSTART:20260308T070000
END:DAYLIGHT
BEGIN:STANDARD
TZOFFSETFROM:-0400
TZOFFSETTO:-0500
TZNAME:EST
DTSTART:20261101T060000
END:STANDARD
BEGIN:DAYLIGHT
TZOFFSETFROM:-0500
TZOFFSETTO:-0400
TZNAME:EDT
DTSTART:20270314T070000
END:DAYLIGHT
BEGIN:STANDARD
TZOFFSETFROM:-0400
TZOFFSETTO:-0500
TZNAME:EST
DTSTART:20271107T060000
END:STANDARD
END:VTIMEZONE
BEGIN:VEVENT
DTSTART;TZID=America/Toronto:20260322T090000
DTEND;TZID=America/Toronto:20260322T153000
DTSTAMP:20260421T055847
CREATED:20260310T191220Z
LAST-MODIFIED:20260310T191436Z
UID:27237-1774170000-1774193400@www.infotetquebec.com
SUMMARY:La Malbaie\, QC / Jornada de esquí para principiantes para los TET
DESCRIPTION:La Malbaie\, QC / Jornada de esquí para principiantes para los TET \n📍 Mont Grand-Fonds\, 1000 Chemin des Loisirs\, La Malbaie\, QC\, Canadá📅 22 de marzo de 2026🕐 9:00 – 15:30 \n👉 Esta actividad está destinada a los trabajadores extranjeros temporales. \nPor favor\, sigue las instrucciones indicadas en el cartel y contacta al organizador.
URL:https://www.infotetquebec.com/es/event/la-malbaie-qc-jornada-de-esqui-para-principiantes-para-los-tet/
LOCATION:Mont Grand-Fonds\, 1000 Chemin des Loisirs\, La Malbaie\, QC\, Canada.
CATEGORIES:Actividad social,Activité culturelle ou sportive
ATTACH;FMTTYPE=image/png:https://www.infotetquebec.com/wp-content/uploads/2026/03/Mont-Grand-Fonds-IQ-ES.png
ORGANIZER;CN="Services de Main d'oeuvre L'Appui":MAILTO:info@cje-appui.qc.ca
END:VEVENT
END:VCALENDAR