BEGIN:VCALENDAR
VERSION:2.0
PRODID:-//Infotetquebec - ECPv6.15.20//NONSGML v1.0//EN
CALSCALE:GREGORIAN
METHOD:PUBLISH
X-WR-CALNAME:Infotetquebec
X-ORIGINAL-URL:https://www.infotetquebec.com/es/
X-WR-CALDESC:Eventos para Infotetquebec
REFRESH-INTERVAL;VALUE=DURATION:PT1H
X-Robots-Tag:noindex
X-PUBLISHED-TTL:PT1H
BEGIN:VTIMEZONE
TZID:America/New_York
BEGIN:DAYLIGHT
TZOFFSETFROM:-0500
TZOFFSETTO:-0400
TZNAME:EDT
DTSTART:20220313T070000
END:DAYLIGHT
BEGIN:STANDARD
TZOFFSETFROM:-0400
TZOFFSETTO:-0500
TZNAME:EST
DTSTART:20221106T060000
END:STANDARD
BEGIN:DAYLIGHT
TZOFFSETFROM:-0500
TZOFFSETTO:-0400
TZNAME:EDT
DTSTART:20230312T070000
END:DAYLIGHT
BEGIN:STANDARD
TZOFFSETFROM:-0400
TZOFFSETTO:-0500
TZNAME:EST
DTSTART:20231105T060000
END:STANDARD
BEGIN:DAYLIGHT
TZOFFSETFROM:-0500
TZOFFSETTO:-0400
TZNAME:EDT
DTSTART:20240310T070000
END:DAYLIGHT
BEGIN:STANDARD
TZOFFSETFROM:-0400
TZOFFSETTO:-0500
TZNAME:EST
DTSTART:20241103T060000
END:STANDARD
END:VTIMEZONE
BEGIN:VEVENT
DTSTART;TZID=America/New_York:20230428T190000
DTEND;TZID=America/New_York:20230428T230000
DTSTAMP:20260422T221136
CREATED:20230412T214148Z
LAST-MODIFIED:20230425T195349Z
UID:6256-1682708400-1682722800@www.infotetquebec.com
SUMMARY:Val-des-Sources / Juegos de mesa y comida
DESCRIPTION:AIDE le invita a una velada de juegos de mesa y comida compartida en Val-des-Sources. \nReserve su plaza en el + 1 873 662-2630.
URL:https://www.infotetquebec.com/es/event/juegos-de-mesa-y-comida/
LOCATION:493 rue Principale\, St-Georges de Windsor\, Québec\, J0A1J0\, Canada
CATEGORIES:boliche
ATTACH;FMTTYPE=image/png:https://www.infotetquebec.com/wp-content/uploads/2023/04/EOS-Jeux-de-societe-VdS-Es.png
END:VEVENT
END:VCALENDAR