BEGIN:VCALENDAR
VERSION:2.0
PRODID:-//Infotetquebec - ECPv6.15.20//NONSGML v1.0//EN
CALSCALE:GREGORIAN
METHOD:PUBLISH
X-WR-CALNAME:Infotetquebec
X-ORIGINAL-URL:https://www.infotetquebec.com/es/
X-WR-CALDESC:Eventos para Infotetquebec
REFRESH-INTERVAL;VALUE=DURATION:PT1H
X-Robots-Tag:noindex
X-PUBLISHED-TTL:PT1H
BEGIN:VTIMEZONE
TZID:America/Toronto
BEGIN:DAYLIGHT
TZOFFSETFROM:-0500
TZOFFSETTO:-0400
TZNAME:EDT
DTSTART:20250309T070000
END:DAYLIGHT
BEGIN:STANDARD
TZOFFSETFROM:-0400
TZOFFSETTO:-0500
TZNAME:EST
DTSTART:20251102T060000
END:STANDARD
BEGIN:DAYLIGHT
TZOFFSETFROM:-0500
TZOFFSETTO:-0400
TZNAME:EDT
DTSTART:20260308T070000
END:DAYLIGHT
BEGIN:STANDARD
TZOFFSETFROM:-0400
TZOFFSETTO:-0500
TZNAME:EST
DTSTART:20261101T060000
END:STANDARD
BEGIN:DAYLIGHT
TZOFFSETFROM:-0500
TZOFFSETTO:-0400
TZNAME:EDT
DTSTART:20270314T070000
END:DAYLIGHT
BEGIN:STANDARD
TZOFFSETFROM:-0400
TZOFFSETTO:-0500
TZNAME:EST
DTSTART:20271107T060000
END:STANDARD
END:VTIMEZONE
BEGIN:VEVENT
DTSTART;TZID=America/Toronto:20260523T093000
DTEND;TZID=America/Toronto:20260523T123000
DTSTAMP:20260424T061855
CREATED:20260422T173455Z
LAST-MODIFIED:20260422T173731Z
UID:28229-1779528600-1779539400@www.infotetquebec.com
SUMMARY:Granby\, QC / Rodamos juntos: Actividad para los TET.
DESCRIPTION:Granby\, QC / Rodamos juntos: Actividad para los TET. \n📍 97 Bd Leclerc E\, Granby\, QC J2H 2R1 / Pavillon Norbert Talbot📅 23 de mayo de 2026🕐 9:30 – 12:30 \nActividad sencilla y accesible para todos\, para compartir un momento agradable en un ambiente cálido e inclusivo. \nPrograma: \n\nUna conferencia sobre los beneficios del ciclismo\nUna conferencia sobre la red de ciclovías de la región\nUn paseo en bicicleta por la ciclovía\n\n👉 Esta actividad está destinada a trabajadores extranjeros temporales con permiso de trabajo cerrado. \nPor favor\, siga las instrucciones indicadas en el cartel y contacte al organizador.
URL:https://www.infotetquebec.com/es/event/granby-qc-pedaleamos-juntos-actividad-para-los-tet/
LOCATION:97 Bd Leclerc E\, Granby\, QC J2H 2R1/Pavillon Norbert Talbot.
CATEGORIES:Actividad social,Activité culturelle ou sportive
ATTACH;FMTTYPE=image/png:https://www.infotetquebec.com/wp-content/uploads/2026/04/Espagnol-5.png
ORGANIZER;CN="Granby Industriel":MAILTO:ga.brand@granby-industriel.com
END:VEVENT
END:VCALENDAR