BEGIN:VCALENDAR
VERSION:2.0
PRODID:-//Infotetquebec - ECPv6.15.20//NONSGML v1.0//EN
CALSCALE:GREGORIAN
METHOD:PUBLISH
X-WR-CALNAME:Infotetquebec
X-ORIGINAL-URL:https://www.infotetquebec.com/es/
X-WR-CALDESC:Eventos para Infotetquebec
REFRESH-INTERVAL;VALUE=DURATION:PT1H
X-Robots-Tag:noindex
X-PUBLISHED-TTL:PT1H
BEGIN:VTIMEZONE
TZID:America/New_York
BEGIN:DAYLIGHT
TZOFFSETFROM:-0500
TZOFFSETTO:-0400
TZNAME:EDT
DTSTART:20220313T070000
END:DAYLIGHT
BEGIN:STANDARD
TZOFFSETFROM:-0400
TZOFFSETTO:-0500
TZNAME:EST
DTSTART:20221106T060000
END:STANDARD
BEGIN:DAYLIGHT
TZOFFSETFROM:-0500
TZOFFSETTO:-0400
TZNAME:EDT
DTSTART:20230312T070000
END:DAYLIGHT
BEGIN:STANDARD
TZOFFSETFROM:-0400
TZOFFSETTO:-0500
TZNAME:EST
DTSTART:20231105T060000
END:STANDARD
BEGIN:DAYLIGHT
TZOFFSETFROM:-0500
TZOFFSETTO:-0400
TZNAME:EDT
DTSTART:20240310T070000
END:DAYLIGHT
BEGIN:STANDARD
TZOFFSETFROM:-0400
TZOFFSETTO:-0500
TZNAME:EST
DTSTART:20241103T060000
END:STANDARD
END:VTIMEZONE
BEGIN:VEVENT
DTSTART;TZID=America/New_York:20230921T120000
DTEND;TZID=America/New_York:20230921T133000
DTSTAMP:20260421T131528
CREATED:20230830T182201Z
LAST-MODIFIED:20230830T182611Z
UID:8939-1695297600-1695303000@www.infotetquebec.com
SUMMARY:En línea / Conferencia en español sobre la inmigración
DESCRIPTION:Eres Trabajador Extranjero Temporal (permiso cerrado) en Canadá y tienes dudas sobre ¿cómo hacer venir a tu familia? ó sobre ¿cómo pudieras obtener tu residencia permanente?\n\n\n\nInscríbete en este Webinar impartido por Vinzenzo Bisignano\, consultor regulado en inmigración de Canadá\, para conocer más sobre los procedimientos actualizados referentes a la inmigración en Québec.\n\n\n\n\n\nInscripción obligatoria en este link antes del 19 de septiembre :
URL:https://www.infotetquebec.com/es/event/en-linea-conferencia-en-espanol-sobre-la-inmigracion/
LOCATION:En linea
CATEGORIES:Sesión de información
ATTACH;FMTTYPE=image/png:https://www.infotetquebec.com/wp-content/uploads/2023/08/GABARIT-TET-ES-7.png
ORGANIZER;CN="L'ANCRE":MAILTO:karladuenas@lancre.ca
END:VEVENT
END:VCALENDAR