BEGIN:VCALENDAR
VERSION:2.0
PRODID:-//Infotetquebec - ECPv6.15.20//NONSGML v1.0//EN
CALSCALE:GREGORIAN
METHOD:PUBLISH
X-WR-CALNAME:Infotetquebec
X-ORIGINAL-URL:https://www.infotetquebec.com/es/
X-WR-CALDESC:Eventos para Infotetquebec
REFRESH-INTERVAL;VALUE=DURATION:PT1H
X-Robots-Tag:noindex
X-PUBLISHED-TTL:PT1H
BEGIN:VTIMEZONE
TZID:America/New_York
BEGIN:DAYLIGHT
TZOFFSETFROM:-0500
TZOFFSETTO:-0400
TZNAME:EDT
DTSTART:20230312T070000
END:DAYLIGHT
BEGIN:STANDARD
TZOFFSETFROM:-0400
TZOFFSETTO:-0500
TZNAME:EST
DTSTART:20231105T060000
END:STANDARD
BEGIN:DAYLIGHT
TZOFFSETFROM:-0500
TZOFFSETTO:-0400
TZNAME:EDT
DTSTART:20240310T070000
END:DAYLIGHT
BEGIN:STANDARD
TZOFFSETFROM:-0400
TZOFFSETTO:-0500
TZNAME:EST
DTSTART:20241103T060000
END:STANDARD
BEGIN:DAYLIGHT
TZOFFSETFROM:-0500
TZOFFSETTO:-0400
TZNAME:EDT
DTSTART:20250309T070000
END:DAYLIGHT
BEGIN:STANDARD
TZOFFSETFROM:-0400
TZOFFSETTO:-0500
TZNAME:EST
DTSTART:20251102T060000
END:STANDARD
END:VTIMEZONE
BEGIN:VEVENT
DTSTART;TZID=America/New_York:20240104T193000
DTEND;TZID=America/New_York:20240104T203000
DTSTAMP:20260421T132117
CREATED:20231130T175837Z
LAST-MODIFIED:20231130T175837Z
UID:10367-1704396600-1704400200@www.infotetquebec.com
SUMMARY:En línea / Cita con la salud : Propósitos para el año nuevo (español)
DESCRIPTION:Para que aprendas a cuidar de tu salud física y mental\, CAFLA organiza una versión virtual de la “Cita con la salud”\, en la que todos los jueves a las 19.30 horas se emite una sesión en directo para abordar temas muy importantes y responder a tus preguntas. \nVisite la página de Facebook “Trabajadores temporales CAFLA” para participar: https://www.facebook.com/PTET.CAFLA
URL:https://www.infotetquebec.com/es/event/en-linea-cita-con-la-salud-propositos-para-el-ano-nuevo-espanol/
LOCATION:En ligne
CATEGORIES:Sesión de información,Webinaire
ATTACH;FMTTYPE=image/jpeg:https://www.infotetquebec.com/wp-content/uploads/2023/11/Cita_salud.jpg
END:VEVENT
END:VCALENDAR