BEGIN:VCALENDAR
VERSION:2.0
PRODID:-//Infotetquebec - ECPv6.15.20//NONSGML v1.0//EN
CALSCALE:GREGORIAN
METHOD:PUBLISH
X-ORIGINAL-URL:https://www.infotetquebec.com/en/
X-WR-CALDESC:Events for Infotetquebec
REFRESH-INTERVAL;VALUE=DURATION:PT1H
X-Robots-Tag:noindex
X-PUBLISHED-TTL:PT1H
BEGIN:VTIMEZONE
TZID:America/New_York
BEGIN:DAYLIGHT
TZOFFSETFROM:-0500
TZOFFSETTO:-0400
TZNAME:EDT
DTSTART:20230312T070000
END:DAYLIGHT
BEGIN:STANDARD
TZOFFSETFROM:-0400
TZOFFSETTO:-0500
TZNAME:EST
DTSTART:20231105T060000
END:STANDARD
BEGIN:DAYLIGHT
TZOFFSETFROM:-0500
TZOFFSETTO:-0400
TZNAME:EDT
DTSTART:20240310T070000
END:DAYLIGHT
BEGIN:STANDARD
TZOFFSETFROM:-0400
TZOFFSETTO:-0500
TZNAME:EST
DTSTART:20241103T060000
END:STANDARD
BEGIN:DAYLIGHT
TZOFFSETFROM:-0500
TZOFFSETTO:-0400
TZNAME:EDT
DTSTART:20250309T070000
END:DAYLIGHT
BEGIN:STANDARD
TZOFFSETFROM:-0400
TZOFFSETTO:-0500
TZNAME:EST
DTSTART:20251102T060000
END:STANDARD
END:VTIMEZONE
BEGIN:VEVENT
DTSTART;TZID=America/New_York:20240406T120000
DTEND;TZID=America/New_York:20240406T150000
DTSTAMP:20260421T121621
CREATED:20240325T203443Z
LAST-MODIFIED:20240325T203443Z
UID:13049-1712404800-1712415600@www.infotetquebec.com
SUMMARY:Québec / Workshops on health and safety
DESCRIPTION:Workshop 1 / 2: Ensuring a safe workplace for yourself and your colleagues\nWorkshop 2 / 2: What to do in the event of a work-related accident or illness
URL:https://www.infotetquebec.com/en/event/quebec-workshops-on-health-and-safety/
LOCATION:155 boulevard Charest Est\, Salle 1\,\, 155 boulevard Charest Est\, Salle 1\, Québec\, QC\, Canada
CATEGORIES:Information session
END:VEVENT
BEGIN:VEVENT
DTSTART;TZID=America/New_York:20240406T190000
DTEND;TZID=America/New_York:20240406T200000
DTSTAMP:20260421T121621
CREATED:20240405T161306Z
LAST-MODIFIED:20240405T161306Z
UID:13149-1712430000-1712433600@www.infotetquebec.com
SUMMARY:Online / Payroll information session
DESCRIPTION:
URL:https://www.infotetquebec.com/en/event/online-payroll-information-session/
LOCATION:En ligne
CATEGORIES:Information session,webinar
END:VEVENT
BEGIN:VEVENT
DTSTART;TZID=America/New_York:20240407T170000
DTEND;TZID=America/New_York:20240407T190000
DTSTAMP:20260421T121621
CREATED:20240322T172747Z
LAST-MODIFIED:20240322T172747Z
UID:12951-1712509200-1712516400@www.infotetquebec.com
SUMMARY:Saint-Basile / Indoor soccer
DESCRIPTION:
URL:https://www.infotetquebec.com/en/event/saint-basile-indoor-soccer-9/
LOCATION:Centre Ernest Papillon\, Saint-Basile\, 100 rang Sainte-Angélique\, Saint-Basile\, Québec\, Canada
CATEGORIES:soccer
END:VEVENT
BEGIN:VEVENT
DTSTART;TZID=America/New_York:20240413T140000
DTEND;TZID=America/New_York:20240413T210000
DTSTAMP:20260421T121621
CREATED:20240409T175500Z
LAST-MODIFIED:20240409T175719Z
UID:13245-1713016800-1713042000@www.infotetquebec.com
SUMMARY:Granby / Basketball Tournament
DESCRIPTION:
URL:https://www.infotetquebec.com/en/event/granby-basketball-tournament/
LOCATION:COLLEGE DU MONT SACRE COEUR PORTE #4\, 210 RUE DENISON EST\, Granby\, Canada
CATEGORIES:basketball,Cultural or sports activity
END:VEVENT
BEGIN:VEVENT
DTSTART;TZID=America/New_York:20240414T170000
DTEND;TZID=America/New_York:20240414T190000
DTSTAMP:20260421T121621
CREATED:20240322T173912Z
LAST-MODIFIED:20240322T173912Z
UID:12960-1713114000-1713121200@www.infotetquebec.com
SUMMARY:Saint-Basile / Indoor soccer
DESCRIPTION:
URL:https://www.infotetquebec.com/en/event/saint-basile-indoor-soccer-10/
LOCATION:Centre Ernest Papillon\, Saint-Basile\, 100 rang Sainte-Angélique\, Saint-Basile\, Québec\, Canada
CATEGORIES:bowling night
END:VEVENT
BEGIN:VEVENT
DTSTART;TZID=America/New_York:20240420T140000
DTEND;TZID=America/New_York:20240420T210000
DTSTAMP:20260421T121621
CREATED:20240409T180141Z
LAST-MODIFIED:20240409T180433Z
UID:13267-1713621600-1713646800@www.infotetquebec.com
SUMMARY:Granby / Basketball Tournament
DESCRIPTION:
URL:https://www.infotetquebec.com/en/event/granby-basketball-tournament-2/
LOCATION:COLLEGE DU MONT SACRE COEUR PORTE #4\, 210 RUE DENISON EST\, Granby\, Canada
CATEGORIES:basketball,Cultural or sports activity
END:VEVENT
BEGIN:VEVENT
DTSTART;TZID=America/New_York:20240420T190000
DTEND;TZID=America/New_York:20240420T200000
DTSTAMP:20260421T121621
CREATED:20240419T181628Z
LAST-MODIFIED:20240419T181628Z
UID:13533-1713639600-1713643200@www.infotetquebec.com
SUMMARY:Online / Information session: employment insurance
DESCRIPTION:Link to log in : https://meet.jit.si/SEGURODEDESEMPLEOCHOMAGE \n 
URL:https://www.infotetquebec.com/en/event/online-information-session-employment-insurance/
LOCATION:En ligne
CATEGORIES:Information session
END:VEVENT
BEGIN:VEVENT
DTSTART;TZID=America/New_York:20240420T190000
DTEND;TZID=America/New_York:20240420T220000
DTSTAMP:20260421T121621
CREATED:20240415T163948Z
LAST-MODIFIED:20240415T163949Z
UID:13400-1713639600-1713650400@www.infotetquebec.com
SUMMARY:Val-des-Sources / Soccer tournament
DESCRIPTION:
URL:https://www.infotetquebec.com/en/event/val-des-sources-soccer-tournament/
LOCATION:Gymnase de l’École L’Escale\, 430\, 5e avenue\, Val-des-Sources\, Québec\, J1T 1X2\, Canada
CATEGORIES:Cultural or sports activity,soccer
END:VEVENT
BEGIN:VEVENT
DTSTART;TZID=America/New_York:20240421T170000
DTEND;TZID=America/New_York:20240421T190000
DTSTAMP:20260421T121621
CREATED:20240322T174759Z
LAST-MODIFIED:20240322T174759Z
UID:12971-1713718800-1713726000@www.infotetquebec.com
SUMMARY:Saint-Basile / Indoor soccer
DESCRIPTION:
URL:https://www.infotetquebec.com/en/event/saint-basile-indoor-soccer-11/
LOCATION:Centre communautaire Ernest Papillon de St-Basile\, 100 Rang Ste Angélique\, Saint-Basile\, Québec\, G0A 3G0\, Canada
CATEGORIES:soccer
END:VEVENT
BEGIN:VEVENT
DTSTART;TZID=America/New_York:20240422T173000
DTEND;TZID=America/New_York:20240422T190000
DTSTAMP:20260421T121621
CREATED:20240419T200747Z
LAST-MODIFIED:20240419T200747Z
UID:13573-1713807000-1713812400@www.infotetquebec.com
SUMMARY:Rouyn-Noranda / Information workshop on employment rights and obligations (French)
DESCRIPTION:
URL:https://www.infotetquebec.com/en/event/rouyn-noranda-information-workshop-on-employment-rights-and-obligations-french/
LOCATION:Salle Témabex\, 56\, rue Perreault Est\, Rouyn-Noranda\, QC\, Canada
CATEGORIES:Information session
ORGANIZER;CN="La Mosaique interculturelle":MAILTO:info@mosaique-at.ca
END:VEVENT
BEGIN:VEVENT
DTSTART;TZID=America/New_York:20240424T190000
DTEND;TZID=America/New_York:20240424T200000
DTSTAMP:20260421T121621
CREATED:20240419T180055Z
LAST-MODIFIED:20240419T180056Z
UID:13519-1713985200-1713988800@www.infotetquebec.com
SUMMARY:Online / Information session: resources in the event of a workplace accident
DESCRIPTION:
URL:https://www.infotetquebec.com/en/event/online-information-session-resources-in-the-event-of-a-workplace-accident/
LOCATION:En ligne
CATEGORIES:Information session
END:VEVENT
BEGIN:VEVENT
DTSTART;TZID=America/New_York:20240426T183000
DTEND;TZID=America/New_York:20240426T183000
DTSTAMP:20260421T121621
CREATED:20240419T174458Z
LAST-MODIFIED:20240419T174458Z
UID:13507-1714156200-1714156200@www.infotetquebec.com
SUMMARY:Montréal and online / Information session: Harassment rights and obligations
DESCRIPTION:
URL:https://www.infotetquebec.com/en/event/montreal-and-online-information-session-harassment-rights-and-obligations/
LOCATION:CACI\, 12049\, boul. Laurentien\, salle 402\, Montréal\, Québec\, H4K 1M8\, Canada
CATEGORIES:Information session
ORGANIZER;CN="CACI":MAILTO:info@caci-bc.org
END:VEVENT
BEGIN:VEVENT
DTSTART;TZID=America/New_York:20240427T140000
DTEND;TZID=America/New_York:20240427T210000
DTSTAMP:20260421T121621
CREATED:20240409T180756Z
LAST-MODIFIED:20240409T181605Z
UID:13281-1714226400-1714251600@www.infotetquebec.com
SUMMARY:Granby / Basketball Tournament
DESCRIPTION:
URL:https://www.infotetquebec.com/en/event/granby-basketball-tournament-3/
LOCATION:COLLEGE DU MONT SACRE COEUR PORTE #4\, 210 RUE DENISON EST\, Granby\, Canada
CATEGORIES:basketball,Cultural or sports activity
END:VEVENT
BEGIN:VEVENT
DTSTART;TZID=America/New_York:20240428T170000
DTEND;TZID=America/New_York:20240428T190000
DTSTAMP:20260421T121621
CREATED:20240322T175059Z
LAST-MODIFIED:20240322T175330Z
UID:12977-1714323600-1714330800@www.infotetquebec.com
SUMMARY:Saint-Basile / Indoor soccer
DESCRIPTION:
URL:https://www.infotetquebec.com/en/event/saint-basile-indoor-soccer-12/
LOCATION:Centre communautaire Ernest Papillon de St-Basile\, 100 Rang Ste Angélique\, Saint-Basile\, Québec\, G0A 3G0\, Canada
CATEGORIES:soccer
END:VEVENT
END:VCALENDAR