BEGIN:VCALENDAR
VERSION:2.0
PRODID:-//Infotetquebec - ECPv6.15.20//NONSGML v1.0//EN
CALSCALE:GREGORIAN
METHOD:PUBLISH
X-ORIGINAL-URL:https://www.infotetquebec.com/en/
X-WR-CALDESC:Events for Infotetquebec
REFRESH-INTERVAL;VALUE=DURATION:PT1H
X-Robots-Tag:noindex
X-PUBLISHED-TTL:PT1H
BEGIN:VTIMEZONE
TZID:America/New_York
BEGIN:DAYLIGHT
TZOFFSETFROM:-0500
TZOFFSETTO:-0400
TZNAME:EDT
DTSTART:20220313T070000
END:DAYLIGHT
BEGIN:STANDARD
TZOFFSETFROM:-0400
TZOFFSETTO:-0500
TZNAME:EST
DTSTART:20221106T060000
END:STANDARD
BEGIN:DAYLIGHT
TZOFFSETFROM:-0500
TZOFFSETTO:-0400
TZNAME:EDT
DTSTART:20230312T070000
END:DAYLIGHT
BEGIN:STANDARD
TZOFFSETFROM:-0400
TZOFFSETTO:-0500
TZNAME:EST
DTSTART:20231105T060000
END:STANDARD
BEGIN:DAYLIGHT
TZOFFSETFROM:-0500
TZOFFSETTO:-0400
TZNAME:EDT
DTSTART:20240310T070000
END:DAYLIGHT
BEGIN:STANDARD
TZOFFSETFROM:-0400
TZOFFSETTO:-0500
TZNAME:EST
DTSTART:20241103T060000
END:STANDARD
END:VTIMEZONE
BEGIN:VEVENT
DTSTART;TZID=America/New_York:20230211T110000
DTEND;TZID=America/New_York:20230211T160000
DTSTAMP:20260424T081632
CREATED:20230208T160152Z
LAST-MODIFIED:20230208T160243Z
UID:5640-1676113200-1676131200@www.infotetquebec.com
SUMMARY:Winter carnival
DESCRIPTION:Winter carnival organized by the Peruvian Association of Estrie. \nIncluded : meal and hot drinks! \nFree entrance at Parc de Saint-Alphonse-de-Liguori
URL:https://www.infotetquebec.com/en/event/carnaval-de-invierno/
LOCATION:Parc de Saint-Alphonse-de-Liguori\, Sherbrooke\, Québec\, Canada
CATEGORIES:Cultural or sports activity
ATTACH;FMTTYPE=image/png:https://www.infotetquebec.com/wp-content/uploads/2023/02/Capture-decran-le-2023-02-08-a-10.56.47.png
END:VEVENT
BEGIN:VEVENT
DTSTART;TZID=America/New_York:20230211T191500
DTEND;TZID=America/New_York:20230211T191500
DTSTAMP:20260424T081632
CREATED:20230208T193343Z
LAST-MODIFIED:20230208T194158Z
UID:5681-1676142900-1676142900@www.infotetquebec.com
SUMMARY:Soccer game
DESCRIPTION:Soccer games in the indoor gym of L’Escale school in Val-des-Sources every Saturday. \nInformation \nWhatsApp : +1(873)662-2630 \njasmin.chabot@aide.org
URL:https://www.infotetquebec.com/en/event/soccer-game/
LOCATION:Gymnase de l’École L’Escale\, 430\, 5e avenue\, Val-des-Sources\, Québec\, J1T 1X2\, Canada
CATEGORIES:soccer
ATTACH;FMTTYPE=image/jpeg:https://www.infotetquebec.com/wp-content/uploads/2023/02/pascal-swier-otuM-nw-_NY-unsplash-scaled.jpg
END:VEVENT
BEGIN:VEVENT
DTSTART;TZID=America/New_York:20230212T140000
DTEND;TZID=America/New_York:20230212T160000
DTSTAMP:20260424T081632
CREATED:20230208T195214Z
LAST-MODIFIED:20230208T200008Z
UID:5699-1676210400-1676217600@www.infotetquebec.com
SUMMARY:Basketball game
DESCRIPTION:Come play basketball! Games are held every Sunday at the Acti-sports gym in Coaticook. \nInformation \nWhatsApp : +1(873)662-2630 \njasmin.chabot@aide.org
URL:https://www.infotetquebec.com/en/event/basketball-game/
LOCATION:Gymnase Acti-sports\, 497 rue Saint-Jean-Baptiste\, Coaticook\, Québec\, J1A 2K2\, Canada
CATEGORIES:basketball
ATTACH;FMTTYPE=image/png:https://www.infotetquebec.com/wp-content/uploads/2023/02/Capture-decran-le-2023-02-08-a-14.45.00.png
END:VEVENT
BEGIN:VEVENT
DTSTART;TZID=America/New_York:20230218T080000
DTEND;TZID=America/New_York:20230218T170000
DTSTAMP:20260424T081632
CREATED:20230119T224535Z
LAST-MODIFIED:20230119T224535Z
UID:5383-1676707200-1676739600@www.infotetquebec.com
SUMMARY:Ice fishing in Beauharnois
DESCRIPTION:Come and experience ice fishing! \nTo participate\, contact the members of the Oscar Romero Foundation by whatsapp at +1 514 602 5220\, by email at melvin1vision@gmail.com or on the Vision ML Facebook page: https://www.facebook.com/visionml2?mibextid=LQQJ4d.
URL:https://www.infotetquebec.com/en/event/ice-fishing-in-beauharnois-2/
LOCATION:Beauharnois
CATEGORIES:Cultural or sports activity
ATTACH;FMTTYPE=image/jpeg:https://www.infotetquebec.com/wp-content/uploads/2023/01/clay-banks-Ihful4zTe0Q-unsplash-scaled.jpg
ORGANIZER;CN="Fondation Oscar Romero":MAILTO:melvin1vision@gmail.com
END:VEVENT
BEGIN:VEVENT
DTSTART;TZID=America/New_York:20230218T191500
DTEND;TZID=America/New_York:20230218T191500
DTSTAMP:20260424T081632
CREATED:20230208T193842Z
LAST-MODIFIED:20230209T181734Z
UID:5685-1676747700-1676747700@www.infotetquebec.com
SUMMARY:Soccer game
DESCRIPTION:Soccer games in the indoor gym of L’Escale school in Val-des-Sources every Saturday. \nInformation \nWhatsApp : +1(873)662-2630 \njasmin.chabot@aide.org
URL:https://www.infotetquebec.com/en/event/soccer-game-2/
LOCATION:Gymnase de l’École L’Escale\, 430\, 5e avenue\, Val-des-Sources\, Québec\, J1T 1X2\, Canada
CATEGORIES:soccer
ATTACH;FMTTYPE=image/jpeg:https://www.infotetquebec.com/wp-content/uploads/2023/02/pascal-swier-otuM-nw-_NY-unsplash-scaled.jpg
END:VEVENT
BEGIN:VEVENT
DTSTART;TZID=America/New_York:20230219T130000
DTEND;TZID=America/New_York:20230219T170000
DTSTAMP:20260424T081632
CREATED:20230208T165917Z
LAST-MODIFIED:20230208T170827Z
UID:5652-1676811600-1676826000@www.infotetquebec.com
SUMMARY:Movie night - round table
DESCRIPTION:Screening of the documentary Ressources and round table discussion at the Maison du cinéma de Sherbrooke. \nLimited number of seats. \nReserve on WhatsApp: +1(873)662-2630 jasmin.chabot@aide.org.
URL:https://www.infotetquebec.com/en/event/movie-night-round-table/
LOCATION:Maison du cinéma\, 63\, rue King Ouest\, Sherbrooke\, Québec\, J1H 1P1\, Canada
CATEGORIES:Cultural or sports activity
ATTACH;FMTTYPE=image/png:https://www.infotetquebec.com/wp-content/uploads/2023/02/Capture-decran-le-2023-02-08-a-11.47.26.png
END:VEVENT
BEGIN:VEVENT
DTSTART;TZID=America/New_York:20230219T140000
DTEND;TZID=America/New_York:20230219T160000
DTSTAMP:20260424T081632
CREATED:20230208T195532Z
LAST-MODIFIED:20230208T195532Z
UID:5703-1676815200-1676822400@www.infotetquebec.com
SUMMARY:Basketball game
DESCRIPTION:Come play basketball! Games are held every Sunday at the Acti-sports gym in Coaticook. \nInformation \nWhatsApp : +1(873)662-2630 \njasmin.chabot@aide.org
URL:https://www.infotetquebec.com/en/event/basketball-game-2/
LOCATION:Gymnase Acti-sports\, 497 rue Saint-Jean-Baptiste\, Coaticook\, Québec\, J1A 2K2\, Canada
CATEGORIES:basketball
ATTACH;FMTTYPE=image/png:https://www.infotetquebec.com/wp-content/uploads/2023/02/Capture-decran-le-2023-02-08-a-14.45.00.png
END:VEVENT
BEGIN:VEVENT
DTSTART;TZID=America/New_York:20230225T130000
DTEND;TZID=America/New_York:20230225T170000
DTSTAMP:20260424T081632
CREATED:20230208T181622Z
LAST-MODIFIED:20230208T181622Z
UID:5672-1677330000-1677344400@www.infotetquebec.com
SUMMARY:Collective kitchen
DESCRIPTION:Participate in a collective kitchen where chicken and meat tamales will be prepared! \nInfo by WhatsApp: +1(873)662-2630 or jasmin.chabot@aide.org.
URL:https://www.infotetquebec.com/en/event/collective-kitchen/
LOCATION:Salle municipale de Waterville\, 130 rue Principale S\, Waterville\, Québec\, J0B3H0\, Canada
CATEGORIES:Cultural or sports activity
ATTACH;FMTTYPE=image/png:https://www.infotetquebec.com/wp-content/uploads/2023/02/Capture-decran-le-2023-02-08-a-13.13.26.png
END:VEVENT
BEGIN:VEVENT
DTSTART;TZID=America/New_York:20230225T191500
DTEND;TZID=America/New_York:20230225T191500
DTSTAMP:20260424T081632
CREATED:20230208T194143Z
LAST-MODIFIED:20230208T194143Z
UID:5691-1677352500-1677352500@www.infotetquebec.com
SUMMARY:Soccer game
DESCRIPTION:Soccer games in the indoor gym of L’Escale school in Val-des-Sources every Saturday. \nInformation \nWhatsApp : +1(873)662-2630 \njasmin.chabot@aide.org
URL:https://www.infotetquebec.com/en/event/soccer-game-3/
LOCATION:Gymnase de l’École L’Escale\, 430\, 5e avenue\, Val-des-Sources\, Québec\, J1T 1X2\, Canada
CATEGORIES:soccer
ATTACH;FMTTYPE=image/jpeg:https://www.infotetquebec.com/wp-content/uploads/2023/02/pascal-swier-otuM-nw-_NY-unsplash-scaled.jpg
END:VEVENT
BEGIN:VEVENT
DTSTART;TZID=America/New_York:20230226T140000
DTEND;TZID=America/New_York:20230226T160000
DTSTAMP:20260424T081632
CREATED:20230208T200005Z
LAST-MODIFIED:20230208T200005Z
UID:5710-1677420000-1677427200@www.infotetquebec.com
SUMMARY:Basketball game
DESCRIPTION:Come play basketball! Games are held every Sunday at the Acti-sports gym in Coaticook. \nInformation \nWhatsApp : +1(873)662-2630 \njasmin.chabot@aide.org
URL:https://www.infotetquebec.com/en/event/basketball-game-3/
LOCATION:Gymnase Acti-sports\, 497 rue Saint-Jean-Baptiste\, Coaticook\, Québec\, J1A 2K2\, Canada
CATEGORIES:basketball
ATTACH;FMTTYPE=image/png:https://www.infotetquebec.com/wp-content/uploads/2023/02/Capture-decran-le-2023-02-08-a-14.45.00.png
END:VEVENT
BEGIN:VEVENT
DTSTART;TZID=America/New_York:20230226T150000
DTEND;TZID=America/New_York:20230226T170000
DTSTAMP:20260424T081632
CREATED:20230208T173001Z
LAST-MODIFIED:20230208T173001Z
UID:5664-1677423600-1677430800@www.infotetquebec.com
SUMMARY:Hockey game
DESCRIPTION:Come and see a hockey game at the Sherbrooke Phoenix Hockey Club! \nLimited seating. \nReserve on WhatsApp: +1(873)662-2630 or jasmin.chabot@aide.org.
URL:https://www.infotetquebec.com/en/event/hockey-game/
LOCATION:Club de hockey Le Phoenix\, 360 rue du Cégep\, Sherbrooke\, Québec\, J1E 2J9\, Canada
ATTACH;FMTTYPE=image/png:https://www.infotetquebec.com/wp-content/uploads/2023/02/Capture-decran-le-2023-02-08-a-12.07.11.png
END:VEVENT
END:VCALENDAR