BEGIN:VCALENDAR
VERSION:2.0
PRODID:-//Infotetquebec - ECPv6.15.20//NONSGML v1.0//EN
CALSCALE:GREGORIAN
METHOD:PUBLISH
X-WR-CALNAME:Infotetquebec
X-ORIGINAL-URL:https://www.infotetquebec.com/en/
X-WR-CALDESC:Events for Infotetquebec
REFRESH-INTERVAL;VALUE=DURATION:PT1H
X-Robots-Tag:noindex
X-PUBLISHED-TTL:PT1H
BEGIN:VTIMEZONE
TZID:America/New_York
BEGIN:DAYLIGHT
TZOFFSETFROM:-0500
TZOFFSETTO:-0400
TZNAME:EDT
DTSTART:20220313T070000
END:DAYLIGHT
BEGIN:STANDARD
TZOFFSETFROM:-0400
TZOFFSETTO:-0500
TZNAME:EST
DTSTART:20221106T060000
END:STANDARD
BEGIN:DAYLIGHT
TZOFFSETFROM:-0500
TZOFFSETTO:-0400
TZNAME:EDT
DTSTART:20230312T070000
END:DAYLIGHT
BEGIN:STANDARD
TZOFFSETFROM:-0400
TZOFFSETTO:-0500
TZNAME:EST
DTSTART:20231105T060000
END:STANDARD
BEGIN:DAYLIGHT
TZOFFSETFROM:-0500
TZOFFSETTO:-0400
TZNAME:EDT
DTSTART:20240310T070000
END:DAYLIGHT
BEGIN:STANDARD
TZOFFSETFROM:-0400
TZOFFSETTO:-0500
TZNAME:EST
DTSTART:20241103T060000
END:STANDARD
END:VTIMEZONE
BEGIN:VEVENT
DTSTART;TZID=America/New_York:20230913T190000
DTEND;TZID=America/New_York:20230913T200000
DTSTAMP:20260423T160303
CREATED:20230808T195951Z
LAST-MODIFIED:20230808T195951Z
UID:8194-1694631600-1694635200@www.infotetquebec.com
SUMMARY:Virtual discussion evenings
DESCRIPTION:You are cordially invited to an evening virtual chat on Quebec culture and values as well as an information session on labour standards\, health and safety. \nEvery Monday and Wednesday from 7 to 8 pm. \nRegistration: scerdeline@complx-immigration.ca \n+ 1 438 368-4613
URL:https://www.infotetquebec.com/en/event/virtual-discussion-evenings-20/
CATEGORIES:Information session
ATTACH;FMTTYPE=image/png:https://www.infotetquebec.com/wp-content/uploads/2023/05/COMPLEXE-X_Activites-T-Etrangers-Causeries.png
ORGANIZER;CN="Complexe X Immigration":MAILTO:scerdeline@complx-immigration.ca
END:VEVENT
BEGIN:VEVENT
DTSTART;TZID=America/New_York:20230913T140000
DTEND;TZID=America/New_York:20230913T180000
DTSTAMP:20260423T160303
CREATED:20230811T155910Z
LAST-MODIFIED:20230811T155910Z
UID:8559-1694613600-1694628000@www.infotetquebec.com
SUMMARY:Montreal / Legal Information Clinic
DESCRIPTION:The Immigrant Workers Centre holds legal information clinics every Tuesday and Thursday in Montreal between 2:00 and 6:00 p.m. \nMake an appointment or drop in: \ninfo@iwc-cti.ca\,\nprivate message on the Iwc-Cti Facebook page\nWhatsApp: +1 438 507 2566\nleave a message at 514 242-2111\nIndividual support\, group workshops on labour standards or health and safety\, and personalized coaching.
URL:https://www.infotetquebec.com/en/event/montreal-legal-information-clinic-14/
LOCATION:4755\, Van Horne Av.\, Office/Bureau/Oficina #110 Montréal\, QC H3W 1H8\, Canada
CATEGORIES:Information session
ATTACH;FMTTYPE=image/png:https://www.infotetquebec.com/wp-content/uploads/2023/08/IWC-CTI_logo-fr-web-retina.png
END:VEVENT
BEGIN:VEVENT
DTSTART;TZID=America/New_York:20230912T140000
DTEND;TZID=America/New_York:20230912T180000
DTSTAMP:20260423T160303
CREATED:20230811T155538Z
LAST-MODIFIED:20230811T155538Z
UID:8556-1694527200-1694541600@www.infotetquebec.com
SUMMARY:Montreal / Legal Information Clinic
DESCRIPTION:The Immigrant Workers Centre holds legal information clinics every Tuesday and Thursday in Montreal between 2:00 and 6:00 p.m. \nMake an appointment or drop in: \ninfo@iwc-cti.ca\,\nprivate message on the Iwc-Cti Facebook page\nWhatsApp: +1 438 507 2566\nleave a message at 514 242-2111\nIndividual support\, group workshops on labour standards or health and safety\, and personalized coaching.
URL:https://www.infotetquebec.com/en/event/montreal-legal-information-clinic-13/
LOCATION:4755\, Van Horne Av.\, Office/Bureau/Oficina #110 Montréal\, QC H3W 1H8\, Canada
CATEGORIES:Information session
ATTACH;FMTTYPE=image/png:https://www.infotetquebec.com/wp-content/uploads/2023/08/IWC-CTI_logo-fr-web-retina.png
END:VEVENT
BEGIN:VEVENT
DTSTART;TZID=America/New_York:20230911T190000
DTEND;TZID=America/New_York:20230911T200000
DTSTAMP:20260423T160303
CREATED:20230808T195500Z
LAST-MODIFIED:20230808T195500Z
UID:8188-1694458800-1694462400@www.infotetquebec.com
SUMMARY:Virtual discussion evenings
DESCRIPTION:You are cordially invited to an evening virtual chat on Quebec culture and values as well as an information session on labour standards\, health and safety. \nEvery Monday and Wednesday from 7 to 8 pm. \nRegistration: scerdeline@complx-immigration.ca \n+ 1 438 368-4613
URL:https://www.infotetquebec.com/en/event/virtual-discussion-evenings-19/
CATEGORIES:Information session
ATTACH;FMTTYPE=image/png:https://www.infotetquebec.com/wp-content/uploads/2023/05/COMPLEXE-X_Activites-T-Etrangers-Causeries.png
ORGANIZER;CN="Complexe X Immigration":MAILTO:scerdeline@complx-immigration.ca
END:VEVENT
BEGIN:VEVENT
DTSTART;TZID=America/New_York:20230910T160000
DTEND;TZID=America/New_York:20230910T180000
DTSTAMP:20260423T160303
CREATED:20230808T163614Z
LAST-MODIFIED:20230808T163614Z
UID:8081-1694361600-1694368800@www.infotetquebec.com
SUMMARY:Portneuf / Soccer game
DESCRIPTION:Come play soccer at the Portneuf field (100 Paquin Street) every Sunday afternoon\n(16 h)!
URL:https://www.infotetquebec.com/en/event/portneuf-soccer-game-13/
LOCATION:100\, rue Paquin\, Portneuf\, Québec\, Canada
CATEGORIES:soccer
ATTACH;FMTTYPE=image/jpeg:https://www.infotetquebec.com/wp-content/uploads/2023/05/chaos-soccer-gear-Cjfl8r_eYxY-unsplash.jpg
END:VEVENT
BEGIN:VEVENT
DTSTART;TZID=America/New_York:20230910T133000
DTEND;TZID=America/New_York:20230910T160000
DTSTAMP:20260423T160303
CREATED:20230816T163837Z
LAST-MODIFIED:20230816T164318Z
UID:8636-1694352600-1694361600@www.infotetquebec.com
SUMMARY:Saint-Paul-d'Abbotsford / Apple Picking
DESCRIPTION:Come and try your hand at apple picking with the Intégration Compétences team! \nSunday\, September 10\, 2023 from 1:30 to 4 p.m. \nGould Family Orchard\, 755 rang de la montagne\, \nSaint-Paul-d’Abbotsford\, Quebec\, \nJOE 1A0 \nREGISTRATION: \nWhatsApp + 1 514 434-3642 \nEmail: lilianasalgado@integrationcompetences.ca
URL:https://www.infotetquebec.com/en/event/saint-paul-dabbotsford-apple-picking/
LOCATION:Verger famille Gould\, 755 rang de la montagne\, Saint-Paul-d'Abbotsford\, Québec\, JOE 1A0\, Canada
CATEGORIES:Cultural or sports activity
ATTACH;FMTTYPE=image/png:https://www.infotetquebec.com/wp-content/uploads/2023/08/Angl.png
ORGANIZER;CN="Int%C3%A9gration comp%C3%A9tences":MAILTO:lilianasalgado@integrationcompetences.ca
END:VEVENT
BEGIN:VEVENT
DTSTART;TZID=America/New_York:20230910T120000
DTEND;TZID=America/New_York:20230910T180000
DTSTAMP:20260423T160303
CREATED:20230802T180554Z
LAST-MODIFIED:20230802T180554Z
UID:7850-1694347200-1694368800@www.infotetquebec.com
SUMMARY:Saint-Rémi / Soccer tournament final
DESCRIPTION:FINAL OF THE INTER-FARM SOCCER TOURNAMENT and prize-giving ceremony\, including an information session on labour standards and occupational health and safety. \nSeptember 10\, noon to 6 p.m. \nSaint-Rémi playground \nBehind the St-Rémi community center \n 
URL:https://www.infotetquebec.com/en/event/saint-remi-soccer-tournament-final/
LOCATION:terrain de jeu de Saint-Rémi\, 25 Rue Saint-Sauveur\, Saint-Rémi\, Québec\, JOL 2LO\, Canada
CATEGORIES:soccer
ATTACH;FMTTYPE=image/png:https://www.infotetquebec.com/wp-content/uploads/2023/08/IMMIGRATION-Finale-Tournoi.png
ORGANIZER;CN="Complexe X Immigration":MAILTO:scerdeline@complx-immigration.ca
END:VEVENT
BEGIN:VEVENT
DTSTART;TZID=America/New_York:20230910T103000
DTEND;TZID=America/New_York:20230910T130000
DTSTAMP:20260423T160303
CREATED:20230808T161726Z
LAST-MODIFIED:20230808T161726Z
UID:8056-1694341800-1694350800@www.infotetquebec.com
SUMMARY:Saint-Basile / Soccer game
DESCRIPTION:Come and play soccer at the Saint-Basile field (10 Place de l’Église) every Sunday in the late\nmorning (10:30 am)!
URL:https://www.infotetquebec.com/en/event/saint-basile-soccer-game-10/
LOCATION:10\, place de l’Église\, Saint-Basile\, Portneuf\, Québec\, Canada
CATEGORIES:soccer
ATTACH;FMTTYPE=image/jpeg:https://www.infotetquebec.com/wp-content/uploads/2023/04/max-zindel-uPCTGBSrfsI-unsplash-2.jpg
END:VEVENT
BEGIN:VEVENT
DTSTART;VALUE=DATE:20230910
DTEND;VALUE=DATE:20230911
DTSTAMP:20260423T160303
CREATED:20230428T162735Z
LAST-MODIFIED:20230428T162735Z
UID:6543-1694304000-1694390399@www.infotetquebec.com
SUMMARY:Saint-Basile / Annual corn roast
DESCRIPTION:Annual corn roast in Saint-Basile \nContact Accès Travail Portneuf for more details: +1 581 821-0607
URL:https://www.infotetquebec.com/en/event/saint-basile-annual-corn-roast/
LOCATION:Saint-Basile\, Saint-Basile\, Portneuf\, Canada
CATEGORIES:Cultural or sports activity
ATTACH;FMTTYPE=image/jpeg:https://www.infotetquebec.com/wp-content/uploads/2023/04/wouter-supardi-salari-HE_MjmWh9eQ-unsplash.jpg
END:VEVENT
BEGIN:VEVENT
DTSTART;TZID=America/New_York:20230909T140000
DTEND;TZID=America/New_York:20230909T210000
DTSTAMP:20260423T160303
CREATED:20230830T155213Z
LAST-MODIFIED:20230830T155222Z
UID:8917-1694268000-1694293200@www.infotetquebec.com
SUMMARY:Sherbrooke / Harvest Festival
DESCRIPTION:World music\, traditional Quebec dance workshops\, corn roast and information booths. \nDon’t miss this wonderful intercultural gathering! \nInformation : +1 873 662-2630
URL:https://www.infotetquebec.com/en/event/sherbrooke-harvest-festival/
LOCATION:Square Queen\, 152 QC-143\, Sherbrooke\, Québec\, Canada
CATEGORIES:Cultural or sports activity
ATTACH;FMTTYPE=image/jpeg:https://www.infotetquebec.com/wp-content/uploads/2023/08/EOS-LA-FETE-DES-RECOLTES-DESJARDINS-Fr.jpeg
END:VEVENT
BEGIN:VEVENT
DTSTART;TZID=America/New_York:20230909T100000
DTEND;TZID=America/New_York:20230909T120000
DTSTAMP:20260423T160303
CREATED:20230811T125516Z
LAST-MODIFIED:20230811T125516Z
UID:8489-1694253600-1694260800@www.infotetquebec.com
SUMMARY:Sherbrooke / Soccer game
DESCRIPTION:Every Saturday from 10am to 12pm. \nCome and play soccer with us! \nReservations: +1 873 662-2630.
URL:https://www.infotetquebec.com/en/event/sherbrooke-soccer-game-5/
LOCATION:Parc Jean-Claude-Quirion\, Rue Chalifoux\, Sherbrooke\, Québec\, J1G 152\, Canada
CATEGORIES:soccer
ATTACH;FMTTYPE=image/jpeg:https://www.infotetquebec.com/wp-content/uploads/2023/08/EOS-Soccer-Sherbrooke-Fr.jpg
END:VEVENT
BEGIN:VEVENT
DTSTART;TZID=America/New_York:20230908T200000
DTEND;TZID=America/New_York:20230908T220000
DTSTAMP:20260423T160303
CREATED:20230810T204120Z
LAST-MODIFIED:20230810T204120Z
UID:8450-1694203200-1694210400@www.infotetquebec.com
SUMMARY:Coaticook / Soccer game
DESCRIPTION:Every Friday from 8pm to 10pm. \nCome and play with us! \nReservations: WhatsApp +1 873 662-2630
URL:https://www.infotetquebec.com/en/event/coaticook-soccer-game-9/
LOCATION:PARC LAURENCE (TERRAIN 1)\, RUE LAURENCE\, Coaticook\, Québec\, Canada
CATEGORIES:soccer
ATTACH;FMTTYPE=image/jpeg:https://www.infotetquebec.com/wp-content/uploads/2023/08/EOS-Match-Football-Coaticook-Es.jpg
END:VEVENT
BEGIN:VEVENT
DTSTART;TZID=America/New_York:20230908T180000
DTEND;TZID=America/New_York:20230908T200000
DTSTAMP:20260423T160303
CREATED:20230808T181107Z
LAST-MODIFIED:20230808T181107Z
UID:8106-1694196000-1694203200@www.infotetquebec.com
SUMMARY:Saint-Marc-des-Carrières / Soccer game
DESCRIPTION:Come play soccer at the Saint-Marc-des-Carrières field (1600 Bona-Dussault Boulevard) every\nFridays (6 p.m.)!
URL:https://www.infotetquebec.com/en/event/saint-marc-des-carrieres-soccer-game-5/
LOCATION:1600 boul. Bona-Dussault\, Saint-Marc-des-Carrières\, Québec\, G0A 4B0\, Canada
CATEGORIES:soccer
ATTACH;FMTTYPE=image/jpeg:https://www.infotetquebec.com/wp-content/uploads/2023/05/chaos-soccer-gear-Cjfl8r_eYxY-unsplash.jpg
END:VEVENT
BEGIN:VEVENT
DTSTART;TZID=America/New_York:20230907T173000
DTEND;TZID=America/New_York:20230907T210000
DTSTAMP:20260423T160303
CREATED:20230929T182502Z
LAST-MODIFIED:20230929T182502Z
UID:9085-1694107800-1694120400@www.infotetquebec.com
SUMMARY:Exchange and information evening for temporary foreign workers
DESCRIPTION:Presentation of the information guide for temporary foreign workers. \nMeal offered
URL:https://www.infotetquebec.com/en/event/exchange-and-information-evening-for-temporary-foreign-workers/
LOCATION:Cafe Manizales\, 60 boulevard des bois-francs sud\, Victoriaville\, Québec\, Canada
CATEGORIES:Information session
ATTACH;FMTTYPE=image/png:https://www.infotetquebec.com/wp-content/uploads/2023/09/Soiree-dechange-dinformations-Cafe-Manizales.png
ORGANIZER;CN="Corporation de d%C3%A9veloppement %C3%A9conomique de la MRC de Montmagny (CDEMM)":MAILTO:abrebion@cgocable.ca
END:VEVENT
BEGIN:VEVENT
DTSTART;TZID=America/New_York:20230907T140000
DTEND;TZID=America/New_York:20230907T180000
DTSTAMP:20260423T160303
CREATED:20230811T155249Z
LAST-MODIFIED:20230811T155249Z
UID:8552-1694095200-1694109600@www.infotetquebec.com
SUMMARY:Montreal / Legal Information Clinic
DESCRIPTION:The Immigrant Workers Centre holds legal information clinics every Tuesday and Thursday in Montreal between 2:00 and 6:00 p.m. \nMake an appointment or drop in: \ninfo@iwc-cti.ca\,\nprivate message on the Iwc-Cti Facebook page\nWhatsApp: +1 438 507 2566\nleave a message at 514 242-2111\nIndividual support\, group workshops on labour standards or health and safety\, and personalized coaching.
URL:https://www.infotetquebec.com/en/event/montreal-legal-information-clinic-12/
LOCATION:4755\, Van Horne Av.\, Office/Bureau/Oficina #110 Montréal\, QC H3W 1H8\, Canada
CATEGORIES:Information session
ATTACH;FMTTYPE=image/png:https://www.infotetquebec.com/wp-content/uploads/2023/08/IWC-CTI_logo-fr-web-retina.png
END:VEVENT
BEGIN:VEVENT
DTSTART;TZID=America/New_York:20230906T190000
DTEND;TZID=America/New_York:20230906T200000
DTSTAMP:20260423T160303
CREATED:20230808T194411Z
LAST-MODIFIED:20230808T194411Z
UID:8176-1694026800-1694030400@www.infotetquebec.com
SUMMARY:Virtual discussion evenings
DESCRIPTION:You are cordially invited to an evening virtual chat on Quebec culture and values as well as an information session on labour standards\, health and safety. \nEvery Monday and Wednesday from 7 to 8 pm. \nRegistration: scerdeline@complx-immigration.ca \n+ 1 438 368-4613
URL:https://www.infotetquebec.com/en/event/virtual-discussion-evenings-17/
CATEGORIES:Information session
ATTACH;FMTTYPE=image/png:https://www.infotetquebec.com/wp-content/uploads/2023/05/COMPLEXE-X_Activites-T-Etrangers-Causeries.png
ORGANIZER;CN="Complexe X Immigration":MAILTO:scerdeline@complx-immigration.ca
END:VEVENT
BEGIN:VEVENT
DTSTART;TZID=America/New_York:20230906T183000
DTEND;TZID=America/New_York:20230906T210000
DTSTAMP:20260423T160303
CREATED:20230830T153641Z
LAST-MODIFIED:20230830T153641Z
UID:8904-1694025000-1694034000@www.infotetquebec.com
SUMMARY:Sherbrooke / Screening of the film Richelieu
DESCRIPTION:Come and see the film Richelieu in the presence of the production team. \nWEDNESDAY 6 SEPTEMBER 18:30 \nLa Maison du Cinéma \n63 King Street West\, Sherbrooke\, QC \nINFORMATION: +1 (873)662-2630
URL:https://www.infotetquebec.com/en/event/sherbrooke-screening-of-the-film-richelieu/
LOCATION:La Maison du Cinéma\, 63 Rue King Ouest\, Sherbrooke\, Québec\, J1H 1P1\, Canada
CATEGORIES:bowling night,Cultural or sports activity
ATTACH;FMTTYPE=image/jpeg:https://www.infotetquebec.com/wp-content/uploads/2023/08/Richelieu-fr.jpg
END:VEVENT
BEGIN:VEVENT
DTSTART;TZID=America/New_York:20230906T140000
DTEND;TZID=America/New_York:20230906T180000
DTSTAMP:20260423T160303
CREATED:20230811T154307Z
LAST-MODIFIED:20230811T154307Z
UID:8548-1694008800-1694023200@www.infotetquebec.com
SUMMARY:Montreal / Legal Information Clinic
DESCRIPTION:The Immigrant Workers Centre holds legal information clinics every Tuesday and Thursday in Montreal between 2:00 and 6:00 p.m. \nMake an appointment or drop in: \ninfo@iwc-cti.ca\,\nprivate message on the Iwc-Cti Facebook page\nWhatsApp: +1 438 507 2566\nleave a message at 514 242-2111\nIndividual support\, group workshops on labour standards or health and safety\, and personalized coaching.
URL:https://www.infotetquebec.com/en/event/montreal-legal-information-clinic-11/
LOCATION:4755\, Van Horne Av.\, Office/Bureau/Oficina #110 Montréal\, QC H3W 1H8\, Canada
CATEGORIES:Information session
ATTACH;FMTTYPE=image/png:https://www.infotetquebec.com/wp-content/uploads/2023/08/IWC-CTI_logo-fr-web-retina.png
END:VEVENT
BEGIN:VEVENT
DTSTART;TZID=America/New_York:20230905T140000
DTEND;TZID=America/New_York:20230905T180000
DTSTAMP:20260423T160303
CREATED:20230811T152628Z
LAST-MODIFIED:20230811T152628Z
UID:8544-1693922400-1693936800@www.infotetquebec.com
SUMMARY:Montreal / Legal Information Clinic
DESCRIPTION:The Immigrant Workers Centre holds legal information clinics every Tuesday and Thursday in Montreal between 2:00 and 6:00 p.m. \nMake an appointment or drop in: \ninfo@iwc-cti.ca\,\nprivate message on the Iwc-Cti Facebook page\nWhatsApp: +1 438 507 2566\nleave a message at 514 242-2111\nIndividual support\, group workshops on labour standards or health and safety\, and personalized coaching.
URL:https://www.infotetquebec.com/en/event/montreal-legal-information-clinic-10/
LOCATION:4755\, Van Horne Av.\, Office/Bureau/Oficina #110 Montréal\, QC H3W 1H8\, Canada
CATEGORIES:Information session
ATTACH;FMTTYPE=image/png:https://www.infotetquebec.com/wp-content/uploads/2023/08/IWC-CTI_logo-fr-web-retina.png
END:VEVENT
BEGIN:VEVENT
DTSTART;TZID=America/New_York:20230904T190000
DTEND;TZID=America/New_York:20230904T200000
DTSTAMP:20260423T160303
CREATED:20230808T194855Z
LAST-MODIFIED:20230808T194855Z
UID:8182-1693854000-1693857600@www.infotetquebec.com
SUMMARY:Virtual discussion evenings
DESCRIPTION:You are cordially invited to an evening virtual chat on Quebec culture and values as well as an information session on labour standards\, health and safety. \nEvery Monday and Wednesday from 7 to 8 pm. \nRegistration: scerdeline@complx-immigration.ca \n+ 1 438 368-4613
URL:https://www.infotetquebec.com/en/event/virtual-discussion-evenings-18/
CATEGORIES:Information session
ATTACH;FMTTYPE=image/png:https://www.infotetquebec.com/wp-content/uploads/2023/05/COMPLEXE-X_Activites-T-Etrangers-Causeries.png
ORGANIZER;CN="Complexe X Immigration":MAILTO:scerdeline@complx-immigration.ca
END:VEVENT
BEGIN:VEVENT
DTSTART;TZID=America/New_York:20230903T160000
DTEND;TZID=America/New_York:20230903T180000
DTSTAMP:20260423T160303
CREATED:20230808T163329Z
LAST-MODIFIED:20230808T163329Z
UID:8077-1693756800-1693764000@www.infotetquebec.com
SUMMARY:Portneuf / Soccer game
DESCRIPTION:Come play soccer at the Portneuf field (100 Paquin Street) every Sunday afternoon\n(16 h)!
URL:https://www.infotetquebec.com/en/event/portneuf-soccer-game-12/
LOCATION:100\, rue Paquin\, Portneuf\, Québec\, Canada
CATEGORIES:soccer
ATTACH;FMTTYPE=image/jpeg:https://www.infotetquebec.com/wp-content/uploads/2023/05/chaos-soccer-gear-Cjfl8r_eYxY-unsplash.jpg
END:VEVENT
BEGIN:VEVENT
DTSTART;TZID=America/New_York:20230903T110000
DTEND;TZID=America/New_York:20230903T130000
DTSTAMP:20260423T160303
CREATED:20230808T161432Z
LAST-MODIFIED:20230808T161432Z
UID:8052-1693738800-1693746000@www.infotetquebec.com
SUMMARY:Saint-Basile / Soccer game
DESCRIPTION:Come and play soccer at the Saint-Basile field (10 Place de l’Église) every Sunday in the late\nmorning (10:30 am)!
URL:https://www.infotetquebec.com/en/event/saint-basile-soccer-game-9/
LOCATION:10\, place de l’Église\, Saint-Basile\, Portneuf\, Québec\, Canada
CATEGORIES:soccer
ATTACH;FMTTYPE=image/jpeg:https://www.infotetquebec.com/wp-content/uploads/2023/04/max-zindel-uPCTGBSrfsI-unsplash-2.jpg
END:VEVENT
BEGIN:VEVENT
DTSTART;TZID=America/New_York:20230902T160000
DTEND;TZID=America/New_York:20230902T210000
DTSTAMP:20260423T160303
CREATED:20230830T161032Z
LAST-MODIFIED:20230830T161032Z
UID:8933-1693670400-1693688400@www.infotetquebec.com
SUMMARY:Baie-des-Sables / Party
DESCRIPTION:Baie des-Sables en fête! \nSaturday\, September 2\, 2023 from 4 p.m. at Parc du Sacré-Cœur (across from the church) \nHot dogs and corn\, music and entertainment\, fireworks in the evening! \nBring your own beverages! \nFree activity offered by the Baie-des-Sables firefighters committee.
URL:https://www.infotetquebec.com/en/event/baie-des-sables-party/
LOCATION:Parc Sacré-Coeur (face à l’église)\, Matane\, Québec\, G0J 1C0\, Canada
CATEGORIES:bowling night,Night
ATTACH;FMTTYPE=image/png:https://www.infotetquebec.com/wp-content/uploads/2023/08/Baie-d-Sables-Fete-209.png
END:VEVENT
BEGIN:VEVENT
DTSTART;TZID=America/New_York:20230902T100000
DTEND;TZID=America/New_York:20230902T120000
DTSTAMP:20260423T160303
CREATED:20230811T124728Z
LAST-MODIFIED:20230811T124728Z
UID:8485-1693648800-1693656000@www.infotetquebec.com
SUMMARY:Sherbrooke / Soccer game
DESCRIPTION:Every Saturday from 10am to 12pm. \nCome and play soccer with us! \nReservations: +1 873 662-2630.
URL:https://www.infotetquebec.com/en/event/sherbrooke-soccer-game-4/
LOCATION:Parc Jean-Claude-Quirion\, Rue Chalifoux\, Sherbrooke\, Québec\, J1G 152\, Canada
CATEGORIES:soccer
ATTACH;FMTTYPE=image/jpeg:https://www.infotetquebec.com/wp-content/uploads/2023/08/EOS-Soccer-Sherbrooke-Fr.jpg
END:VEVENT
BEGIN:VEVENT
DTSTART;TZID=America/New_York:20230901T200000
DTEND;TZID=America/New_York:20230901T220000
DTSTAMP:20260423T160303
CREATED:20230810T203737Z
LAST-MODIFIED:20230810T203737Z
UID:8446-1693598400-1693605600@www.infotetquebec.com
SUMMARY:Coaticook / Soccer game
DESCRIPTION:Every Friday from 8pm to 10pm. \nCome and play with us! \nReservations: WhatsApp +1 873 662-2630
URL:https://www.infotetquebec.com/en/event/coaticook-soccer-game-8/
LOCATION:PARC LAURENCE (TERRAIN 1)\, RUE LAURENCE\, Coaticook\, Québec\, Canada
CATEGORIES:soccer
ATTACH;FMTTYPE=image/jpeg:https://www.infotetquebec.com/wp-content/uploads/2023/08/EOS-Match-Football-Coaticook-Es.jpg
END:VEVENT
BEGIN:VEVENT
DTSTART;TZID=America/New_York:20230901T180000
DTEND;TZID=America/New_York:20230901T200000
DTSTAMP:20260423T160303
CREATED:20230808T180745Z
LAST-MODIFIED:20230808T180745Z
UID:8102-1693591200-1693598400@www.infotetquebec.com
SUMMARY:Saint-Marc-des-Carrières / Soccer game
DESCRIPTION:Come play soccer at the Saint-Marc-des-Carrières field (1600 Bona-Dussault Boulevard) every\nFridays (6 p.m.)!
URL:https://www.infotetquebec.com/en/event/saint-marc-des-carrieres-soccer-game-4/
LOCATION:1600 boul. Bona-Dussault\, Saint-Marc-des-Carrières\, Québec\, G0A 4B0\, Canada
CATEGORIES:soccer
ATTACH;FMTTYPE=image/jpeg:https://www.infotetquebec.com/wp-content/uploads/2023/05/chaos-soccer-gear-Cjfl8r_eYxY-unsplash.jpg
END:VEVENT
BEGIN:VEVENT
DTSTART;TZID=America/New_York:20230901T130000
DTEND;TZID=America/New_York:20230901T140000
DTSTAMP:20260423T160303
CREATED:20230831T133549Z
LAST-MODIFIED:20230831T140549Z
UID:8990-1693573200-1693576800@www.infotetquebec.com
SUMMARY:Workshop on the rights of temporary foreign workers
DESCRIPTION:Workshop on the rights of temporary foreign workers organized by Service d’accueil des nouveaux arrivants de la Matanie (SANAM)\, in collaboration with CTTI. \nIn person
URL:https://www.infotetquebec.com/en/event/workshop-on-the-rights-of-temporary-foreign-workers/
LOCATION:Motel le campagnard\, 632 avenue du Phare\, Matane\, Québec\, G4W1B1\, Canada
CATEGORIES:Information session
ATTACH;FMTTYPE=image/png:https://www.infotetquebec.com/wp-content/uploads/2023/08/atelier-derechos-tet-2VF.png
END:VEVENT
BEGIN:VEVENT
DTSTART;TZID=America/New_York:20230831T140000
DTEND;TZID=America/New_York:20230831T180000
DTSTAMP:20260423T160303
CREATED:20230811T152135Z
LAST-MODIFIED:20230811T152135Z
UID:8540-1693490400-1693504800@www.infotetquebec.com
SUMMARY:Montreal / Legal Information Clinic
DESCRIPTION:The Immigrant Workers Centre holds legal information clinics every Tuesday and Thursday in Montreal between 2:00 and 6:00 p.m. \nMake an appointment or drop in: \ninfo@iwc-cti.ca\,\nprivate message on the Iwc-Cti Facebook page\nWhatsApp: +1 438 507 2566\nleave a message at 514 242-2111\nIndividual support\, group workshops on labour standards or health and safety\, and personalized coaching.
URL:https://www.infotetquebec.com/en/event/montreal-legal-information-clinic-9/
LOCATION:4755\, Van Horne Av.\, Office/Bureau/Oficina #110 Montréal\, QC H3W 1H8\, Canada
CATEGORIES:Information session
ATTACH;FMTTYPE=image/png:https://www.infotetquebec.com/wp-content/uploads/2023/08/IWC-CTI_logo-fr-web-retina.png
END:VEVENT
BEGIN:VEVENT
DTSTART;TZID=America/New_York:20230830T190000
DTEND;TZID=America/New_York:20230830T200000
DTSTAMP:20260423T160303
CREATED:20230808T193952Z
LAST-MODIFIED:20230808T193952Z
UID:8170-1693422000-1693425600@www.infotetquebec.com
SUMMARY:Virtual discussion evenings
DESCRIPTION:You are cordially invited to an evening virtual chat on Quebec culture and values as well as an information session on labour standards\, health and safety. \nEvery Monday and Wednesday from 7 to 8 pm. \nRegistration: scerdeline@complx-immigration.ca \n+ 1 438 368-4613
URL:https://www.infotetquebec.com/en/event/virtual-discussion-evenings-16/
CATEGORIES:Information session
ATTACH;FMTTYPE=image/png:https://www.infotetquebec.com/wp-content/uploads/2023/05/COMPLEXE-X_Activites-T-Etrangers-Causeries.png
ORGANIZER;CN="Complexe X Immigration":MAILTO:scerdeline@complx-immigration.ca
END:VEVENT
BEGIN:VEVENT
DTSTART;TZID=America/New_York:20230830T140000
DTEND;TZID=America/New_York:20230830T180000
DTSTAMP:20260423T160303
CREATED:20230811T151433Z
LAST-MODIFIED:20230811T151433Z
UID:8536-1693404000-1693418400@www.infotetquebec.com
SUMMARY:Montreal / Legal Information Clinic
DESCRIPTION:The Immigrant Workers Centre holds legal information clinics every Tuesday and Thursday in Montreal between 2:00 and 6:00 p.m. \nMake an appointment or drop in: \ninfo@iwc-cti.ca\,\nprivate message on the Iwc-Cti Facebook page\nWhatsApp: +1 438 507 2566\nleave a message at 514 242-2111\nIndividual support\, group workshops on labour standards or health and safety\, and personalized coaching.
URL:https://www.infotetquebec.com/en/event/montreal-legal-information-clinic-8/
LOCATION:4755\, Van Horne Av.\, Office/Bureau/Oficina #110 Montréal\, QC H3W 1H8\, Canada
ATTACH;FMTTYPE=image/png:https://www.infotetquebec.com/wp-content/uploads/2023/08/IWC-CTI_logo-fr-web-retina.png
END:VEVENT
END:VCALENDAR