BEGIN:VCALENDAR
VERSION:2.0
PRODID:-//Infotetquebec - ECPv6.15.20//NONSGML v1.0//EN
CALSCALE:GREGORIAN
METHOD:PUBLISH
X-ORIGINAL-URL:https://www.infotetquebec.com/en/
X-WR-CALDESC:Events for Infotetquebec
REFRESH-INTERVAL;VALUE=DURATION:PT1H
X-Robots-Tag:noindex
X-PUBLISHED-TTL:PT1H
BEGIN:VTIMEZONE
TZID:America/New_York
BEGIN:DAYLIGHT
TZOFFSETFROM:-0500
TZOFFSETTO:-0400
TZNAME:EDT
DTSTART:20220313T070000
END:DAYLIGHT
BEGIN:STANDARD
TZOFFSETFROM:-0400
TZOFFSETTO:-0500
TZNAME:EST
DTSTART:20221106T060000
END:STANDARD
BEGIN:DAYLIGHT
TZOFFSETFROM:-0500
TZOFFSETTO:-0400
TZNAME:EDT
DTSTART:20230312T070000
END:DAYLIGHT
BEGIN:STANDARD
TZOFFSETFROM:-0400
TZOFFSETTO:-0500
TZNAME:EST
DTSTART:20231105T060000
END:STANDARD
BEGIN:DAYLIGHT
TZOFFSETFROM:-0500
TZOFFSETTO:-0400
TZNAME:EDT
DTSTART:20240310T070000
END:DAYLIGHT
BEGIN:STANDARD
TZOFFSETFROM:-0400
TZOFFSETTO:-0500
TZNAME:EST
DTSTART:20241103T060000
END:STANDARD
END:VTIMEZONE
BEGIN:VEVENT
DTSTART;TZID=America/New_York:20230927T190000
DTEND;TZID=America/New_York:20230927T200000
DTSTAMP:20260423T130032
CREATED:20230808T202252Z
LAST-MODIFIED:20230808T202252Z
UID:8224-1695841200-1695844800@www.infotetquebec.com
SUMMARY:Virtual discussion evenings
DESCRIPTION:REGISTRATION\n\nWhatsApp : + 1 514 984-9597
URL:https://www.infotetquebec.com/en/event/virtual-discussion-evenings-25/
LOCATION:Québec
CATEGORIES:Information session
ATTACH;FMTTYPE=image/png:https://www.infotetquebec.com/wp-content/uploads/2023/05/COMPLEXE-X_Activites-T-Etrangers-Causeries.png
ORGANIZER;CN="Complexe X Immigration":MAILTO:scerdeline@complx-immigration.ca
END:VEVENT
BEGIN:VEVENT
DTSTART;TZID=America/New_York:20230927T140000
DTEND;TZID=America/New_York:20230927T180000
DTSTAMP:20260423T130032
CREATED:20230811T164226Z
LAST-MODIFIED:20230811T164226Z
UID:8587-1695823200-1695837600@www.infotetquebec.com
SUMMARY:Montreal / Legal Information Clinic
DESCRIPTION:REGISTRATION\n\nWhatsApp : + 1 514 984-9597
URL:https://www.infotetquebec.com/en/event/montreal-legal-information-clinic-20/
LOCATION:4755\, Van Horne Av.\, Office/Bureau/Oficina #110 Montréal\, QC H3W 1H8\, Canada
CATEGORIES:Information session
ATTACH;FMTTYPE=image/png:https://www.infotetquebec.com/wp-content/uploads/2023/08/IWC-CTI_logo-fr-web-retina.png
END:VEVENT
BEGIN:VEVENT
DTSTART;TZID=America/New_York:20230926T080000
DTEND;TZID=America/New_York:20230926T170000
DTSTAMP:20260423T130032
CREATED:20230811T163856Z
LAST-MODIFIED:20230811T163856Z
UID:8583-1695715200-1695747600@www.infotetquebec.com
SUMMARY:Montreal / Legal Information Clinic
DESCRIPTION:REGISTRATION\n\nWhatsApp : + 1 514 984-9597
URL:https://www.infotetquebec.com/en/event/montreal-legal-information-clinic-19/
LOCATION:4755\, Van Horne Av.\, Office/Bureau/Oficina #110 Montréal\, QC H3W 1H8\, Canada
CATEGORIES:Information session
ATTACH;FMTTYPE=image/png:https://www.infotetquebec.com/wp-content/uploads/2023/08/IWC-CTI_logo-fr-web-retina.png
END:VEVENT
BEGIN:VEVENT
DTSTART;TZID=America/New_York:20230925T190000
DTEND;TZID=America/New_York:20230925T200000
DTSTAMP:20260423T130032
CREATED:20230808T201835Z
LAST-MODIFIED:20230808T201835Z
UID:8218-1695668400-1695672000@www.infotetquebec.com
SUMMARY:Virtual discussion evenings
DESCRIPTION:REGISTRATION\n\nWhatsApp : + 1 514 984-9597
URL:https://www.infotetquebec.com/en/event/virtual-discussion-evenings-24/
LOCATION:Québec
CATEGORIES:Information session
ATTACH;FMTTYPE=image/png:https://www.infotetquebec.com/wp-content/uploads/2023/05/COMPLEXE-X_Activites-T-Etrangers-Causeries.png
ORGANIZER;CN="Complexe X Immigration":MAILTO:scerdeline@complx-immigration.ca
END:VEVENT
BEGIN:VEVENT
DTSTART;TZID=America/New_York:20230924T160000
DTEND;TZID=America/New_York:20230924T180000
DTSTAMP:20260423T130032
CREATED:20230808T163923Z
LAST-MODIFIED:20230808T163923Z
UID:8085-1695571200-1695578400@www.infotetquebec.com
SUMMARY:Portneuf / Soccer game
DESCRIPTION:REGISTRATION\n\nWhatsApp : + 1 514 984-9597
URL:https://www.infotetquebec.com/en/event/portneuf-soccer-game-14/
LOCATION:100\, rue Paquin\, Portneuf\, Québec\, Canada
CATEGORIES:soccer
ATTACH;FMTTYPE=image/jpeg:https://www.infotetquebec.com/wp-content/uploads/2023/05/chaos-soccer-gear-Cjfl8r_eYxY-unsplash.jpg
END:VEVENT
BEGIN:VEVENT
DTSTART;TZID=America/New_York:20230924T110000
DTEND;TZID=America/New_York:20230924T130000
DTSTAMP:20260423T130032
CREATED:20230808T162019Z
LAST-MODIFIED:20230808T162019Z
UID:8060-1695553200-1695560400@www.infotetquebec.com
SUMMARY:Saint-Basile / Soccer game
DESCRIPTION:REGISTRATION\n\nWhatsApp : + 1 514 984-9597
URL:https://www.infotetquebec.com/en/event/saint-basile-soccer-game-11/
LOCATION:10\, place de l’Église\, Saint-Basile\, Portneuf\, Québec\, Canada
CATEGORIES:soccer
ATTACH;FMTTYPE=image/jpeg:https://www.infotetquebec.com/wp-content/uploads/2023/04/max-zindel-uPCTGBSrfsI-unsplash-2.jpg
END:VEVENT
BEGIN:VEVENT
DTSTART;TZID=America/New_York:20230923T100000
DTEND;TZID=America/New_York:20230923T120000
DTSTAMP:20260423T130032
CREATED:20230811T130747Z
LAST-MODIFIED:20230811T130747Z
UID:8497-1695463200-1695470400@www.infotetquebec.com
SUMMARY:Sherbrooke / Soccer game
DESCRIPTION:REGISTRATION\n\nWhatsApp : + 1 514 984-9597
URL:https://www.infotetquebec.com/en/event/sherbrooke-soccer-game-7/
LOCATION:Parc Jean-Claude-Quirion\, Rue Chalifoux\, Sherbrooke\, Québec\, J1G 152\, Canada
CATEGORIES:soccer
ATTACH;FMTTYPE=image/jpeg:https://www.infotetquebec.com/wp-content/uploads/2023/08/EOS-Soccer-Sherbrooke-Fr.jpg
END:VEVENT
BEGIN:VEVENT
DTSTART;TZID=America/New_York:20230922T200000
DTEND;TZID=America/New_York:20230922T220000
DTSTAMP:20260423T130032
CREATED:20230810T204935Z
LAST-MODIFIED:20230810T204935Z
UID:8459-1695412800-1695420000@www.infotetquebec.com
SUMMARY:Coaticook / Soccer game
DESCRIPTION:REGISTRATION\n\nWhatsApp : + 1 514 984-9597
URL:https://www.infotetquebec.com/en/event/coaticook-soccer-game-11/
LOCATION:PARC LAURENCE (TERRAIN 1)\, RUE LAURENCE\, Coaticook\, Québec\, Canada
CATEGORIES:soccer
ATTACH;FMTTYPE=image/jpeg:https://www.infotetquebec.com/wp-content/uploads/2023/08/EOS-Match-Football-Coaticook-Es.jpg
END:VEVENT
BEGIN:VEVENT
DTSTART;TZID=America/New_York:20230922T180000
DTEND;TZID=America/New_York:20230922T200000
DTSTAMP:20260423T130032
CREATED:20230808T181554Z
LAST-MODIFIED:20230808T181554Z
UID:8114-1695405600-1695412800@www.infotetquebec.com
SUMMARY:Saint-Marc-des-Carrières / Soccer game
DESCRIPTION:REGISTRATION\n\nWhatsApp : + 1 514 984-9597
URL:https://www.infotetquebec.com/en/event/saint-marc-des-carrieres-soccer-game-7/
LOCATION:1600 boul. Bona-Dussault\, Saint-Marc-des-Carrières\, Québec\, G0A 4B0\, Canada
CATEGORIES:soccer
ATTACH;FMTTYPE=image/jpeg:https://www.infotetquebec.com/wp-content/uploads/2023/05/chaos-soccer-gear-Cjfl8r_eYxY-unsplash.jpg
END:VEVENT
BEGIN:VEVENT
DTSTART;TZID=America/New_York:20230921T140000
DTEND;TZID=America/New_York:20230921T180000
DTSTAMP:20260423T130032
CREATED:20230811T163439Z
LAST-MODIFIED:20230811T163506Z
UID:8577-1695304800-1695319200@www.infotetquebec.com
SUMMARY:Montreal / Legal Information Clinic
DESCRIPTION:REGISTRATION\n\nWhatsApp : + 1 514 984-9597
URL:https://www.infotetquebec.com/en/event/montreal-legal-information-clinic-18/
LOCATION:4755\, Van Horne Av.\, Office/Bureau/Oficina #110 Montréal\, QC H3W 1H8\, Canada
CATEGORIES:Information session
ATTACH;FMTTYPE=image/png:https://www.infotetquebec.com/wp-content/uploads/2023/08/IWC-CTI_logo-fr-web-retina.png
END:VEVENT
BEGIN:VEVENT
DTSTART;TZID=America/New_York:20230920T190000
DTEND;TZID=America/New_York:20230920T200000
DTSTAMP:20260423T130032
CREATED:20230808T201203Z
LAST-MODIFIED:20230808T201203Z
UID:8212-1695236400-1695240000@www.infotetquebec.com
SUMMARY:Virtual discussion evenings
DESCRIPTION:REGISTRATION\n\nWhatsApp : + 1 514 984-9597
URL:https://www.infotetquebec.com/en/event/virtual-discussion-evenings-23/
LOCATION:Québec
CATEGORIES:Information session
ATTACH;FMTTYPE=image/png:https://www.infotetquebec.com/wp-content/uploads/2023/05/COMPLEXE-X_Activites-T-Etrangers-Causeries.png
ORGANIZER;CN="Complexe X Immigration":MAILTO:scerdeline@complx-immigration.ca
END:VEVENT
BEGIN:VEVENT
DTSTART;TZID=America/New_York:20230920T140000
DTEND;TZID=America/New_York:20230920T180000
DTSTAMP:20260423T130032
CREATED:20230811T163009Z
LAST-MODIFIED:20230811T163009Z
UID:8573-1695218400-1695232800@www.infotetquebec.com
SUMMARY:Montreal / Legal Information Clinic
DESCRIPTION:REGISTRATION\n\nWhatsApp : + 1 514 984-9597
URL:https://www.infotetquebec.com/en/event/montreal-legal-information-clinic-17/
LOCATION:4755\, Van Horne Av.\, Office/Bureau/Oficina #110 Montréal\, QC H3W 1H8\, Canada
CATEGORIES:Information session
ATTACH;FMTTYPE=image/png:https://www.infotetquebec.com/wp-content/uploads/2023/08/IWC-CTI_logo-fr-web-retina.png
END:VEVENT
BEGIN:VEVENT
DTSTART;TZID=America/New_York:20230919T140000
DTEND;TZID=America/New_York:20230919T180000
DTSTAMP:20260423T130032
CREATED:20230811T162416Z
LAST-MODIFIED:20230811T162416Z
UID:8567-1695132000-1695146400@www.infotetquebec.com
SUMMARY:Montreal / Legal Information Clinic
DESCRIPTION:REGISTRATION\n\nWhatsApp : + 1 514 984-9597
URL:https://www.infotetquebec.com/en/event/montreal-legal-information-clinic-16/
LOCATION:4755\, Van Horne Av.\, Office/Bureau/Oficina #110 Montréal\, QC H3W 1H8\, Canada
CATEGORIES:Information session
ATTACH;FMTTYPE=image/png:https://www.infotetquebec.com/wp-content/uploads/2023/08/IWC-CTI_logo-fr-web-retina.png
END:VEVENT
BEGIN:VEVENT
DTSTART;TZID=America/New_York:20230918T190000
DTEND;TZID=America/New_York:20230918T200000
DTSTAMP:20260423T130032
CREATED:20230808T200801Z
LAST-MODIFIED:20230808T200801Z
UID:8206-1695063600-1695067200@www.infotetquebec.com
SUMMARY:Virtual discussion evenings
DESCRIPTION:REGISTRATION\n\nWhatsApp : + 1 514 984-9597
URL:https://www.infotetquebec.com/en/event/virtual-discussion-evenings-22/
LOCATION:Québec
CATEGORIES:Information session
ATTACH;FMTTYPE=image/png:https://www.infotetquebec.com/wp-content/uploads/2023/05/COMPLEXE-X_Activites-T-Etrangers-Causeries.png
ORGANIZER;CN="Complexe X Immigration":MAILTO:scerdeline@complx-immigration.ca
END:VEVENT
BEGIN:VEVENT
DTSTART;TZID=America/New_York:20230918T190000
DTEND;TZID=America/New_York:20230918T200000
DTSTAMP:20260423T130032
CREATED:20230808T200358Z
LAST-MODIFIED:20230808T200358Z
UID:8200-1695063600-1695067200@www.infotetquebec.com
SUMMARY:Virtual discussion evenings
DESCRIPTION:REGISTRATION\n\nWhatsApp : + 1 514 984-9597
URL:https://www.infotetquebec.com/en/event/virtual-discussion-evenings-21/
LOCATION:Québec
CATEGORIES:Information session
ATTACH;FMTTYPE=image/png:https://www.infotetquebec.com/wp-content/uploads/2023/05/COMPLEXE-X_Activites-T-Etrangers-Causeries.png
ORGANIZER;CN="Complexe X Immigration":MAILTO:scerdeline@complx-immigration.ca
END:VEVENT
BEGIN:VEVENT
DTSTART;TZID=America/New_York:20230917T110000
DTEND;TZID=America/New_York:20230917T170000
DTSTAMP:20260423T130032
CREATED:20230428T163601Z
LAST-MODIFIED:20230428T163601Z
UID:6548-1694948400-1694970000@www.infotetquebec.com
SUMMARY:Portneuf / Activities and games to celebrate the independence of Guatemala and Mexico
DESCRIPTION:REGISTRATION\n\nWhatsApp : + 1 514 984-9597
URL:https://www.infotetquebec.com/en/event/portneuf-activities-and-games-to-celebrate-the-independence-of-guatemala-and-mexico/
LOCATION:Parc des générations de Portneuf\, 297\, 1re avenue\, Portneuf\, Portneuf\, Québec\, Canada
CATEGORIES:Cultural or sports activity
ATTACH;FMTTYPE=image/png:https://www.infotetquebec.com/wp-content/uploads/2023/04/Affiche-17-sept-FR.png
END:VEVENT
BEGIN:VEVENT
DTSTART;TZID=America/New_York:20230917T100000
DTEND;TZID=America/New_York:20230917T170000
DTSTAMP:20260423T130032
CREATED:20230830T211300Z
LAST-MODIFIED:20230830T211300Z
UID:8980-1694944800-1694970000@www.infotetquebec.com
SUMMARY:Sherbrooke / Soccer tournament final
DESCRIPTION:REGISTRATION\n\nWhatsApp : + 1 514 984-9597
URL:https://www.infotetquebec.com/en/event/sherbrooke-soccer-tournament-final/
LOCATION:Parc Atto-Beaver\, RUE ST. FRANCIS\, SHERBROOKE\, Québec\, JIM OB3
CATEGORIES:soccer
ATTACH;FMTTYPE=image/jpeg:https://www.infotetquebec.com/wp-content/uploads/2023/08/final_tournoi_AIDE.jpg
END:VEVENT
BEGIN:VEVENT
DTSTART;VALUE=DATE:20230917
DTEND;VALUE=DATE:20230918
DTSTAMP:20260423T130032
CREATED:20230808T153548Z
LAST-MODIFIED:20230808T153702Z
UID:8023-1694908800-1694995199@www.infotetquebec.com
SUMMARY:Saint-Germain-de-Grantham / Visit of the Verger Duhaime
DESCRIPTION:REGISTRATION\n\nWhatsApp : + 1 514 984-9597
URL:https://www.infotetquebec.com/en/event/8023/
LOCATION:Verger Duhaime\, 405 QC-239\, Saint-Germain-de-Grantham\, Québec\, J0C 1K0\, Canada
CATEGORIES:Cultural or sports activity
ATTACH;FMTTYPE=image/jpeg:https://www.infotetquebec.com/wp-content/uploads/2023/08/natalie-grainger-DapP9j2DJMQ-unsplash-scaled.jpg
END:VEVENT
BEGIN:VEVENT
DTSTART;TZID=America/New_York:20230916T200000
DTEND;TZID=America/New_York:20230917T030000
DTSTAMP:20260423T130032
CREATED:20230929T190714Z
LAST-MODIFIED:20230929T190714Z
UID:9108-1694894400-1694919600@www.infotetquebec.com
SUMMARY:Matane - Afrobeats party
DESCRIPTION:REGISTRATION\n\nWhatsApp : + 1 514 984-9597
URL:https://www.infotetquebec.com/en/event/matane-afrobeats-party/
LOCATION:Afrobeats party\, 221 rue de la fabrique\, Matane\, Quebec\, Canada
CATEGORIES:Cultural or sports activity,Party
ATTACH;FMTTYPE=image/png:https://www.infotetquebec.com/wp-content/uploads/2023/09/SANAM-DJ-Jerome-1-1.png
END:VEVENT
BEGIN:VEVENT
DTSTART;TZID=America/New_York:20230916T100000
DTEND;TZID=America/New_York:20230916T123000
DTSTAMP:20260423T130032
CREATED:20230906T204948Z
LAST-MODIFIED:20230906T204948Z
UID:9016-1694858400-1694867400@www.infotetquebec.com
SUMMARY:Rougemont - Apple picking
DESCRIPTION:REGISTRATION\n\nWhatsApp : + 1 514 984-9597
URL:https://www.infotetquebec.com/en/event/rougemont-apple-picking/
LOCATION:Les jardins d’Emilie vergers et cidrerie\, 1255 Rang Double\, Rougemont\, Quebec\, 1255 Rang DoubleJ0L 1M0\, Canada
CATEGORIES:Cultural or sports activity
ATTACH;FMTTYPE=image/png:https://www.infotetquebec.com/wp-content/uploads/2023/09/GABARIT-TET-ES-8.png
END:VEVENT
BEGIN:VEVENT
DTSTART;TZID=America/New_York:20230916T100000
DTEND;TZID=America/New_York:20230916T120000
DTSTAMP:20260423T130032
CREATED:20230811T130300Z
LAST-MODIFIED:20230811T130300Z
UID:8493-1694858400-1694865600@www.infotetquebec.com
SUMMARY:Sherbrooke / Soccer game
DESCRIPTION:REGISTRATION\n\nWhatsApp : + 1 514 984-9597
URL:https://www.infotetquebec.com/en/event/sherbrooke-soccer-game-6/
LOCATION:Parc Jean-Claude-Quirion\, Rue Chalifoux\, Sherbrooke\, Québec\, J1G 152\, Canada
CATEGORIES:soccer
ATTACH;FMTTYPE=image/jpeg:https://www.infotetquebec.com/wp-content/uploads/2023/08/EOS-Soccer-Sherbrooke-Fr.jpg
END:VEVENT
BEGIN:VEVENT
DTSTART;TZID=America/New_York:20230915T200000
DTEND;TZID=America/New_York:20230915T220000
DTSTAMP:20260423T130032
CREATED:20230810T204448Z
LAST-MODIFIED:20230810T204448Z
UID:8455-1694808000-1694815200@www.infotetquebec.com
SUMMARY:Coaticook / Soccer game
DESCRIPTION:REGISTRATION\n\nWhatsApp : + 1 514 984-9597
URL:https://www.infotetquebec.com/en/event/coaticook-soccer-game-10/
LOCATION:PARC LAURENCE (TERRAIN 1)\, RUE LAURENCE\, Coaticook\, Québec\, Canada
CATEGORIES:soccer
ATTACH;FMTTYPE=image/jpeg:https://www.infotetquebec.com/wp-content/uploads/2023/08/EOS-Match-Football-Coaticook-Es.jpg
END:VEVENT
BEGIN:VEVENT
DTSTART;TZID=America/New_York:20230915T180000
DTEND;TZID=America/New_York:20230915T200000
DTSTAMP:20260423T130032
CREATED:20230808T181334Z
LAST-MODIFIED:20230808T181334Z
UID:8110-1694800800-1694808000@www.infotetquebec.com
SUMMARY:Saint-Marc-des-Carrières / Soccer game
DESCRIPTION:REGISTRATION\n\nWhatsApp : + 1 514 984-9597
URL:https://www.infotetquebec.com/en/event/saint-marc-des-carrieres-soccer-game-6/
LOCATION:1600 boul. Bona-Dussault\, Saint-Marc-des-Carrières\, Québec\, G0A 4B0\, Canada
CATEGORIES:soccer
ATTACH;FMTTYPE=image/jpeg:https://www.infotetquebec.com/wp-content/uploads/2023/05/chaos-soccer-gear-Cjfl8r_eYxY-unsplash.jpg
END:VEVENT
BEGIN:VEVENT
DTSTART;TZID=America/New_York:20230914T140000
DTEND;TZID=America/New_York:20230914T180000
DTSTAMP:20260423T130032
CREATED:20230811T160622Z
LAST-MODIFIED:20230811T160622Z
UID:8563-1694700000-1694714400@www.infotetquebec.com
SUMMARY:Montreal / Legal Information Clinic
DESCRIPTION:REGISTRATION\n\nWhatsApp : + 1 514 984-9597
URL:https://www.infotetquebec.com/en/event/montreal-legal-information-clinic-15/
LOCATION:4755\, Van Horne Av.\, Office/Bureau/Oficina #110 Montréal\, QC H3W 1H8\, Canada
CATEGORIES:Information session
ATTACH;FMTTYPE=image/png:https://www.infotetquebec.com/wp-content/uploads/2023/08/IWC-CTI_logo-fr-web-retina.png
END:VEVENT
BEGIN:VEVENT
DTSTART;TZID=America/New_York:20230913T190000
DTEND;TZID=America/New_York:20230913T200000
DTSTAMP:20260423T130032
CREATED:20230808T195951Z
LAST-MODIFIED:20230808T195951Z
UID:8194-1694631600-1694635200@www.infotetquebec.com
SUMMARY:Virtual discussion evenings
DESCRIPTION:REGISTRATION\n\nWhatsApp : + 1 514 984-9597
URL:https://www.infotetquebec.com/en/event/virtual-discussion-evenings-20/
LOCATION:Québec
CATEGORIES:Information session
ATTACH;FMTTYPE=image/png:https://www.infotetquebec.com/wp-content/uploads/2023/05/COMPLEXE-X_Activites-T-Etrangers-Causeries.png
ORGANIZER;CN="Complexe X Immigration":MAILTO:scerdeline@complx-immigration.ca
END:VEVENT
BEGIN:VEVENT
DTSTART;TZID=America/New_York:20230913T140000
DTEND;TZID=America/New_York:20230913T180000
DTSTAMP:20260423T130032
CREATED:20230811T155910Z
LAST-MODIFIED:20230811T155910Z
UID:8559-1694613600-1694628000@www.infotetquebec.com
SUMMARY:Montreal / Legal Information Clinic
DESCRIPTION:REGISTRATION\n\nWhatsApp : + 1 514 984-9597
URL:https://www.infotetquebec.com/en/event/montreal-legal-information-clinic-14/
LOCATION:4755\, Van Horne Av.\, Office/Bureau/Oficina #110 Montréal\, QC H3W 1H8\, Canada
CATEGORIES:Information session
ATTACH;FMTTYPE=image/png:https://www.infotetquebec.com/wp-content/uploads/2023/08/IWC-CTI_logo-fr-web-retina.png
END:VEVENT
BEGIN:VEVENT
DTSTART;TZID=America/New_York:20230912T140000
DTEND;TZID=America/New_York:20230912T180000
DTSTAMP:20260423T130032
CREATED:20230811T155538Z
LAST-MODIFIED:20230811T155538Z
UID:8556-1694527200-1694541600@www.infotetquebec.com
SUMMARY:Montreal / Legal Information Clinic
DESCRIPTION:REGISTRATION\n\nWhatsApp : + 1 514 984-9597
URL:https://www.infotetquebec.com/en/event/montreal-legal-information-clinic-13/
LOCATION:4755\, Van Horne Av.\, Office/Bureau/Oficina #110 Montréal\, QC H3W 1H8\, Canada
CATEGORIES:Information session
ATTACH;FMTTYPE=image/png:https://www.infotetquebec.com/wp-content/uploads/2023/08/IWC-CTI_logo-fr-web-retina.png
END:VEVENT
BEGIN:VEVENT
DTSTART;TZID=America/New_York:20230911T190000
DTEND;TZID=America/New_York:20230911T200000
DTSTAMP:20260423T130032
CREATED:20230808T195500Z
LAST-MODIFIED:20230808T195500Z
UID:8188-1694458800-1694462400@www.infotetquebec.com
SUMMARY:Virtual discussion evenings
DESCRIPTION:REGISTRATION\n\nWhatsApp : + 1 514 984-9597
URL:https://www.infotetquebec.com/en/event/virtual-discussion-evenings-19/
LOCATION:Québec
CATEGORIES:Information session
ATTACH;FMTTYPE=image/png:https://www.infotetquebec.com/wp-content/uploads/2023/05/COMPLEXE-X_Activites-T-Etrangers-Causeries.png
ORGANIZER;CN="Complexe X Immigration":MAILTO:scerdeline@complx-immigration.ca
END:VEVENT
BEGIN:VEVENT
DTSTART;TZID=America/New_York:20230910T160000
DTEND;TZID=America/New_York:20230910T180000
DTSTAMP:20260423T130032
CREATED:20230808T163614Z
LAST-MODIFIED:20230808T163614Z
UID:8081-1694361600-1694368800@www.infotetquebec.com
SUMMARY:Portneuf / Soccer game
DESCRIPTION:REGISTRATION\n\nWhatsApp : + 1 514 984-9597
URL:https://www.infotetquebec.com/en/event/portneuf-soccer-game-13/
LOCATION:100\, rue Paquin\, Portneuf\, Québec\, Canada
CATEGORIES:soccer
ATTACH;FMTTYPE=image/jpeg:https://www.infotetquebec.com/wp-content/uploads/2023/05/chaos-soccer-gear-Cjfl8r_eYxY-unsplash.jpg
END:VEVENT
BEGIN:VEVENT
DTSTART;TZID=America/New_York:20230910T133000
DTEND;TZID=America/New_York:20230910T160000
DTSTAMP:20260423T130033
CREATED:20230816T163837Z
LAST-MODIFIED:20230816T164318Z
UID:8636-1694352600-1694361600@www.infotetquebec.com
SUMMARY:Saint-Paul-d'Abbotsford / Apple Picking
DESCRIPTION:REGISTRATION\n\nWhatsApp : + 1 514 984-9597
URL:https://www.infotetquebec.com/en/event/saint-paul-dabbotsford-apple-picking/
LOCATION:Verger famille Gould\, 755 rang de la montagne\, Saint-Paul-d'Abbotsford\, Québec\, JOE 1A0\, Canada
CATEGORIES:Cultural or sports activity
ATTACH;FMTTYPE=image/png:https://www.infotetquebec.com/wp-content/uploads/2023/08/Angl.png
ORGANIZER;CN="Int%C3%A9gration comp%C3%A9tences":MAILTO:lilianasalgado@integrationcompetences.ca
END:VEVENT
END:VCALENDAR