BEGIN:VCALENDAR
VERSION:2.0
PRODID:-//Infotetquebec - ECPv6.15.20//NONSGML v1.0//EN
CALSCALE:GREGORIAN
METHOD:PUBLISH
X-WR-CALNAME:Infotetquebec
X-ORIGINAL-URL:https://www.infotetquebec.com/en/
X-WR-CALDESC:Events for Infotetquebec
REFRESH-INTERVAL;VALUE=DURATION:PT1H
X-Robots-Tag:noindex
X-PUBLISHED-TTL:PT1H
BEGIN:VTIMEZONE
TZID:America/New_York
BEGIN:DAYLIGHT
TZOFFSETFROM:-0500
TZOFFSETTO:-0400
TZNAME:EDT
DTSTART:20220313T070000
END:DAYLIGHT
BEGIN:STANDARD
TZOFFSETFROM:-0400
TZOFFSETTO:-0500
TZNAME:EST
DTSTART:20221106T060000
END:STANDARD
BEGIN:DAYLIGHT
TZOFFSETFROM:-0500
TZOFFSETTO:-0400
TZNAME:EDT
DTSTART:20230312T070000
END:DAYLIGHT
BEGIN:STANDARD
TZOFFSETFROM:-0400
TZOFFSETTO:-0500
TZNAME:EST
DTSTART:20231105T060000
END:STANDARD
BEGIN:DAYLIGHT
TZOFFSETFROM:-0500
TZOFFSETTO:-0400
TZNAME:EDT
DTSTART:20240310T070000
END:DAYLIGHT
BEGIN:STANDARD
TZOFFSETFROM:-0400
TZOFFSETTO:-0500
TZNAME:EST
DTSTART:20241103T060000
END:STANDARD
END:VTIMEZONE
BEGIN:VEVENT
DTSTART;TZID=America/New_York:20231215T170000
DTEND;TZID=America/New_York:20231215T233000
DTSTAMP:20260423T064459
CREATED:20231123T204236Z
LAST-MODIFIED:20240126T193214Z
UID:10243-1702659600-1702683000@www.infotetquebec.com
SUMMARY:Victoriaville / Christmas Night
DESCRIPTION:
URL:https://www.infotetquebec.com/en/event/victoriaville-christmas-night/
LOCATION:Hotel Le Victorin\, 19 Boulevard Arthabaska Est\, Victoriaville\, Québec\, G6T 0S4\, Canada
CATEGORIES:Night
ORGANIZER;CN="Corporation de d%C3%A9veloppement %C3%A9conomique Victoriaville et sa r%C3%A9gion":MAILTO:vsanchez@cdevr.ca
END:VEVENT
BEGIN:VEVENT
DTSTART;TZID=America/New_York:20231214T193000
DTEND;TZID=America/New_York:20231214T203000
DTSTAMP:20260423T064459
CREATED:20231130T174233Z
LAST-MODIFIED:20231130T174233Z
UID:10354-1702582200-1702585800@www.infotetquebec.com
SUMMARY:Online / Rendezvous with health: Closing cycles and opening new paths (Spanish)
DESCRIPTION:To help you learn how to take care of your physical and mental health\, CAFLA organizes a virtual version of the “Rendezvous with Health”\, where every Thursday at 7.30pm\, a live session is broadcast to address very important topics and answer your questions. \nVisit the “Trabajadores temporales CAFLA” Facebook page to take part: https://www.facebook.com/PTET.CAFLA
URL:https://www.infotetquebec.com/en/event/online-rendezvous-with-health-closing-cycles-and-opening-new-paths-spanish/
LOCATION:En ligne
CATEGORIES:Information session,webinar
ATTACH;FMTTYPE=image/jpeg:https://www.infotetquebec.com/wp-content/uploads/2023/11/Cita_salud.jpg
END:VEVENT
BEGIN:VEVENT
DTSTART;TZID=America/New_York:20231210T170000
DTEND;TZID=America/New_York:20231210T190000
DTSTAMP:20260423T064459
CREATED:20231130T192555Z
LAST-MODIFIED:20231130T192555Z
UID:10375-1702227600-1702234800@www.infotetquebec.com
SUMMARY:Saint-Basile / Indoor soccer
DESCRIPTION:To check the schedule\, please consult one of the following Facebook groups on Friday mornings: https://www.facebook.com/FernandOuelletATP or https://www.facebook.com/groups/641482006263720
URL:https://www.infotetquebec.com/en/event/saint-basile-indoor-soccer/
LOCATION:Centre communautaire Ernest Papillon de St-Basile\, 100 Rang Ste Angélique\, Saint-Basile\, Québec\, G0A 3G0\, Canada
CATEGORIES:soccer
ATTACH;FMTTYPE=image/jpeg:https://www.infotetquebec.com/wp-content/uploads/2023/11/julien-rocheblave-F3M8FmvWQo4-unsplash-scaled.jpg
END:VEVENT
BEGIN:VEVENT
DTSTART;TZID=America/New_York:20231210T140000
DTEND;TZID=America/New_York:20231210T160000
DTSTAMP:20260423T064459
CREATED:20231114T181247Z
LAST-MODIFIED:20240126T191851Z
UID:9885-1702216800-1702224000@www.infotetquebec.com
SUMMARY:Coaticook / Basketball
DESCRIPTION:
URL:https://www.infotetquebec.com/en/event/coaticook-basketball-4/
LOCATION:Gymnase Acti-sports\, 497 rue Saint-Jean-Baptiste\, Coaticook\, Québec\, J1A 2K2\, Canada
CATEGORIES:basketball
END:VEVENT
BEGIN:VEVENT
DTSTART;TZID=America/New_York:20231209T150000
DTEND;TZID=America/New_York:20231209T200000
DTSTAMP:20260423T064459
CREATED:20231025T173715Z
LAST-MODIFIED:20240126T191102Z
UID:9648-1702134000-1702152000@www.infotetquebec.com
SUMMARY:Drummondville / Visit to the illuminated village
DESCRIPTION:Visit to the illuminated Village for Granby’s temporary foreign workers (with closed work permits)\nSaturday\, December 9\, 2023\, 3 p.m.\ndeparture by bus from the parking lot at 370 rue St-Jacques\, Granby (Maxi)\nVillage Québécois d’Antan\, Drummondville\nRegistration required. Free activity.\n»»> Registration deadline: December 1 or up to 90 registrations (maximum number)\nGloria Amparo Brand\n450-777-2707\, p. 2622\nga.brand@granby-industriel.com\nTransport in bus includes
URL:https://www.infotetquebec.com/en/event/drummondville-visit-of-the-illuminated-village/
LOCATION:Stationnement Maxi Granby (lieu de départ)\, 370 rue Saint-Jacques\, Granby\, Québec\, Canada
CATEGORIES:Cultural or sports activity
ORGANIZER;CN="Granby Industriel":MAILTO:ga.brand@granby-industriel.com
END:VEVENT
BEGIN:VEVENT
DTSTART;TZID=America/New_York:20231208T194500
DTEND;TZID=America/New_York:20231208T210000
DTSTAMP:20260423T064459
CREATED:20231114T191839Z
LAST-MODIFIED:20240126T190216Z
UID:9914-1702064700-1702069200@www.infotetquebec.com
SUMMARY:Coaticook / soccer
DESCRIPTION:
URL:https://www.infotetquebec.com/en/event/coaticook-soccer-3/
LOCATION:SALLE DE SPORT ACTI-SPORTS\, 497 RUE SAINT JEAN-BAPTISTE\, Coaticook\, Québec\, J1A 2K2\, Canada
CATEGORIES:soccer
END:VEVENT
BEGIN:VEVENT
DTSTART;TZID=America/New_York:20231207T193000
DTEND;TZID=America/New_York:20231207T210000
DTSTAMP:20260423T064459
CREATED:20231130T173227Z
LAST-MODIFIED:20231130T173227Z
UID:10348-1701977400-1701982800@www.infotetquebec.com
SUMMARY:Online / Rendezvous with health: Winter in Canada (Spanish)
DESCRIPTION:To help you learn how to take care of your physical and mental health\, CAFLA organizes a virtual version of the “Rendezvous with Health”\, where every Thursday at 7.30pm\, a live session is broadcast to address very important topics and answer your questions. \nVisit the “Trabajadores temporales CAFLA” Facebook page to take part: https://www.facebook.com/PTET.CAFLA
URL:https://www.infotetquebec.com/en/event/online-rendezvous-with-health-winter-in-canada-spanish/
LOCATION:En ligne
CATEGORIES:Information session,webinar
ATTACH;FMTTYPE=image/jpeg:https://www.infotetquebec.com/wp-content/uploads/2023/11/Cita_salud.jpg
END:VEVENT
BEGIN:VEVENT
DTSTART;TZID=America/New_York:20231207T180000
DTEND;TZID=America/New_York:20231207T200000
DTSTAMP:20260423T064459
CREATED:20231123T210242Z
LAST-MODIFIED:20240126T185655Z
UID:10254-1701972000-1701979200@www.infotetquebec.com
SUMMARY:Saint-Paul-d'Abbotsford / Happy Holidays Evening
DESCRIPTION:Inscriptions : https://forms.office.com/pages/responsepage.aspx?id=0_JvlIF-AUOMcJZzeTeuK9Z4nxmedR5FjMolHYNnFTdUMDZaRjBXTTlIS0dISjNLNVpEUjE2RUZCMC4u&origin=QRCode&qrcodeorigin=presentation\n 
URL:https://www.infotetquebec.com/en/event/saint-paul-dabbotsford-happy-holidays-evening/
LOCATION:Salle municipale de Saint-Paul-d’Abbotsford\, 35 Rue Codaire\, Saint-Paul-d'Abbotsford\, Québec\, J0E 1A0\, Canada
CATEGORIES:bowling night
ORGANIZER;CN="Int%C3%A9gration comp%C3%A9tences":MAILTO:lilianasalgado@integrationcompetences.ca
END:VEVENT
BEGIN:VEVENT
DTSTART;TZID=America/New_York:20231203T140000
DTEND;TZID=America/New_York:20231203T170000
DTSTAMP:20260423T064459
CREATED:20231114T154355Z
LAST-MODIFIED:20240126T184659Z
UID:9827-1701612000-1701622800@www.infotetquebec.com
SUMMARY:Montréal / Intercultural Christmas Kermesse
DESCRIPTION:Music\nGames\nFood\nDraw\n\nLet’s celebrate together !
URL:https://www.infotetquebec.com/en/event/montreal-kermesse-navidena-intercultural/
LOCATION:Centre du Plateau\, 2275 St Joseph Blvd E\, Montreal\, Québec\, H2H 1G4\, Canada
CATEGORIES:Cultural or sports activity,Festival
END:VEVENT
BEGIN:VEVENT
DTSTART;TZID=America/New_York:20231203T140000
DTEND;TZID=America/New_York:20231203T160000
DTSTAMP:20260423T064459
CREATED:20231114T180754Z
LAST-MODIFIED:20240126T183620Z
UID:9880-1701612000-1701619200@www.infotetquebec.com
SUMMARY:Coaticook / Basketball
DESCRIPTION:
URL:https://www.infotetquebec.com/en/event/coaticook-basketball-3/
LOCATION:Gymnase Acti-sports\, 497 rue Saint-Jean-Baptiste\, Coaticook\, Québec\, J1A 2K2\, Canada
CATEGORIES:basketball
END:VEVENT
BEGIN:VEVENT
DTSTART;TZID=America/New_York:20231203T130000
DTEND;TZID=America/New_York:20231203T160000
DTSTAMP:20260423T064459
CREATED:20231114T164134Z
LAST-MODIFIED:20240126T180205Z
UID:9850-1701608400-1701619200@www.infotetquebec.com
SUMMARY:Sainte-Clotilde-de-Châteauguay / Christmas diner
DESCRIPTION:Complexe X Immigration\, organise un repas de retrouvailles pour les travailleurs étrangers.\nNous vous attendons en grand nombre: employeurs et travailleurs étrangers pour partager ensemble ce moment convivial!\nInscription par courriel requise: info@complx-immigration.ca
URL:https://www.infotetquebec.com/en/event/sainte-clotilde-de-chateauguay-christmas-diner-2/
LOCATION:Centre communautaire Sainte-Clotilde\, 824 2e Rang\, Sainte-Clotilde-de-Châteauguay\, Québec\, J0L 1W0\, Canada
CATEGORIES:Festival
ORGANIZER;CN="Complexe X Immigration":MAILTO:scerdeline@complx-immigration.ca
END:VEVENT
BEGIN:VEVENT
DTSTART;TZID=America/New_York:20231201T194500
DTEND;TZID=America/New_York:20231201T210000
DTSTAMP:20260423T064459
CREATED:20231114T190912Z
LAST-MODIFIED:20240126T175700Z
UID:9907-1701459900-1701464400@www.infotetquebec.com
SUMMARY:Coaticook / soccer
DESCRIPTION:
URL:https://www.infotetquebec.com/en/event/coaticook-soccer-2/
LOCATION:Gymnase Acti-sports\, 497 rue Saint-Jean-Baptiste\, Coaticook\, Québec\, J1A 2K2\, Canada
CATEGORIES:soccer
END:VEVENT
BEGIN:VEVENT
DTSTART;TZID=America/New_York:20231130T193000
DTEND;TZID=America/New_York:20231130T203000
DTSTAMP:20260423T064459
CREATED:20231130T172220Z
LAST-MODIFIED:20231130T173513Z
UID:10340-1701372600-1701376200@www.infotetquebec.com
SUMMARY:Online / Rendezvous with health: How to identify mental fatigue (Spanish)
DESCRIPTION:To help you learn how to take care of your physical and mental health\, CAFLA organizes a virtual version of the “Rendezvous with Health”\, where every Thursday at 7.30pm\, a live session is broadcast to address very important topics and answer your questions. \nVisit the “Trabajadores temporales CAFLA” Facebook page to take part: https://www.facebook.com/PTET.CAFLA
URL:https://www.infotetquebec.com/en/event/online-rendez-vous-avec-la-sante-how-to-identify-mental-fatigue-spanish/
LOCATION:En ligne
CATEGORIES:Information session,webinar
ATTACH;FMTTYPE=image/jpeg:https://www.infotetquebec.com/wp-content/uploads/2023/08/Cita_salud.jpg
END:VEVENT
BEGIN:VEVENT
DTSTART;TZID=America/New_York:20231129T190000
DTEND;TZID=America/New_York:20231129T200000
DTSTAMP:20260423T064459
CREATED:20231013T163941Z
LAST-MODIFIED:20231013T163941Z
UID:9312-1701284400-1701288000@www.infotetquebec.com
SUMMARY:Virtual discussion evenings
DESCRIPTION:You are cordially invited to an evening virtual chat on Quebec culture and values as well as an information session on labour standards\, health and safety. \nEvery Monday and Wednesday from 7 to 8 pm. \nRegistration: scerdeline@complx-immigration.ca \n+ 1 438 368-4613
URL:https://www.infotetquebec.com/en/event/virtual-discussion-evenings-39/
LOCATION:En ligne
CATEGORIES:Information session
ATTACH;FMTTYPE=image/png:https://www.infotetquebec.com/wp-content/uploads/2023/05/COMPLEXE-X_Activites-T-Etrangers-Causeries.png
END:VEVENT
BEGIN:VEVENT
DTSTART;TZID=America/New_York:20231129T180000
DTEND;TZID=America/New_York:20231129T200000
DTSTAMP:20260423T064459
CREATED:20231128T182041Z
LAST-MODIFIED:20231128T182041Z
UID:10272-1701280800-1701288000@www.infotetquebec.com
SUMMARY:Online / Webinar : « Conquistando el invierno » (in Spanish)
DESCRIPTION:Registration link : https://forms.gle/3TdAzvMzBP5nFFPf7 \n 
URL:https://www.infotetquebec.com/en/event/online-webinar-conquistando-el-invierno-in-spanish/
LOCATION:En ligne
CATEGORIES:Information session,webinar
ATTACH;FMTTYPE=image/png:https://www.infotetquebec.com/wp-content/uploads/2023/11/WEBINAIRE-CONQUISTANDO-EL-INVIERNO.png
END:VEVENT
BEGIN:VEVENT
DTSTART;TZID=America/New_York:20231127T190000
DTEND;TZID=America/New_York:20231127T200000
DTSTAMP:20260423T064459
CREATED:20231013T162456Z
LAST-MODIFIED:20231013T162456Z
UID:9306-1701111600-1701115200@www.infotetquebec.com
SUMMARY:Virtual discussion evenings
DESCRIPTION:You are cordially invited to an evening virtual chat on Quebec culture and values as well as an information session on labour standards\, health and safety. \nEvery Monday and Wednesday from 7 to 8 pm. \nRegistration: scerdeline@complx-immigration.ca \n+ 1 438 368-4613
URL:https://www.infotetquebec.com/en/event/virtual-discussion-evenings-38/
LOCATION:En ligne
CATEGORIES:Information session
ATTACH;FMTTYPE=image/png:https://www.infotetquebec.com/wp-content/uploads/2023/05/COMPLEXE-X_Activites-T-Etrangers-Causeries.png
ORGANIZER;CN="Complexe X Immigration":MAILTO:scerdeline@complx-immigration.ca
END:VEVENT
BEGIN:VEVENT
DTSTART;TZID=America/New_York:20231126T140000
DTEND;TZID=America/New_York:20231126T160000
DTSTAMP:20260423T064459
CREATED:20231114T175812Z
LAST-MODIFIED:20240126T175016Z
UID:9874-1701007200-1701014400@www.infotetquebec.com
SUMMARY:Coaticook / Basketball
DESCRIPTION:
URL:https://www.infotetquebec.com/en/event/coaticook-basketball-2/
LOCATION:Québec
CATEGORIES:basketball
END:VEVENT
BEGIN:VEVENT
DTSTART;TZID=America/New_York:20231125T180000
DTEND;TZID=America/New_York:20231125T200000
DTSTAMP:20260423T064459
CREATED:20231122T144801Z
LAST-MODIFIED:20231122T144933Z
UID:10143-1700935200-1700942400@www.infotetquebec.com
SUMMARY:Online / Workshop financial management 💰
DESCRIPTION:
URL:https://www.infotetquebec.com/en/event/online-workshop-financial-management-%f0%9f%92%b0/
LOCATION:En ligne
CATEGORIES:Information session,webinar
ATTACH;FMTTYPE=image/png:https://www.infotetquebec.com/wp-content/uploads/2023/11/Atelier_Gestion-financiere_En.png
ORGANIZER;CN="Regroupement multiculturel Manicouagan":MAILTO:valeriedjapa@vi2vals-immigration.ca
END:VEVENT
BEGIN:VEVENT
DTSTART;TZID=America/New_York:20231125T100000
DTEND;TZID=America/New_York:20231125T120000
DTSTAMP:20260423T064459
CREATED:20231120T180534Z
LAST-MODIFIED:20240126T174415Z
UID:10091-1700906400-1700913600@www.infotetquebec.com
SUMMARY:Québec / Intercultural outing to the Museum of Civilization
DESCRIPTION:C’est notre histoire” exhibition\nDate: Saturday\, November 25\nDuration: 10 a.m. to 12 p.m.\nIf you have a closed work permit\, this activity is for you!\nWe invite you to discover the roots of the province of Quebec. Come and see this beautiful exhibition\, and at the end we’ll share a snack and talk about the different cultures of your countries of origin.\nThis activity is free of charge.\nWe need you to confirm your attendance by Whatsapp message to one of the following numbers:\n418-284-3659\n438-370-0332
URL:https://www.infotetquebec.com/en/event/quebec-intercultural-outing-to-the-museum-of-civilization/
LOCATION:Musée de la civilisation\, 85 Rue Dalhousie\, Québec\, Québec\, G1K 8R2\, Canada
CATEGORIES:Cultural or sports activity
END:VEVENT
BEGIN:VEVENT
DTSTART;TZID=America/New_York:20231124T183000
DTEND;TZID=America/New_York:20231124T203000
DTSTAMP:20260423T064459
CREATED:20231109T211705Z
LAST-MODIFIED:20231109T212906Z
UID:9764-1700850600-1700857800@www.infotetquebec.com
SUMMARY:Chambly / Soccer athlete+
DESCRIPTION:Details:  Activity Soccer Athlete+\nDate:  Friday\, November 24th\, 2023\nTime: From 6:30 pm to 8:30 pm\nCost: Free admission\nOrganiser:  Intégration Compétences\nVenue:  École Madeleine-Brousseau\n\n1700 Boul Lebel\, Chambly\, QC J3L 0Z9 \nhttps://www.google.com/maps/place/1700+Bd+Lebel\,+Chambly\,+QC+J3L+0Z9/@45.4400321\,-73.3166022\,17z/data=!3m1!4b1!4m6!3m5!1s0x4cc9a8074e84478b:0xbbd67d20d1565579!8m2!3d45.4400321!4d-73.3140273!16s%2Fg%2F11f3xg3g3w?entry=ttu \n\nRegistration: WhatsApp 514 434 3642\nPerson in charge of the activity: Liliana Salgado\, WhatsApp 514 434 3642\, lilianasalgado@integrationcompetences.ca
URL:https://www.infotetquebec.com/en/event/chambly-soccer-athlete/
LOCATION:École Madeleine-Brousseau\, 1700 Boul Lebel\, Chambly\, Québec\, QC J3L 0Z9\, Canada
CATEGORIES:soccer
ATTACH;FMTTYPE=image/png:https://www.infotetquebec.com/wp-content/uploads/2023/11/Activite-soccer-24-nov-2023_ENG.png
ORGANIZER;CN="Int%C3%A9gration comp%C3%A9tences":MAILTO:lilianasalgado@integrationcompetences.ca
END:VEVENT
BEGIN:VEVENT
DTSTART;TZID=America/New_York:20231124T164500
DTEND;TZID=America/New_York:20231124T190000
DTSTAMP:20260423T064459
CREATED:20231117T191513Z
LAST-MODIFIED:20240126T173713Z
UID:10073-1700844300-1700852400@www.infotetquebec.com
SUMMARY:Granby / Legal information session
DESCRIPTION:Vendredi 24 de novembre 2023\n16:45 »»»» pizza et breuvage seront servis\n• Centre France-Arbour\, 279 Rue Principale\, Granby\nInscription obligatoire. Activité gratuite.\n»»» Conseils\, informations\, services.\nGloria Amparo Brand\n450-777-2707\, p. 2622\nga.brand@granby-industriel.com
URL:https://www.infotetquebec.com/en/event/granby-legal-information-session/
LOCATION:Centre France-Arbour\, 279 Rue Principale
CATEGORIES:Information session
ORGANIZER;CN="Granby Industriel":MAILTO:ga.brand@granby-industriel.com
END:VEVENT
BEGIN:VEVENT
DTSTART;TZID=America/New_York:20231122T190000
DTEND;TZID=America/New_York:20231122T200000
DTSTAMP:20260423T064459
CREATED:20231013T162012Z
LAST-MODIFIED:20231013T162012Z
UID:9300-1700679600-1700683200@www.infotetquebec.com
SUMMARY:Virtual discussion evenings
DESCRIPTION:You are cordially invited to an evening virtual chat on Quebec culture and values as well as an information session on labour standards\, health and safety. \nEvery Monday and Wednesday from 7 to 8 pm. \nRegistration: scerdeline@complx-immigration.ca \n+ 1 438 368-4613
URL:https://www.infotetquebec.com/en/event/virtual-discussion-evenings-37/
LOCATION:En ligne
CATEGORIES:Information session
ATTACH;FMTTYPE=image/png:https://www.infotetquebec.com/wp-content/uploads/2023/05/COMPLEXE-X_Activites-T-Etrangers-Causeries.png
ORGANIZER;CN="Complexe X Immigration":MAILTO:scerdeline@complx-immigration.ca
END:VEVENT
BEGIN:VEVENT
DTSTART;TZID=America/New_York:20231122T180000
DTEND;TZID=America/New_York:20231122T200000
DTSTAMP:20260423T064459
CREATED:20231113T211859Z
LAST-MODIFIED:20240126T172641Z
UID:9808-1700676000-1700683200@www.infotetquebec.com
SUMMARY:Montreal / Networking for newcomers
DESCRIPTION:✨ Vous êtes au Québec depuis moins de 24 mois ?\nCe réseautage est fait pour vous ! Rejoignez-nous au réseautage des nouveaux arrivants\nSi vous avez récemment immigré au Québec en tant que travailleur temporaire\, PVTiste\, étudiant international ou résident permanent\, Immigrant Québec et ses partenaires vous invitent à venir rencontrer d’autres personnes venues des quatre coins du monde et qui apprennent à vivre au Canada et plus précisément\, dans “la belle province” !\nVous serez accueilli(e) par une équipe de bénévoles\, fins connaisseurs du Québec à qui vous pourrez poser toutes les questions auxquelles vous n’avez pas encore trouvé de réponse.\nVenez rencontrer des professionnels qui pourront vous orienter et vous accompagner en fonction de vos besoins.\nEchangez vos expériences et développez votre réseau dans un environnement convivial.\nL’entrée du réseautage est gratuite et comprend une boisson et des bouchées offertes.\nInscrivez-vous ici\, c’est gratuit ! https://yurplan.com/events/Reseautage-des-nouveaux-arrivants/112340?ypCheckPresence=1
URL:https://www.infotetquebec.com/en/event/networking-for-newcomers/
LOCATION:Monument national\, 1182 Boul. Saint-Laurent\, Montréal\, Québec\, H2X 2S5\, Canada
CATEGORIES:Networking
END:VEVENT
BEGIN:VEVENT
DTSTART;TZID=America/New_York:20231120T190000
DTEND;TZID=America/New_York:20231120T200000
DTSTAMP:20260423T064459
CREATED:20231013T161348Z
LAST-MODIFIED:20231013T161348Z
UID:9294-1700506800-1700510400@www.infotetquebec.com
SUMMARY:Virtual discussion evenings
DESCRIPTION:You are cordially invited to an evening virtual chat on Quebec culture and values as well as an information session on labour standards\, health and safety. \nEvery Monday and Wednesday from 7 to 8 pm. \nRegistration: scerdeline@complx-immigration.ca \n+ 1 438 368-4613
URL:https://www.infotetquebec.com/en/event/virtual-discussion-evenings-36/
LOCATION:En ligne
CATEGORIES:Information session
ATTACH;FMTTYPE=image/png:https://www.infotetquebec.com/wp-content/uploads/2023/05/COMPLEXE-X_Activites-T-Etrangers-Causeries.png
ORGANIZER;CN="Complexe X Immigration":MAILTO:scerdeline@complx-immigration.ca
END:VEVENT
BEGIN:VEVENT
DTSTART;TZID=America/New_York:20231119T140000
DTEND;TZID=America/New_York:20231119T160000
DTSTAMP:20260423T064459
CREATED:20231114T174012Z
LAST-MODIFIED:20240126T172038Z
UID:9863-1700402400-1700409600@www.infotetquebec.com
SUMMARY:Coaticook / Basketball
DESCRIPTION:
URL:https://www.infotetquebec.com/en/event/coaticook-basketball/
LOCATION:SALLE DE SPORT ACTI-SPORTS\, 497 RUE SAINT JEAN-BAPTISTE\, Coaticook\, Québec\, J1A 2K2\, Canada
CATEGORIES:basketball,Cultural or sports activity
END:VEVENT
BEGIN:VEVENT
DTSTART;TZID=America/New_York:20231118T180000
DTEND;TZID=America/New_York:20231118T200000
DTSTAMP:20260423T064459
CREATED:20231117T183855Z
LAST-MODIFIED:20231117T184536Z
UID:10033-1700330400-1700337600@www.infotetquebec.com
SUMMARY:Online + Baie-Comeau / Workshop : How do you prepare for winter in Quebec?
DESCRIPTION:
URL:https://www.infotetquebec.com/en/event/online-baie-comeau-workshop-how-do-you-prepare-for-winter-in-quebec/
LOCATION:En ligne ou 22 Place de la Salle\, Baie-Comeau\, Québec\, Canada
ATTACH;FMTTYPE=image/png:https://www.infotetquebec.com/wp-content/uploads/2023/11/ACTIVITES-RMM_Bien-se-preparer-lhiver-Quebecois_En.png
ORGANIZER;CN="Regroupement multiculturel Manicouagan":MAILTO:valeriedjapa@vi2vals-immigration.ca
END:VEVENT
BEGIN:VEVENT
DTSTART;TZID=America/New_York:20231117T194500
DTEND;TZID=America/New_York:20231117T210000
DTSTAMP:20260423T064459
CREATED:20231114T184916Z
LAST-MODIFIED:20240126T170510Z
UID:9898-1700250300-1700254800@www.infotetquebec.com
SUMMARY:Coaticook / soccer
DESCRIPTION:
URL:https://www.infotetquebec.com/en/event/coaticook-soccer/
LOCATION:SALLE DE SPORT ACTI-SPORTS\, 497 RUE SAINT JEAN-BAPTISTE\, Coaticook\, Québec\, J1A 2K2\, Canada
CATEGORIES:Cultural or sports activity,soccer
END:VEVENT
BEGIN:VEVENT
DTSTART;TZID=America/New_York:20231117T180000
DTEND;TZID=America/New_York:20231117T210000
DTSTAMP:20260423T064459
CREATED:20231110T144017Z
LAST-MODIFIED:20240126T164251Z
UID:9785-1700244000-1700254800@www.infotetquebec.com
SUMMARY:Drummondville / Game night
DESCRIPTION:
URL:https://www.infotetquebec.com/en/event/drummondville-game-night/
LOCATION:Drummondville\, Québec\, Canada
CATEGORIES:Night
END:VEVENT
BEGIN:VEVENT
DTSTART;TZID=America/New_York:20231115T190000
DTEND;TZID=America/New_York:20231115T200000
DTSTAMP:20260423T064459
CREATED:20231013T154304Z
LAST-MODIFIED:20231013T154304Z
UID:9288-1700074800-1700078400@www.infotetquebec.com
SUMMARY:Virtual discussion evenings
DESCRIPTION:You are cordially invited to an evening virtual chat on Quebec culture and values as well as an information session on labour standards\, health and safety. \nEvery Monday and Wednesday from 7 to 8 pm. \nRegistration: scerdeline@complx-immigration.ca \n+ 1 438 368-4613
URL:https://www.infotetquebec.com/en/event/virtual-discussion-evenings-35/
LOCATION:En ligne
CATEGORIES:Information session
ATTACH;FMTTYPE=image/png:https://www.infotetquebec.com/wp-content/uploads/2023/05/COMPLEXE-X_Activites-T-Etrangers-Causeries.png
END:VEVENT
BEGIN:VEVENT
DTSTART;TZID=America/New_York:20231113T190000
DTEND;TZID=America/New_York:20231113T200000
DTSTAMP:20260423T064459
CREATED:20231013T153902Z
LAST-MODIFIED:20231013T153902Z
UID:9282-1699902000-1699905600@www.infotetquebec.com
SUMMARY:Virtual discussion evenings
DESCRIPTION:You are cordially invited to an evening virtual chat on Quebec culture and values as well as an information session on labour standards\, health and safety. \nEvery Monday and Wednesday from 7 to 8 pm. \nRegistration: scerdeline@complx-immigration.ca \n+ 1 438 368-4613
URL:https://www.infotetquebec.com/en/event/virtual-discussion-evenings-34/
LOCATION:En ligne
CATEGORIES:Information session
ATTACH;FMTTYPE=image/png:https://www.infotetquebec.com/wp-content/uploads/2023/05/COMPLEXE-X_Activites-T-Etrangers-Causeries.png
END:VEVENT
END:VCALENDAR