BEGIN:VCALENDAR
VERSION:2.0
PRODID:-//Infotetquebec - ECPv6.15.20//NONSGML v1.0//EN
CALSCALE:GREGORIAN
METHOD:PUBLISH
X-ORIGINAL-URL:https://www.infotetquebec.com/en/
X-WR-CALDESC:Events for Infotetquebec
REFRESH-INTERVAL;VALUE=DURATION:PT1H
X-Robots-Tag:noindex
X-PUBLISHED-TTL:PT1H
BEGIN:VTIMEZONE
TZID:America/New_York
BEGIN:DAYLIGHT
TZOFFSETFROM:-0500
TZOFFSETTO:-0400
TZNAME:EDT
DTSTART:20220313T070000
END:DAYLIGHT
BEGIN:STANDARD
TZOFFSETFROM:-0400
TZOFFSETTO:-0500
TZNAME:EST
DTSTART:20221106T060000
END:STANDARD
BEGIN:DAYLIGHT
TZOFFSETFROM:-0500
TZOFFSETTO:-0400
TZNAME:EDT
DTSTART:20230312T070000
END:DAYLIGHT
BEGIN:STANDARD
TZOFFSETFROM:-0400
TZOFFSETTO:-0500
TZNAME:EST
DTSTART:20231105T060000
END:STANDARD
BEGIN:DAYLIGHT
TZOFFSETFROM:-0500
TZOFFSETTO:-0400
TZNAME:EDT
DTSTART:20240310T070000
END:DAYLIGHT
BEGIN:STANDARD
TZOFFSETFROM:-0400
TZOFFSETTO:-0500
TZNAME:EST
DTSTART:20241103T060000
END:STANDARD
BEGIN:DAYLIGHT
TZOFFSETFROM:-0500
TZOFFSETTO:-0400
TZNAME:EDT
DTSTART:20250309T070000
END:DAYLIGHT
BEGIN:STANDARD
TZOFFSETFROM:-0400
TZOFFSETTO:-0500
TZNAME:EST
DTSTART:20251102T060000
END:STANDARD
END:VTIMEZONE
BEGIN:VEVENT
DTSTART;TZID=America/New_York:20240210T190000
DTEND;TZID=America/New_York:20240210T220000
DTSTAMP:20260423T014622
CREATED:20240205T180902Z
LAST-MODIFIED:20240205T180902Z
UID:11889-1707591600-1707602400@www.infotetquebec.com
SUMMARY:Val-des-Sources / Soccer
DESCRIPTION:
URL:https://www.infotetquebec.com/en/event/val-des-sources-soccer/
LOCATION:ÉCOLEL’ESCALE – GIMNACIO\, 430\, 5E AV. VAL-DES-SOURCES\, Val-des-Sources\, Québec\, J1T 1X2\, Canada
CATEGORIES:soccer
END:VEVENT
BEGIN:VEVENT
DTSTART;TZID=America/New_York:20240209T194500
DTEND;TZID=America/New_York:20240209T210000
DTSTAMP:20260423T014622
CREATED:20240205T192648Z
LAST-MODIFIED:20240205T200258Z
UID:11998-1707507900-1707512400@www.infotetquebec.com
SUMMARY:Coaticook / Soccer
DESCRIPTION:
URL:https://www.infotetquebec.com/en/event/coaticook-soccer-6/
LOCATION:ACTI-SPORTS CIRC DE COATICOOK\, 497 Rue Saint-Jean-Baptiste\, Coaticook\, Québec\, Canada
CATEGORIES:soccer
END:VEVENT
BEGIN:VEVENT
DTSTART;TZID=America/New_York:20240208T170000
DTEND;TZID=America/New_York:20240208T190000
DTSTAMP:20260423T014622
CREATED:20240207T153717Z
LAST-MODIFIED:20240207T153717Z
UID:12300-1707411600-1707418800@www.infotetquebec.com
SUMMARY:Victoriaville / Tax return information session
DESCRIPTION:
URL:https://www.infotetquebec.com/en/event/victoriaville-tax-return-information-session/
LOCATION:Victoriaville\, QC\, Canada
CATEGORIES:Information session
ORGANIZER;CN="Corporation de d%C3%A9veloppement %C3%A9conomique Victoriaville et sa r%C3%A9gion":MAILTO:vsanchez@cdevr.ca
END:VEVENT
BEGIN:VEVENT
DTSTART;TZID=America/New_York:20240204T130000
DTEND;TZID=America/New_York:20240204T160000
DTSTAMP:20260423T014622
CREATED:20240129T233715Z
LAST-MODIFIED:20240129T234659Z
UID:11714-1707051600-1707062400@www.infotetquebec.com
SUMMARY:Coaticook / Indoor swimming pool
DESCRIPTION:
URL:https://www.infotetquebec.com/en/event/coaticook-indoor-swimming-pool/
LOCATION:Acti-Sports MRC de Coaticook\, 497 Rue Saint-Jean-Baptiste\, Coaticook\, Québec\, Canada
CATEGORIES:Cultural or sports activity
END:VEVENT
BEGIN:VEVENT
DTSTART;TZID=America/New_York:20240204T100000
DTEND;TZID=America/New_York:20240204T120000
DTSTAMP:20260423T014622
CREATED:20240125T184248Z
LAST-MODIFIED:20240125T184248Z
UID:11374-1707040800-1707048000@www.infotetquebec.com
SUMMARY:Saint-Jean-sur-Richelieu / Carnaval Iber-Neige
DESCRIPTION:
URL:https://www.infotetquebec.com/en/event/saint-jean-sur-richelieu-carnaval-iber-neige/
LOCATION:490\, avenue Lareau\, Saint-Jean-sur-Richelieu\, Québec\, Canada
CATEGORIES:Cultural or sports activity
ORGANIZER;CN="L'ANCRE":MAILTO:karladuenas@lancre.ca
END:VEVENT
BEGIN:VEVENT
DTSTART;TZID=America/New_York:20240203T190000
DTEND;TZID=America/New_York:20240203T210000
DTSTAMP:20260423T014622
CREATED:20240129T232445Z
LAST-MODIFIED:20240129T232446Z
UID:11707-1706986800-1706994000@www.infotetquebec.com
SUMMARY:Coaticook / Bowling
DESCRIPTION:
URL:https://www.infotetquebec.com/en/event/coaticook-bowling/
LOCATION:Salon de quilles Le Riviera\, 940 rue Child\, Coaticook\, Québec\, Canada
CATEGORIES:Cultural or sports activity
END:VEVENT
BEGIN:VEVENT
DTSTART;TZID=America/New_York:20240131T193000
DTEND;TZID=America/New_York:20240131T200000
DTSTAMP:20260423T014622
CREATED:20231228T173739Z
LAST-MODIFIED:20240126T210600Z
UID:10931-1706729400-1706731200@www.infotetquebec.com
SUMMARY:Online / Workshop « How taxes work in Canada ? » (agricultural workers)
DESCRIPTION:
URL:https://www.infotetquebec.com/en/event/online-workshop-how-taxes-work-in-canada-agricultural-workers/
LOCATION:En ligne
CATEGORIES:Information session,webinar
ORGANIZER;CN="Int%C3%A9gration comp%C3%A9tences":MAILTO:lilianasalgado@integrationcompetences.ca
END:VEVENT
BEGIN:VEVENT
DTSTART;TZID=America/New_York:20240129T193000
DTEND;TZID=America/New_York:20240129T200000
DTSTAMP:20260423T014622
CREATED:20231219T155706Z
LAST-MODIFIED:20240123T165154Z
UID:10481-1706556600-1706558400@www.infotetquebec.com
SUMMARY:Online / Workshop « How taxes work in Canada ? » (non-agricultural workers)
DESCRIPTION:
URL:https://www.infotetquebec.com/en/event/online-workshop-how-taxes-work-in-canada-non-agricultural-workers/
LOCATION:En ligne
CATEGORIES:Information session,webinar
ORGANIZER;CN="Int%C3%A9gration comp%C3%A9tences":MAILTO:lilianasalgado@integrationcompetences.ca
END:VEVENT
BEGIN:VEVENT
DTSTART;TZID=America/New_York:20240128T170000
DTEND;TZID=America/New_York:20240128T190000
DTSTAMP:20260423T014622
CREATED:20231228T183655Z
LAST-MODIFIED:20231228T183655Z
UID:10956-1706461200-1706468400@www.infotetquebec.com
SUMMARY:Saint-Basile / Indoor soccer
DESCRIPTION:
URL:https://www.infotetquebec.com/en/event/saint-basile-indoor-soccer-7/
LOCATION:Centre communautaire Ernest Papillon de St-Basile\, 100 Rang Ste Angélique\, Saint-Basile\, Québec\, G0A 3G0\, Canada
CATEGORIES:soccer
ATTACH;FMTTYPE=image/jpeg:https://www.infotetquebec.com/wp-content/uploads/2023/11/julien-rocheblave-F3M8FmvWQo4-unsplash-scaled.jpg
END:VEVENT
BEGIN:VEVENT
DTSTART;TZID=America/New_York:20240127T193000
DTEND;TZID=America/New_York:20240127T213000
DTSTAMP:20260423T014622
CREATED:20231120T181712Z
LAST-MODIFIED:20240126T205702Z
UID:10105-1706383800-1706391000@www.infotetquebec.com
SUMMARY:Chambly / Concert Undercover Legends of Rock
DESCRIPTION:
URL:https://www.infotetquebec.com/en/event/chambly-concert-undercover-legends-of-rock/
LOCATION:1625 Bd de Périgny\, Chambly\, Québec\, J3L 1X1\, Canada
ORGANIZER;CN="Int%C3%A9gration comp%C3%A9tences":MAILTO:lilianasalgado@integrationcompetences.ca
END:VEVENT
BEGIN:VEVENT
DTSTART;TZID=America/New_York:20240121T170000
DTEND;TZID=America/New_York:20240121T190000
DTSTAMP:20260423T014622
CREATED:20231228T182507Z
LAST-MODIFIED:20231228T182507Z
UID:10952-1705856400-1705863600@www.infotetquebec.com
SUMMARY:Saint-Basile / Indoor soccer
DESCRIPTION:
URL:https://www.infotetquebec.com/en/event/saint-basile-indoor-soccer-6/
LOCATION:Centre communautaire Ernest Papillon de St-Basile\, 100 Rang Ste Angélique\, Saint-Basile\, Québec\, G0A 3G0\, Canada
CATEGORIES:soccer
ATTACH;FMTTYPE=image/jpeg:https://www.infotetquebec.com/wp-content/uploads/2023/11/julien-rocheblave-F3M8FmvWQo4-unsplash-scaled.jpg
END:VEVENT
BEGIN:VEVENT
DTSTART;TZID=America/New_York:20240114T170000
DTEND;TZID=America/New_York:20240114T190000
DTSTAMP:20260423T014622
CREATED:20231228T181449Z
LAST-MODIFIED:20231228T181449Z
UID:10948-1705251600-1705258800@www.infotetquebec.com
SUMMARY:Saint-Basile / Indoor soccer
DESCRIPTION:
URL:https://www.infotetquebec.com/en/event/saint-basile-indoor-soccer-5/
LOCATION:Centre communautaire Ernest Papillon de St-Basile\, 100 Rang Ste Angélique\, Saint-Basile\, Québec\, G0A 3G0\, Canada
CATEGORIES:soccer
ATTACH;FMTTYPE=image/jpeg:https://www.infotetquebec.com/wp-content/uploads/2023/11/julien-rocheblave-F3M8FmvWQo4-unsplash-scaled.jpg
END:VEVENT
BEGIN:VEVENT
DTSTART;TZID=America/New_York:20240107T170000
DTEND;TZID=America/New_York:20240107T190000
DTSTAMP:20260423T014622
CREATED:20231228T180815Z
LAST-MODIFIED:20231228T180815Z
UID:10944-1704646800-1704654000@www.infotetquebec.com
SUMMARY:Saint-Basile / Indoor soccer
DESCRIPTION:
URL:https://www.infotetquebec.com/en/event/saint-basile-indoor-soccer-4/
LOCATION:Centre communautaire Ernest Papillon de St-Basile\, 100 Rang Ste Angélique\, Saint-Basile\, Québec\, G0A 3G0\, Canada
CATEGORIES:soccer
ATTACH;FMTTYPE=image/jpeg:https://www.infotetquebec.com/wp-content/uploads/2023/11/julien-rocheblave-F3M8FmvWQo4-unsplash-scaled.jpg
END:VEVENT
BEGIN:VEVENT
DTSTART;TZID=America/New_York:20240104T193000
DTEND;TZID=America/New_York:20240104T203000
DTSTAMP:20260423T014622
CREATED:20231130T175744Z
LAST-MODIFIED:20231130T175744Z
UID:10366-1704396600-1704400200@www.infotetquebec.com
SUMMARY:Online / Rendezvous with health: New Year's resolutions (Spanish)
DESCRIPTION:
URL:https://www.infotetquebec.com/en/event/online-rendezvous-with-health-new-years-resolutions-spanish/
LOCATION:En ligne
CATEGORIES:Information session,webinar
ATTACH;FMTTYPE=image/jpeg:https://www.infotetquebec.com/wp-content/uploads/2023/11/Cita_salud.jpg
END:VEVENT
BEGIN:VEVENT
DTSTART;TZID=America/New_York:20231231T110000
DTEND;TZID=America/New_York:20231231T130000
DTSTAMP:20260423T014622
CREATED:20240126T204655Z
LAST-MODIFIED:20240126T204656Z
UID:11666-1704020400-1704027600@www.infotetquebec.com
SUMMARY:Saint-Basile / Indoor soccer
DESCRIPTION:
URL:https://www.infotetquebec.com/en/event/saint-basile-indoor-soccer-8/
LOCATION:Centre communautaire Ernest Papillon de St-Basile\, 100 Rang Ste Angélique\, Saint-Basile\, Québec\, G0A 3G0\, Canada
CATEGORIES:soccer
END:VEVENT
BEGIN:VEVENT
DTSTART;TZID=America/New_York:20231228T193000
DTEND;TZID=America/New_York:20231228T203000
DTSTAMP:20260423T014622
CREATED:20231130T175401Z
LAST-MODIFIED:20231130T175401Z
UID:10362-1703791800-1703795400@www.infotetquebec.com
SUMMARY:Online / Rendezvous with health: My emotions and challenges for 2024 (Spanish)
DESCRIPTION:
URL:https://www.infotetquebec.com/en/event/online-rendezvous-with-health-my-emotions-and-challenges-for-2024-spanish/
LOCATION:En ligne
CATEGORIES:Information session,webinar
ATTACH;FMTTYPE=image/jpeg:https://www.infotetquebec.com/wp-content/uploads/2023/11/Cita_salud.jpg
END:VEVENT
BEGIN:VEVENT
DTSTART;TZID=America/New_York:20231224T110000
DTEND;TZID=America/New_York:20231224T130000
DTSTAMP:20260423T014622
CREATED:20231130T193340Z
LAST-MODIFIED:20240126T203922Z
UID:10383-1703415600-1703422800@www.infotetquebec.com
SUMMARY:Saint-Basile / Indoor soccer
DESCRIPTION:
URL:https://www.infotetquebec.com/en/event/saint-basile-indoor-soccer-3/
LOCATION:Centre communautaire Ernest Papillon de St-Basile\, 100 Rang Ste Angélique\, Saint-Basile\, Québec\, G0A 3G0\, Canada
CATEGORIES:soccer
END:VEVENT
BEGIN:VEVENT
DTSTART;TZID=America/New_York:20231222T194500
DTEND;TZID=America/New_York:20231222T210000
DTSTAMP:20260423T014622
CREATED:20231114T192946Z
LAST-MODIFIED:20240126T203341Z
UID:9925-1703274300-1703278800@www.infotetquebec.com
SUMMARY:Coaticook / Soccer
DESCRIPTION:
URL:https://www.infotetquebec.com/en/event/coaticook-soccer-5/
LOCATION:Gymnase Acti-sports\, 497 rue Saint-Jean-Baptiste\, Coaticook\, Québec\, J1A 2K2\, Canada
CATEGORIES:soccer
END:VEVENT
BEGIN:VEVENT
DTSTART;TZID=America/New_York:20231221T193000
DTEND;TZID=America/New_York:20231221T210000
DTSTAMP:20260423T014622
CREATED:20231130T175028Z
LAST-MODIFIED:20231130T175028Z
UID:10358-1703187000-1703192400@www.infotetquebec.com
SUMMARY:Online / Rendezvous with health: Christmas away from home (Spanish)
DESCRIPTION:
URL:https://www.infotetquebec.com/en/event/online-rendezvous-with-health-christmas-away-from-home-spanish/
LOCATION:En ligne
CATEGORIES:Information session,webinar
ATTACH;FMTTYPE=image/jpeg:https://www.infotetquebec.com/wp-content/uploads/2023/11/Cita_salud.jpg
END:VEVENT
BEGIN:VEVENT
DTSTART;TZID=America/New_York:20231217T170000
DTEND;TZID=America/New_York:20231217T190000
DTSTAMP:20260423T014622
CREATED:20231130T193004Z
LAST-MODIFIED:20231130T193004Z
UID:10379-1702832400-1702839600@www.infotetquebec.com
SUMMARY:Saint-Basile / Indoor soccer
DESCRIPTION:
URL:https://www.infotetquebec.com/en/event/saint-basile-indoor-soccer-2/
LOCATION:Centre communautaire Ernest Papillon de St-Basile\, 100 Rang Ste Angélique\, Saint-Basile\, Québec\, G0A 3G0\, Canada
CATEGORIES:soccer
ATTACH;FMTTYPE=image/jpeg:https://www.infotetquebec.com/wp-content/uploads/2023/11/julien-rocheblave-F3M8FmvWQo4-unsplash-scaled.jpg
END:VEVENT
BEGIN:VEVENT
DTSTART;TZID=America/New_York:20231217T140000
DTEND;TZID=America/New_York:20231217T160000
DTSTAMP:20260423T014622
CREATED:20231114T182335Z
LAST-MODIFIED:20240126T200904Z
UID:9890-1702821600-1702828800@www.infotetquebec.com
SUMMARY:Coaticook / Basketball
DESCRIPTION:
URL:https://www.infotetquebec.com/en/event/coaticook-basketball-5/
LOCATION:Gymnase Acti-sports\, 497 rue Saint-Jean-Baptiste\, Coaticook\, Québec\, J1A 2K2\, Canada
CATEGORIES:basketball
END:VEVENT
BEGIN:VEVENT
DTSTART;TZID=America/New_York:20231216T170000
DTEND;TZID=America/New_York:20231216T200000
DTSTAMP:20260423T014622
CREATED:20231122T142432Z
LAST-MODIFIED:20240126T200300Z
UID:10131-1702746000-1702756800@www.infotetquebec.com
SUMMARY:Saint-Jean-sur-Richelieu / Festive evening 🎊
DESCRIPTION:
URL:https://www.infotetquebec.com/en/event/saint-jean-sur-richelieu-festive-evening-%f0%9f%8e%8a/
LOCATION:Pavillon Gérard Morin\, 41\, rue Arthur-Riendeau\, Saint-Jean-sur-Richelieu\, Québec\, J2W 2A5\, Canada
CATEGORIES:Night
ORGANIZER;CN="L'ANCRE":MAILTO:karladuenas@lancre.ca
END:VEVENT
BEGIN:VEVENT
DTSTART;TZID=America/New_York:20231216T130000
DTEND;TZID=America/New_York:20231216T150000
DTSTAMP:20260423T014622
CREATED:20231128T205017Z
LAST-MODIFIED:20231128T205017Z
UID:10280-1702731600-1702738800@www.infotetquebec.com
SUMMARY:Saint-Ubalde / Ice skating ❄️
DESCRIPTION:
URL:https://www.infotetquebec.com/en/event/saint-ubalde-ice-skating-%e2%9d%84%ef%b8%8f/
LOCATION:Aréna de Saint-Ubalde\, 400 Rue de l'Aréna\, Saint-Ubalde\, Québec\, G0A 4L0\, Canada
ATTACH;FMTTYPE=image/jpeg:https://www.infotetquebec.com/wp-content/uploads/2023/11/marcos-paulo-prado-_ua-cQ1UeS8-unsplash-scaled.jpg
END:VEVENT
BEGIN:VEVENT
DTSTART;TZID=America/New_York:20231215T194500
DTEND;TZID=America/New_York:20231215T210000
DTSTAMP:20260423T014622
CREATED:20231114T192604Z
LAST-MODIFIED:20240126T195634Z
UID:9919-1702669500-1702674000@www.infotetquebec.com
SUMMARY:Coaticook / soccer
DESCRIPTION:
URL:https://www.infotetquebec.com/en/event/coaticook-soccer-4/
LOCATION:Gymnase Acti-sports\, 497 rue Saint-Jean-Baptiste\, Coaticook\, Québec\, J1A 2K2\, Canada
CATEGORIES:soccer
END:VEVENT
BEGIN:VEVENT
DTSTART;TZID=America/New_York:20231215T170000
DTEND;TZID=America/New_York:20231215T233000
DTSTAMP:20260423T014622
CREATED:20231123T204236Z
LAST-MODIFIED:20240126T193214Z
UID:10243-1702659600-1702683000@www.infotetquebec.com
SUMMARY:Victoriaville / Christmas Night
DESCRIPTION:
URL:https://www.infotetquebec.com/en/event/victoriaville-christmas-night/
LOCATION:Hotel Le Victorin\, 19 Boulevard Arthabaska Est\, Victoriaville\, Québec\, G6T 0S4\, Canada
CATEGORIES:Night
ORGANIZER;CN="Corporation de d%C3%A9veloppement %C3%A9conomique Victoriaville et sa r%C3%A9gion":MAILTO:vsanchez@cdevr.ca
END:VEVENT
BEGIN:VEVENT
DTSTART;TZID=America/New_York:20231214T193000
DTEND;TZID=America/New_York:20231214T203000
DTSTAMP:20260423T014622
CREATED:20231130T174233Z
LAST-MODIFIED:20231130T174233Z
UID:10354-1702582200-1702585800@www.infotetquebec.com
SUMMARY:Online / Rendezvous with health: Closing cycles and opening new paths (Spanish)
DESCRIPTION:
URL:https://www.infotetquebec.com/en/event/online-rendezvous-with-health-closing-cycles-and-opening-new-paths-spanish/
LOCATION:En ligne
CATEGORIES:Information session,webinar
ATTACH;FMTTYPE=image/jpeg:https://www.infotetquebec.com/wp-content/uploads/2023/11/Cita_salud.jpg
END:VEVENT
BEGIN:VEVENT
DTSTART;TZID=America/New_York:20231210T170000
DTEND;TZID=America/New_York:20231210T190000
DTSTAMP:20260423T014622
CREATED:20231130T192555Z
LAST-MODIFIED:20231130T192555Z
UID:10375-1702227600-1702234800@www.infotetquebec.com
SUMMARY:Saint-Basile / Indoor soccer
DESCRIPTION:
URL:https://www.infotetquebec.com/en/event/saint-basile-indoor-soccer/
LOCATION:Centre communautaire Ernest Papillon de St-Basile\, 100 Rang Ste Angélique\, Saint-Basile\, Québec\, G0A 3G0\, Canada
CATEGORIES:soccer
ATTACH;FMTTYPE=image/jpeg:https://www.infotetquebec.com/wp-content/uploads/2023/11/julien-rocheblave-F3M8FmvWQo4-unsplash-scaled.jpg
END:VEVENT
BEGIN:VEVENT
DTSTART;TZID=America/New_York:20231210T140000
DTEND;TZID=America/New_York:20231210T160000
DTSTAMP:20260423T014622
CREATED:20231114T181247Z
LAST-MODIFIED:20240126T191851Z
UID:9885-1702216800-1702224000@www.infotetquebec.com
SUMMARY:Coaticook / Basketball
DESCRIPTION:
URL:https://www.infotetquebec.com/en/event/coaticook-basketball-4/
LOCATION:Gymnase Acti-sports\, 497 rue Saint-Jean-Baptiste\, Coaticook\, Québec\, J1A 2K2\, Canada
CATEGORIES:basketball
END:VEVENT
BEGIN:VEVENT
DTSTART;TZID=America/New_York:20231209T150000
DTEND;TZID=America/New_York:20231209T200000
DTSTAMP:20260423T014622
CREATED:20231025T173715Z
LAST-MODIFIED:20240126T191102Z
UID:9648-1702134000-1702152000@www.infotetquebec.com
SUMMARY:Drummondville / Visit to the illuminated village
DESCRIPTION:
URL:https://www.infotetquebec.com/en/event/drummondville-visit-of-the-illuminated-village/
LOCATION:Stationnement Maxi Granby (lieu de départ)\, 370 rue Saint-Jacques\, Granby\, Québec\, Canada
CATEGORIES:Cultural or sports activity
ORGANIZER;CN="Granby Industriel":MAILTO:ga.brand@granby-industriel.com
END:VEVENT
BEGIN:VEVENT
DTSTART;TZID=America/New_York:20231208T194500
DTEND;TZID=America/New_York:20231208T210000
DTSTAMP:20260423T014622
CREATED:20231114T191839Z
LAST-MODIFIED:20240126T190216Z
UID:9914-1702064700-1702069200@www.infotetquebec.com
SUMMARY:Coaticook / soccer
DESCRIPTION:
URL:https://www.infotetquebec.com/en/event/coaticook-soccer-3/
LOCATION:SALLE DE SPORT ACTI-SPORTS\, 497 RUE SAINT JEAN-BAPTISTE\, Coaticook\, Québec\, J1A 2K2\, Canada
CATEGORIES:soccer
END:VEVENT
END:VCALENDAR