BEGIN:VCALENDAR
VERSION:2.0
PRODID:-//Infotetquebec - ECPv6.15.20//NONSGML v1.0//EN
CALSCALE:GREGORIAN
METHOD:PUBLISH
X-WR-CALNAME:Infotetquebec
X-ORIGINAL-URL:https://www.infotetquebec.com/en/
X-WR-CALDESC:Events for Infotetquebec
REFRESH-INTERVAL;VALUE=DURATION:PT1H
X-Robots-Tag:noindex
X-PUBLISHED-TTL:PT1H
BEGIN:VTIMEZONE
TZID:America/New_York
BEGIN:DAYLIGHT
TZOFFSETFROM:-0500
TZOFFSETTO:-0400
TZNAME:EDT
DTSTART:20220313T070000
END:DAYLIGHT
BEGIN:STANDARD
TZOFFSETFROM:-0400
TZOFFSETTO:-0500
TZNAME:EST
DTSTART:20221106T060000
END:STANDARD
BEGIN:DAYLIGHT
TZOFFSETFROM:-0500
TZOFFSETTO:-0400
TZNAME:EDT
DTSTART:20230312T070000
END:DAYLIGHT
BEGIN:STANDARD
TZOFFSETFROM:-0400
TZOFFSETTO:-0500
TZNAME:EST
DTSTART:20231105T060000
END:STANDARD
BEGIN:DAYLIGHT
TZOFFSETFROM:-0500
TZOFFSETTO:-0400
TZNAME:EDT
DTSTART:20240310T070000
END:DAYLIGHT
BEGIN:STANDARD
TZOFFSETFROM:-0400
TZOFFSETTO:-0500
TZNAME:EST
DTSTART:20241103T060000
END:STANDARD
END:VTIMEZONE
BEGIN:VEVENT
DTSTART;TZID=America/New_York:20230814T190000
DTEND;TZID=America/New_York:20230814T200000
DTSTAMP:20260424T052325
CREATED:20230808T191439Z
LAST-MODIFIED:20230808T191439Z
UID:8139-1692039600-1692043200@www.infotetquebec.com
SUMMARY:Virtual discussion evenings
DESCRIPTION:You are cordially invited to an evening virtual chat on Quebec culture and values as well as an information session on labour standards\, health and safety. \nEvery Monday and Wednesday from 7 to 8 pm. \nRegistration: scerdeline@complx-immigration.ca \n+ 1 438 368-4613
URL:https://www.infotetquebec.com/en/event/virtual-discussion-evenings-11/
CATEGORIES:Information session
ATTACH;FMTTYPE=image/png:https://www.infotetquebec.com/wp-content/uploads/2023/05/COMPLEXE-X_Activites-T-Etrangers-Causeries.png
ORGANIZER;CN="Complexe X Immigration":MAILTO:scerdeline@complx-immigration.ca
END:VEVENT
BEGIN:VEVENT
DTSTART;TZID=America/New_York:20230815T140000
DTEND;TZID=America/New_York:20230815T180000
DTSTAMP:20260424T052325
CREATED:20230811T143351Z
LAST-MODIFIED:20230811T143351Z
UID:8508-1692108000-1692122400@www.infotetquebec.com
SUMMARY:Montreal / Legal Information Clinic
DESCRIPTION:The Immigrant Workers Centre holds legal information clinics every Tuesday and Thursday in Montreal between 2:00 and 6:00 p.m. \nMake an appointment or drop in: \ninfo@iwc-cti.ca\,\nprivate message on the Iwc-Cti Facebook page\nWhatsApp: +1 438 507 2566\nleave a message at 514 242-2111\nIndividual support\, group workshops on labour standards or health and safety\, and personalized coaching.
URL:https://www.infotetquebec.com/en/event/montreal-legal-information-clinic/
LOCATION:4755\, Van Horne Av.\, Office/Bureau/Oficina #110 Montréal\, QC H3W 1H8\, Canada
CATEGORIES:Information session
ATTACH;FMTTYPE=image/png:https://www.infotetquebec.com/wp-content/uploads/2023/03/IWC-CTI_logo-fr-web-retina.png
END:VEVENT
BEGIN:VEVENT
DTSTART;TZID=America/New_York:20230816T140000
DTEND;TZID=America/New_York:20230816T180000
DTSTAMP:20260424T052325
CREATED:20230811T144002Z
LAST-MODIFIED:20230811T144002Z
UID:8512-1692194400-1692208800@www.infotetquebec.com
SUMMARY:Montreal / Legal Information Clinic
DESCRIPTION:The Immigrant Workers Centre holds legal information clinics every Tuesday and Thursday in Montreal between 2:00 and 6:00 p.m. \nMake an appointment or drop in: \ninfo@iwc-cti.ca\,\nprivate message on the Iwc-Cti Facebook page\nWhatsApp: +1 438 507 2566\nleave a message at 514 242-2111\nIndividual support\, group workshops on labour standards or health and safety\, and personalized coaching.
URL:https://www.infotetquebec.com/en/event/montreal-legal-information-clinic-2/
LOCATION:4755\, Van Horne Av.\, Office/Bureau/Oficina #110 Montréal\, QC H3W 1H8\, Canada
CATEGORIES:Information session
ATTACH;FMTTYPE=image/png:https://www.infotetquebec.com/wp-content/uploads/2023/08/IWC-CTI_logo-fr-web-retina.png
END:VEVENT
BEGIN:VEVENT
DTSTART;TZID=America/New_York:20230816T190000
DTEND;TZID=America/New_York:20230816T200000
DTSTAMP:20260424T052325
CREATED:20230808T191940Z
LAST-MODIFIED:20230808T191940Z
UID:8145-1692212400-1692216000@www.infotetquebec.com
SUMMARY:Virtual discussion evenings
DESCRIPTION:You are cordially invited to an evening virtual chat on Quebec culture and values as well as an information session on labour standards\, health and safety. \nEvery Monday and Wednesday from 7 to 8 pm. \nRegistration: scerdeline@complx-immigration.ca \n+ 1 438 368-4613
URL:https://www.infotetquebec.com/en/event/virtual-discussion-evenings-12/
CATEGORIES:Information session
ATTACH;FMTTYPE=image/png:https://www.infotetquebec.com/wp-content/uploads/2023/05/COMPLEXE-X_Activites-T-Etrangers-Causeries.png
ORGANIZER;CN="Complexe X Immigration":MAILTO:scerdeline@complx-immigration.ca
END:VEVENT
BEGIN:VEVENT
DTSTART;TZID=America/New_York:20230817T140000
DTEND;TZID=America/New_York:20230817T180000
DTSTAMP:20260424T052325
CREATED:20230811T144424Z
LAST-MODIFIED:20230811T144424Z
UID:8516-1692280800-1692295200@www.infotetquebec.com
SUMMARY:Montreal / Legal Information Clinic
DESCRIPTION:The Immigrant Workers Centre holds legal information clinics every Tuesday and Thursday in Montreal between 2:00 and 6:00 p.m. \nMake an appointment or drop in: \ninfo@iwc-cti.ca\,\nprivate message on the Iwc-Cti Facebook page\nWhatsApp: +1 438 507 2566\nleave a message at 514 242-2111\nIndividual support\, group workshops on labour standards or health and safety\, and personalized coaching.
URL:https://www.infotetquebec.com/en/event/montreal-legal-information-clinic-3/
LOCATION:4755\, Van Horne Av.\, Office/Bureau/Oficina #110 Montréal\, QC H3W 1H8\, Canada
CATEGORIES:Information session
ATTACH;FMTTYPE=image/png:https://www.infotetquebec.com/wp-content/uploads/2023/08/IWC-CTI_logo-fr-web-retina.png
END:VEVENT
BEGIN:VEVENT
DTSTART;TZID=America/New_York:20230818T180000
DTEND;TZID=America/New_York:20230818T200000
DTSTAMP:20260424T052325
CREATED:20230808T180154Z
LAST-MODIFIED:20230808T180154Z
UID:8094-1692381600-1692388800@www.infotetquebec.com
SUMMARY:Saint-Marc-des-Carrières / Soccer game
DESCRIPTION:Come play soccer at the Saint-Marc-des-Carrières field (1600 Bona-Dussault Boulevard) every\nFridays (6 p.m.)!
URL:https://www.infotetquebec.com/en/event/saint-marc-des-carrieres-soccer-game-2/
LOCATION:1600 boul. Bona-Dussault\, Saint-Marc-des-Carrières\, Québec\, G0A 4B0\, Canada
CATEGORIES:soccer
ATTACH;FMTTYPE=image/jpeg:https://www.infotetquebec.com/wp-content/uploads/2023/05/chaos-soccer-gear-Cjfl8r_eYxY-unsplash.jpg
END:VEVENT
BEGIN:VEVENT
DTSTART;TZID=America/New_York:20230818T200000
DTEND;TZID=America/New_York:20230818T220000
DTSTAMP:20260424T052325
CREATED:20230810T202849Z
LAST-MODIFIED:20230810T202849Z
UID:8438-1692388800-1692396000@www.infotetquebec.com
SUMMARY:Coaticook / Soccer game
DESCRIPTION:Every Friday from 8pm to 10pm. \nCome and play with us! \nReservations: WhatsApp +1 873 662-2630
URL:https://www.infotetquebec.com/en/event/coaticook-soccer-game-6/
LOCATION:PARC LAURENCE (TERRAIN 1)\, RUE LAURENCE\, Coaticook\, Québec\, Canada
CATEGORIES:soccer
ATTACH;FMTTYPE=image/jpeg:https://www.infotetquebec.com/wp-content/uploads/2023/08/EOS-Match-Football-Coaticook-Es.jpg
END:VEVENT
BEGIN:VEVENT
DTSTART;VALUE=DATE:20230819
DTEND;VALUE=DATE:20230820
DTSTAMP:20260424T052325
CREATED:20230428T161942Z
LAST-MODIFIED:20230714T180726Z
UID:6536-1692403200-1692489599@www.infotetquebec.com
SUMMARY:St-Raymond / Petanque tournament and BBQ
DESCRIPTION:Petanque tournament and BBQ in St-Raymond
URL:https://www.infotetquebec.com/en/event/st-raymond-petanque-tournament-and-bbq/
LOCATION:Saint-Raymond\, Portneuf\, Québec\, Canada
CATEGORIES:Cultural or sports activity
ATTACH;FMTTYPE=image/jpeg:https://www.infotetquebec.com/wp-content/uploads/2023/04/michal-parzuchowski-LQsJUtKmPlg-unsplash.jpg
END:VEVENT
BEGIN:VEVENT
DTSTART;VALUE=DATE:20230819
DTEND;VALUE=DATE:20230821
DTSTAMP:20260424T052325
CREATED:20230809T160039Z
LAST-MODIFIED:20230809T160039Z
UID:8269-1692403200-1692575999@www.infotetquebec.com
SUMMARY:Grenville-sur-la-Rouge / Rafting
DESCRIPTION:Rafting at Rafting Nouveau Monde in Grenville-sur-la Rouge \nInformation: Gabriel Garcia\, + 1 450 612-2462
URL:https://www.infotetquebec.com/en/event/grenville-sur-la-rouge-rafting/
LOCATION:Camping Nouveau Monde\, 25 Chem. Des Sept Chutes\, Grenville-sur-la-Rouge\, Québec\, J0V 1B0\, Canada
CATEGORIES:Cultural or sports activity
ATTACH;FMTTYPE=image/jpeg:https://www.infotetquebec.com/wp-content/uploads/2023/08/angga-indratama-LspBqN9gzAg-unsplash-scaled.jpg
ORGANIZER;CN="Centre pour l'immigration en r%C3%A9gion (CIR)":MAILTO:centrepourlimmigrationenregion.org
END:VEVENT
BEGIN:VEVENT
DTSTART;TZID=America/New_York:20230819T100000
DTEND;TZID=America/New_York:20230819T120000
DTSTAMP:20260424T052325
CREATED:20230811T123742Z
LAST-MODIFIED:20230811T123742Z
UID:8475-1692439200-1692446400@www.infotetquebec.com
SUMMARY:Sherbrooke / Soccer game
DESCRIPTION:Every Saturday from 10am to 12pm. \nCome and play soccer with us! \nReservations: +1 873 662-2630.
URL:https://www.infotetquebec.com/en/event/sherbrooke-soccer-game-2/
LOCATION:Parc Jean-Claude-Quirion\, Rue Chalifoux\, Sherbrooke\, Québec\, J1G 152\, Canada
CATEGORIES:soccer
ATTACH;FMTTYPE=image/jpeg:https://www.infotetquebec.com/wp-content/uploads/2023/08/EOS-Soccer-Sherbrooke-Fr.jpg
END:VEVENT
BEGIN:VEVENT
DTSTART;TZID=America/New_York:20230819T110000
DTEND;TZID=America/New_York:20230819T160000
DTSTAMP:20260424T052326
CREATED:20230802T200755Z
LAST-MODIFIED:20230808T150211Z
UID:7876-1692442800-1692460800@www.infotetquebec.com
SUMMARY:Berthier-sur-Mer / Soccer party
DESCRIPTION:Join the Fête du soccer organized by the Corporation de développement économique de la MRC de Montmagny (CDEMM)! \nAugust 19\, 2023 from 11 a.m. to 4 p.m. at Centre des Loisirs\, 24 Bd Blais E\, Berthier-sur-Mer\, QC G0R 1E0\, Canada. \nSoccer\, corn dinner\, bike donations from Cyclo Nord-Sud
URL:https://www.infotetquebec.com/en/event/berthier-sur-mer-soccer-party/
LOCATION:24 Bd Blais E\, Berthier-sur-Mer\, Québec\, G0R 1E0\, Canada
CATEGORIES:soccer
ATTACH;FMTTYPE=application/pdf:https://www.infotetquebec.com/wp-content/uploads/2023/08/Fete-du-soccer-19-aout.pdf
ORGANIZER;CN="Corporation de d%C3%A9veloppement %C3%A9conomique de la MRC de Montmagny (CDEMM)":MAILTO:abrebion@cgocable.ca
END:VEVENT
BEGIN:VEVENT
DTSTART;TZID=America/New_York:20230820T100000
DTEND;TZID=America/New_York:20230820T170000
DTSTAMP:20260424T052326
CREATED:20230808T144746Z
LAST-MODIFIED:20230808T144746Z
UID:8003-1692525600-1692550800@www.infotetquebec.com
SUMMARY:Drummondville / Visit the Village québécois d'Antan
DESCRIPTION:Visit the Village québécois d’Antan \n>> Date: Sunday\, August 20\, 2023 at 10:00 a.m. \n>> Cost: free for foreign workers\, international students and their families. \n>> Registration required : https://wkf.ms/43QAAsv \n>> Registration deadline: August 13\, 2023 at noon (don’t delay\, there are only 80 places!). \n>> Notes : Make sure you’ve received your registration confirmation email to be on site on August 20.\nYou’re welcome to bring your own lunch: picnic areas are set up at various points on the site.
URL:https://www.infotetquebec.com/en/event/drummondville-visit-the-village-quebecois-dantan/
LOCATION:Village québécois d’antan\, 1425\, rue Montplaisir\, Drummondville\, Québec\, J2C 0M2\, Canada
ATTACH;FMTTYPE=image/jpeg:https://www.infotetquebec.com/wp-content/uploads/2023/08/village-quebecois.jpg
END:VEVENT
BEGIN:VEVENT
DTSTART;TZID=America/New_York:20230820T110000
DTEND;TZID=America/New_York:20230820T130000
DTSTAMP:20260424T052326
CREATED:20230808T160751Z
LAST-MODIFIED:20230808T160751Z
UID:8044-1692529200-1692536400@www.infotetquebec.com
SUMMARY:Saint-Basile / Soccer game
DESCRIPTION:Come and play soccer at the Saint-Basile field (10 Place de l’Église) every Sunday in the late\nmorning (10:30 am)!
URL:https://www.infotetquebec.com/en/event/saint-basile-soccer-game-7/
LOCATION:10\, place de l’Église\, Saint-Basile\, Portneuf\, Québec\, Canada
CATEGORIES:soccer
ATTACH;FMTTYPE=image/jpeg:https://www.infotetquebec.com/wp-content/uploads/2023/04/max-zindel-uPCTGBSrfsI-unsplash-2.jpg
END:VEVENT
BEGIN:VEVENT
DTSTART;TZID=America/New_York:20230820T140000
DTEND;TZID=America/New_York:20230820T170000
DTSTAMP:20260424T052326
CREATED:20230519T185753Z
LAST-MODIFIED:20230519T190141Z
UID:7278-1692540000-1692550800@www.infotetquebec.com
SUMMARY:Saint-Hyacinthe / Temporary Agricultural Workers Day
DESCRIPTION:
URL:https://www.infotetquebec.com/en/event/temporary-agricultural-workers-day/
LOCATION:Cathédrale de Saint-Hyacinthe\, 1900 rue Girouard Ouest\, Saint-Hyacinthe\, Québec\, J2S 7B4\, Canada
CATEGORIES:mess
ATTACH;FMTTYPE=image/jpeg:https://www.infotetquebec.com/wp-content/uploads/2023/05/Diocese_saint-Hyacitne.jpg
END:VEVENT
BEGIN:VEVENT
DTSTART;TZID=America/New_York:20230820T160000
DTEND;TZID=America/New_York:20230820T180000
DTSTAMP:20260424T052326
CREATED:20230808T162737Z
LAST-MODIFIED:20230808T162737Z
UID:8068-1692547200-1692554400@www.infotetquebec.com
SUMMARY:Portneuf / Soccer game
DESCRIPTION:Come play soccer at the Portneuf field (100 Paquin Street) every Sunday afternoon\n(16 h)!
URL:https://www.infotetquebec.com/en/event/portneuf-soccer-game-10/
LOCATION:100\, rue Paquin\, Portneuf\, Québec\, Canada
CATEGORIES:soccer
ATTACH;FMTTYPE=image/jpeg:https://www.infotetquebec.com/wp-content/uploads/2023/05/chaos-soccer-gear-Cjfl8r_eYxY-unsplash.jpg
END:VEVENT
BEGIN:VEVENT
DTSTART;TZID=America/New_York:20230821T190000
DTEND;TZID=America/New_York:20230821T200000
DTSTAMP:20260424T052326
CREATED:20230808T192536Z
LAST-MODIFIED:20230808T192536Z
UID:8151-1692644400-1692648000@www.infotetquebec.com
SUMMARY:Virtual discussion evenings
DESCRIPTION:You are cordially invited to an evening virtual chat on Quebec culture and values as well as an information session on labour standards\, health and safety. \nEvery Monday and Wednesday from 7 to 8 pm. \nRegistration: scerdeline@complx-immigration.ca \n+ 1 438 368-4613
URL:https://www.infotetquebec.com/en/event/virtual-discussion-evenings-13/
CATEGORIES:Information session
ATTACH;FMTTYPE=image/png:https://www.infotetquebec.com/wp-content/uploads/2023/05/COMPLEXE-X_Activites-T-Etrangers-Causeries.png
ORGANIZER;CN="Complexe X Immigration":MAILTO:scerdeline@complx-immigration.ca
END:VEVENT
BEGIN:VEVENT
DTSTART;TZID=America/New_York:20230822T140000
DTEND;TZID=America/New_York:20230822T180000
DTSTAMP:20260424T052326
CREATED:20230811T144808Z
LAST-MODIFIED:20230811T144808Z
UID:8520-1692712800-1692727200@www.infotetquebec.com
SUMMARY:Montreal / Legal Information Clinic
DESCRIPTION:The Immigrant Workers Centre holds legal information clinics every Tuesday and Thursday in Montreal between 2:00 and 6:00 p.m. \nMake an appointment or drop in: \ninfo@iwc-cti.ca\,\nprivate message on the Iwc-Cti Facebook page\nWhatsApp: +1 438 507 2566\nleave a message at 514 242-2111\nIndividual support\, group workshops on labour standards or health and safety\, and personalized coaching.
URL:https://www.infotetquebec.com/en/event/montreal-legal-information-clinic-4/
LOCATION:4755\, Van Horne Av.\, Office/Bureau/Oficina #110 Montréal\, QC H3W 1H8\, Canada
CATEGORIES:Information session
ATTACH;FMTTYPE=image/png:https://www.infotetquebec.com/wp-content/uploads/2023/08/IWC-CTI_logo-fr-web-retina.png
END:VEVENT
BEGIN:VEVENT
DTSTART;TZID=America/New_York:20230823T140000
DTEND;TZID=America/New_York:20230823T180000
DTSTAMP:20260424T052326
CREATED:20230811T145935Z
LAST-MODIFIED:20230811T145935Z
UID:8524-1692799200-1692813600@www.infotetquebec.com
SUMMARY:Montreal / Legal Information Clinic
DESCRIPTION:The Immigrant Workers Centre holds legal information clinics every Tuesday and Thursday in Montreal between 2:00 and 6:00 p.m. \nMake an appointment or drop in: \ninfo@iwc-cti.ca\,\nprivate message on the Iwc-Cti Facebook page\nWhatsApp: +1 438 507 2566\nleave a message at 514 242-2111\nIndividual support\, group workshops on labour standards or health and safety\, and personalized coaching.
URL:https://www.infotetquebec.com/en/event/montreal-legal-information-clinic-5/
LOCATION:4755\, Van Horne Av.\, Office/Bureau/Oficina #110 Montréal\, QC H3W 1H8\, Canada
CATEGORIES:Information session
ATTACH;FMTTYPE=image/png:https://www.infotetquebec.com/wp-content/uploads/2023/08/IWC-CTI_logo-fr-web-retina.png
END:VEVENT
BEGIN:VEVENT
DTSTART;TZID=America/New_York:20230823T190000
DTEND;TZID=America/New_York:20230823T200000
DTSTAMP:20260424T052326
CREATED:20230808T192924Z
LAST-MODIFIED:20230808T192924Z
UID:8157-1692817200-1692820800@www.infotetquebec.com
SUMMARY:Virtual discussion evenings
DESCRIPTION:You are cordially invited to an evening virtual chat on Quebec culture and values as well as an information session on labour standards\, health and safety. \nEvery Monday and Wednesday from 7 to 8 pm. \nRegistration: scerdeline@complx-immigration.ca \n+ 1 438 368-4613
URL:https://www.infotetquebec.com/en/event/virtual-discussion-evenings-14/
CATEGORIES:Information session
ATTACH;FMTTYPE=image/png:https://www.infotetquebec.com/wp-content/uploads/2023/05/COMPLEXE-X_Activites-T-Etrangers-Causeries.png
ORGANIZER;CN="Complexe X Immigration":MAILTO:scerdeline@complx-immigration.ca
END:VEVENT
BEGIN:VEVENT
DTSTART;TZID=America/New_York:20230824T140000
DTEND;TZID=America/New_York:20230824T180000
DTSTAMP:20260424T052326
CREATED:20230811T150222Z
LAST-MODIFIED:20230811T150222Z
UID:8528-1692885600-1692900000@www.infotetquebec.com
SUMMARY:Montreal / Legal Information Clinic
DESCRIPTION:The Immigrant Workers Centre holds legal information clinics every Tuesday and Thursday in Montreal between 2:00 and 6:00 p.m. \nMake an appointment or drop in: \ninfo@iwc-cti.ca\,\nprivate message on the Iwc-Cti Facebook page\nWhatsApp: +1 438 507 2566\nleave a message at 514 242-2111\nIndividual support\, group workshops on labour standards or health and safety\, and personalized coaching.
URL:https://www.infotetquebec.com/en/event/montreal-legal-information-clinic-6/
LOCATION:4755\, Van Horne Av.\, Office/Bureau/Oficina #110 Montréal\, QC H3W 1H8\, Canada
CATEGORIES:Information session
ATTACH;FMTTYPE=image/png:https://www.infotetquebec.com/wp-content/uploads/2023/08/IWC-CTI_logo-fr-web-retina.png
END:VEVENT
BEGIN:VEVENT
DTSTART;TZID=America/New_York:20230825T180000
DTEND;TZID=America/New_York:20230825T200000
DTSTAMP:20260424T052326
CREATED:20230808T180446Z
LAST-MODIFIED:20230808T180446Z
UID:8098-1692986400-1692993600@www.infotetquebec.com
SUMMARY:Saint-Marc-des-Carrières / Soccer game
DESCRIPTION:Come play soccer at the Saint-Marc-des-Carrières field (1600 Bona-Dussault Boulevard) every\nFridays (6 p.m.)!
URL:https://www.infotetquebec.com/en/event/saint-marc-des-carrieres-soccer-game-3/
LOCATION:1600 boul. Bona-Dussault\, Saint-Marc-des-Carrières\, Québec\, G0A 4B0\, Canada
CATEGORIES:soccer
ATTACH;FMTTYPE=image/jpeg:https://www.infotetquebec.com/wp-content/uploads/2023/05/chaos-soccer-gear-Cjfl8r_eYxY-unsplash.jpg
END:VEVENT
BEGIN:VEVENT
DTSTART;TZID=America/New_York:20230825T200000
DTEND;TZID=America/New_York:20230825T220000
DTSTAMP:20260424T052326
CREATED:20230810T203432Z
LAST-MODIFIED:20230810T203432Z
UID:8442-1692993600-1693000800@www.infotetquebec.com
SUMMARY:Coaticook / Soccer game
DESCRIPTION:Every Friday from 8pm to 10pm. \nCome and play with us! \nReservations: WhatsApp +1 873 662-2630
URL:https://www.infotetquebec.com/en/event/coaticook-soccer-game-7/
LOCATION:PARC LAURENCE (TERRAIN 1)\, RUE LAURENCE\, Coaticook\, Québec\, Canada
CATEGORIES:soccer
ATTACH;FMTTYPE=image/jpeg:https://www.infotetquebec.com/wp-content/uploads/2023/08/EOS-Match-Football-Coaticook-Es.jpg
END:VEVENT
BEGIN:VEVENT
DTSTART;TZID=America/New_York:20230826T100000
DTEND;TZID=America/New_York:20230826T120000
DTSTAMP:20260424T052326
CREATED:20230811T124123Z
LAST-MODIFIED:20230811T124445Z
UID:8479-1693044000-1693051200@www.infotetquebec.com
SUMMARY:Sherbrooke / Soccer game
DESCRIPTION:Every Saturday from 10am to 12pm. \nCome and play soccer with us! \nReservations: +1 873 662-2630.
URL:https://www.infotetquebec.com/en/event/sherbrooke-soccer-game-3/
LOCATION:Parc Jean-Claude-Quirion\, Rue Chalifoux\, Sherbrooke\, Québec\, J1G 152\, Canada
CATEGORIES:soccer
ATTACH;FMTTYPE=image/jpeg:https://www.infotetquebec.com/wp-content/uploads/2023/08/EOS-Soccer-Sherbrooke-Fr.jpg
END:VEVENT
BEGIN:VEVENT
DTSTART;TZID=America/New_York:20230826T130000
DTEND;TZID=America/New_York:20230826T210000
DTSTAMP:20260424T052326
CREATED:20230809T160925Z
LAST-MODIFIED:20230809T160925Z
UID:8278-1693054800-1693083600@www.infotetquebec.com
SUMMARY:Grenville / Grenville en fête
DESCRIPTION:Outing to the Grenville en Fête Festival\, at Normand-Woodbury Park. \nInformation: Gabriel Garcia\, + 1 450-612-2462
URL:https://www.infotetquebec.com/en/event/grenville-grenville-en-fete/
LOCATION:parc Normand-Woodbury\, 20 Rue Tri Jean\, Grenville\, Québec\, J0V 1J0\, Canada
CATEGORIES:Festival
ATTACH;FMTTYPE=image/jpeg:https://www.infotetquebec.com/wp-content/uploads/2023/08/a-laffiche-2418po1.jpg
ORGANIZER;CN="Centre pour l'immigration en r%C3%A9gion (CIR)":MAILTO:centrepourlimmigrationenregion.org
END:VEVENT
BEGIN:VEVENT
DTSTART;TZID=America/New_York:20230827T090000
DTEND;TZID=America/New_York:20230827T120000
DTSTAMP:20260424T052326
CREATED:20230804T141359Z
LAST-MODIFIED:20230804T142243Z
UID:7977-1693126800-1693137600@www.infotetquebec.com
SUMMARY:Témiscouata-sur-le-Lac / Cultural morning of singing and music
DESCRIPTION:Cultural activity of singing and music from Quebec\, folk music in French and Latin-American music in Spanish. \nMeet at Parc Clair Soleil de Témiscouata Sur le Lac\, Rue Commerciale Témiscouata-sur-le-Lac\, (Québec) G0L 1E0. \nInformations : Omar López Luévano\, +1 418 714-7814 \nMore details to come.
URL:https://www.infotetquebec.com/en/event/temiscouata-sur-le-lac-cultural-morning-of-singing-and-music/
LOCATION:Parc Clair Soleil de Témiscouata Sur le Lac\, Rue Commerciale\, Témiscouata-sur-le-Lac\, Québec\, G0L 1E0\, Canada
ATTACH;FMTTYPE=image/jpeg:https://www.infotetquebec.com/wp-content/uploads/2023/08/gabriel-gurrola-2UuhMZEChdc-unsplash-scaled.jpg
END:VEVENT
BEGIN:VEVENT
DTSTART;TZID=America/New_York:20230827T100000
DTEND;TZID=America/New_York:20230827T150000
DTSTAMP:20260424T052326
CREATED:20230803T184651Z
LAST-MODIFIED:20231023T175149Z
UID:7916-1693130400-1693148400@www.infotetquebec.com
SUMMARY:Granby / Picnic and water sports at Lac Boivin
DESCRIPTION:JOIN US FOR A PICNIC AND WATER SPORTS ACTIVITY AT LAC BOIVIN! \nAccess to kayaks\, canoes and paddleboats\, games (pocket washer) and picnic. \nFREE ENTRY \nFREE ACTIVITIES FOR TEMPORARY FOREIGN WORKERS \nSUNDAY\, AUGUST 27 \n10AM TO 3PM \nParc Daniel-Johnson \n230 Rue Drummond\, Granby \nINFORMATION AT +1 (873)662-2630
URL:https://www.infotetquebec.com/en/event/granby-picnic-and-water-sports-at-lac-boivin/
LOCATION:Parc Daniel-Johnson\, 230 Rue Drummond\, Granby\, Québec\, Canada
CATEGORIES:Cultural or sports activity
END:VEVENT
BEGIN:VEVENT
DTSTART;TZID=America/New_York:20230827T110000
DTEND;TZID=America/New_York:20230827T130000
DTSTAMP:20260424T052326
CREATED:20230808T161039Z
LAST-MODIFIED:20230808T161039Z
UID:8048-1693134000-1693141200@www.infotetquebec.com
SUMMARY:Saint-Basile / Soccer game
DESCRIPTION:Come and play soccer at the Saint-Basile field (10 Place de l’Église) every Sunday in the late\nmorning (10:30 am)!
URL:https://www.infotetquebec.com/en/event/saint-basile-soccer-game-8/
LOCATION:10\, place de l’Église\, Saint-Basile\, Portneuf\, Québec\, Canada
CATEGORIES:soccer
ATTACH;FMTTYPE=image/jpeg:https://www.infotetquebec.com/wp-content/uploads/2023/04/max-zindel-uPCTGBSrfsI-unsplash-2.jpg
END:VEVENT
BEGIN:VEVENT
DTSTART;TZID=America/New_York:20230827T130000
DTEND;TZID=America/New_York:20230827T170000
DTSTAMP:20260424T052326
CREATED:20230802T182611Z
LAST-MODIFIED:20230802T182611Z
UID:7867-1693141200-1693155600@www.infotetquebec.com
SUMMARY:Saint-Rémi / Corn roast
DESCRIPTION:Corn roast ! \nPlus an information session on labor standards\, health and safety of temporary foreign workers. \nAugust 27th 1 to 5 pm \nSaint-Rémi Court \nBehind the community center of St-Rémi \n25 Rue Saint-Sauveur\, Saint-Rémi\, QC JOL 2LO
URL:https://www.infotetquebec.com/en/event/saint-remi-corn-roast/
LOCATION:terrain de jeu de Saint-Rémi\, 25 Rue Saint-Sauveur\, Saint-Rémi\, Québec\, JOL 2LO\, Canada
CATEGORIES:Cultural or sports activity
ATTACH;FMTTYPE=image/png:https://www.infotetquebec.com/wp-content/uploads/2023/08/IMMIGRATION-Ble-dinde-Espagnole.png
ORGANIZER;CN="Complexe X Immigration":MAILTO:scerdeline@complx-immigration.ca
END:VEVENT
BEGIN:VEVENT
DTSTART;TZID=America/New_York:20230827T160000
DTEND;TZID=America/New_York:20230827T180000
DTSTAMP:20260424T052326
CREATED:20230808T163000Z
LAST-MODIFIED:20230808T163000Z
UID:8073-1693152000-1693159200@www.infotetquebec.com
SUMMARY:Portneuf / Soccer game
DESCRIPTION:Come play soccer at the Portneuf field (100 Paquin Street) every Sunday afternoon\n(16 h)!
URL:https://www.infotetquebec.com/en/event/portneuf-soccer-game-11/
LOCATION:100\, rue Paquin\, Portneuf\, Québec\, Canada
CATEGORIES:soccer
ATTACH;FMTTYPE=image/jpeg:https://www.infotetquebec.com/wp-content/uploads/2023/05/chaos-soccer-gear-Cjfl8r_eYxY-unsplash.jpg
END:VEVENT
BEGIN:VEVENT
DTSTART;TZID=America/New_York:20230828T200000
DTEND;TZID=America/New_York:20230828T210000
DTSTAMP:20260424T052326
CREATED:20230808T193609Z
LAST-MODIFIED:20230808T193609Z
UID:8164-1693252800-1693256400@www.infotetquebec.com
SUMMARY:Virtual discussion evenings
DESCRIPTION:You are cordially invited to an evening virtual chat on Quebec culture and values as well as an information session on labour standards\, health and safety. \nEvery Monday and Wednesday from 7 to 8 pm. \nRegistration: scerdeline@complx-immigration.ca \n+ 1 438 368-4613
URL:https://www.infotetquebec.com/en/event/virtual-discussion-evenings-15/
CATEGORIES:Information session
ATTACH;FMTTYPE=image/png:https://www.infotetquebec.com/wp-content/uploads/2023/05/COMPLEXE-X_Activites-T-Etrangers-Causeries.png
ORGANIZER;CN="Complexe X Immigration":MAILTO:scerdeline@complx-immigration.ca
END:VEVENT
END:VCALENDAR