BEGIN:VCALENDAR
VERSION:2.0
PRODID:-//Infotetquebec - ECPv6.15.20//NONSGML v1.0//EN
CALSCALE:GREGORIAN
METHOD:PUBLISH
X-WR-CALNAME:Infotetquebec
X-ORIGINAL-URL:https://www.infotetquebec.com/en/
X-WR-CALDESC:Events for Infotetquebec
REFRESH-INTERVAL;VALUE=DURATION:PT1H
X-Robots-Tag:noindex
X-PUBLISHED-TTL:PT1H
BEGIN:VTIMEZONE
TZID:America/New_York
BEGIN:DAYLIGHT
TZOFFSETFROM:-0500
TZOFFSETTO:-0400
TZNAME:EDT
DTSTART:20220313T070000
END:DAYLIGHT
BEGIN:STANDARD
TZOFFSETFROM:-0400
TZOFFSETTO:-0500
TZNAME:EST
DTSTART:20221106T060000
END:STANDARD
BEGIN:DAYLIGHT
TZOFFSETFROM:-0500
TZOFFSETTO:-0400
TZNAME:EDT
DTSTART:20230312T070000
END:DAYLIGHT
BEGIN:STANDARD
TZOFFSETFROM:-0400
TZOFFSETTO:-0500
TZNAME:EST
DTSTART:20231105T060000
END:STANDARD
BEGIN:DAYLIGHT
TZOFFSETFROM:-0500
TZOFFSETTO:-0400
TZNAME:EDT
DTSTART:20240310T070000
END:DAYLIGHT
BEGIN:STANDARD
TZOFFSETFROM:-0400
TZOFFSETTO:-0500
TZNAME:EST
DTSTART:20241103T060000
END:STANDARD
END:VTIMEZONE
BEGIN:VEVENT
DTSTART;TZID=America/New_York:20230626T100000
DTEND;TZID=America/New_York:20230626T100000
DTSTAMP:20260424T082629
CREATED:20230607T162842Z
LAST-MODIFIED:20230607T162842Z
UID:7538-1687773600-1687773600@www.infotetquebec.com
SUMMARY:Baie-Saint-Paul / Hiking in the Parc des Grands jardins
DESCRIPTION:Join us for this hike in the Parc des Grands jardins to enjoy the local scenery! \nFor more information and reservations\, contact Joany Boily\, 418 435-2503\, joany@cje-appui.qc.ca.
URL:https://www.infotetquebec.com/en/event/baie-saint-paul-hiking-in-the-parc-des-grands-jardins/
LOCATION:Baie Saint-Paul\, Baie-Saint-Paul\, Québec\, Canada
CATEGORIES:Cultural or sports activity
ATTACH;FMTTYPE=image/jpeg:https://www.infotetquebec.com/wp-content/uploads/2023/06/rando-scaled.jpg
ORGANIZER;CN="Services de Main d'oeuvre L'Appui":MAILTO:info@cje-appui.qc.ca
END:VEVENT
BEGIN:VEVENT
DTSTART;TZID=America/New_York:20230626T190000
DTEND;TZID=America/New_York:20230626T200000
DTSTAMP:20260424T082629
CREATED:20230519T134345Z
LAST-MODIFIED:20230519T134345Z
UID:7240-1687806000-1687809600@www.infotetquebec.com
SUMMARY:Virtual discussion evenings
DESCRIPTION:You are cordially invited to an evening virtual chat on Quebec culture and values as well as an information session on labour standards\, health and safety. \nEvery Monday and Wednesday from 7 to 8 pm. \nRegistration: scerdeline@complx-immigration.ca \n+ 1 438 368-4613
URL:https://www.infotetquebec.com/en/event/virtual-discussion-evenings-9/
LOCATION:En ligne
CATEGORIES:webinar
ATTACH;FMTTYPE=image/png:https://www.infotetquebec.com/wp-content/uploads/2023/05/Complex-X-Causerie_SPAN.png
ORGANIZER;CN="Complexe X Immigration":MAILTO:scerdeline@complx-immigration.ca
END:VEVENT
BEGIN:VEVENT
DTSTART;TZID=America/New_York:20230628T190000
DTEND;TZID=America/New_York:20230628T203000
DTSTAMP:20260424T082629
CREATED:20230519T134714Z
LAST-MODIFIED:20230519T134714Z
UID:7244-1687978800-1687984200@www.infotetquebec.com
SUMMARY:Virtual discussion evenings
DESCRIPTION:You are cordially invited to an evening virtual chat on Quebec culture and values as well as an information session on labour standards\, health and safety. \nEvery Monday and Wednesday from 7 to 8 pm. \nRegistration: scerdeline@complx-immigration.ca \n+ 1 438 368-4613
URL:https://www.infotetquebec.com/en/event/virtual-discussion-evenings-10/
LOCATION:En ligne
CATEGORIES:webinar
ATTACH;FMTTYPE=image/png:https://www.infotetquebec.com/wp-content/uploads/2023/05/COMPLEXE-X_Activites-T-Etrangers-Causeries.png
ORGANIZER;CN="Complexe X Immigration":MAILTO:scerdeline@complx-immigration.ca
END:VEVENT
BEGIN:VEVENT
DTSTART;TZID=America/New_York:20230630T200000
DTEND;TZID=America/New_York:20230630T220000
DTSTAMP:20260424T082629
CREATED:20230606T201204Z
LAST-MODIFIED:20230606T201204Z
UID:7449-1688155200-1688162400@www.infotetquebec.com
SUMMARY:Coaticook / Soccer game
DESCRIPTION:Every Friday from 8pm to 10pm. \nCome and play with us! \nReservations: WhatsApp +1 873 662-2630
URL:https://www.infotetquebec.com/en/event/coaticook-soccer-game-4/
LOCATION:PARC LAURENCE (TERRAIN 1)\, RUE LAURENCE\, Coaticook\, Québec\, Canada
CATEGORIES:soccer
ATTACH;FMTTYPE=image/jpeg:https://www.infotetquebec.com/wp-content/uploads/2023/06/EOS-Match-Football-Coaticook-Fr.jpg
END:VEVENT
BEGIN:VEVENT
DTSTART;TZID=America/New_York:20230701T100000
DTEND;TZID=America/New_York:20230701T120000
DTSTAMP:20260424T082629
CREATED:20230606T193612Z
LAST-MODIFIED:20230606T193735Z
UID:7420-1688205600-1688212800@www.infotetquebec.com
SUMMARY:Sherbrooke / Soccer
DESCRIPTION:Every Saturday from 10am to 12pm. \nCome and play soccer with us! \nReservations: +1 873 662-2630.
URL:https://www.infotetquebec.com/en/event/sherbrooke-futbol/
LOCATION:Parc Jean-Claude-Quirion\, Rue Chalifoux\, Sherbrooke\, Québec\, J1G 152\, Canada
CATEGORIES:soccer
ATTACH;FMTTYPE=image/jpeg:https://www.infotetquebec.com/wp-content/uploads/2023/06/EOS-Soccer-Sherbrooke-Fr.jpg
END:VEVENT
BEGIN:VEVENT
DTSTART;TZID=America/New_York:20230709T100000
DTEND;TZID=America/New_York:20230709T170000
DTSTAMP:20260424T082629
CREATED:20230705T163828Z
LAST-MODIFIED:20230705T163828Z
UID:7638-1688896800-1688922000@www.infotetquebec.com
SUMMARY:Orford / Beach outing
DESCRIPTION:Don’t miss a trip to the beach at Lake Stukely! \nInformation: +1 (873)662-2630
URL:https://www.infotetquebec.com/en/event/orford-beach-outing/
LOCATION:Plage du lac Stukely\, Orford\, Québec\, JOB 2B0\, Canada
CATEGORIES:Cultural or sports activity
ATTACH;FMTTYPE=image/jpeg:https://www.infotetquebec.com/wp-content/uploads/2023/07/EOS-Sortie-a-la-plage-Parc-du-Mont-Orford-Stukely-Fr.jpg
END:VEVENT
BEGIN:VEVENT
DTSTART;TZID=America/New_York:20230713T180000
DTEND;TZID=America/New_York:20230713T190000
DTSTAMP:20260424T082629
CREATED:20230705T161924Z
LAST-MODIFIED:20230705T161924Z
UID:7625-1689271200-1689274800@www.infotetquebec.com
SUMMARY:Saint-Césaire / Information about your rights
DESCRIPTION:“Do you know your rights and obligations as a worker?” \nAn information guide to TFW rights\, health and safety \nEl Rancho Latino\, 2054 Rte 112\, Saint-Césaire \nRegistration by e-mail :\nkarladuenas@lancre.ca \n438 390-2132\nwww.lancre.ca
URL:https://www.infotetquebec.com/en/event/saint-cesaire-information-about-your-rights/
LOCATION:El Rancho Latino\, 2054 Rte 112\, Saint-Césaire\, Québec\, J0L 1T0\, Canada
ATTACH;FMTTYPE=application/pdf:https://www.infotetquebec.com/wp-content/uploads/2023/07/LANCRE_TET_GABARIT_infotet_MAI2023_FR.pdf
ORGANIZER;CN="L'ANCRE":MAILTO:karladuenas@lancre.ca
END:VEVENT
BEGIN:VEVENT
DTSTART;TZID=America/New_York:20230716T110000
DTEND;TZID=America/New_York:20230716T130000
DTSTAMP:20260424T082629
CREATED:20230714T181203Z
LAST-MODIFIED:20230714T181618Z
UID:7727-1689505200-1689512400@www.infotetquebec.com
SUMMARY:Saint-Basile / Soccer game
DESCRIPTION:Come and play soccer at the Saint-Basile field (10 Place de l’Église) every Sunday in the late\nmorning (11:00 am)!
URL:https://www.infotetquebec.com/en/event/saint-basile-match-de-soccer/
LOCATION:10\, place de l’Église\, Saint-Basile\, Portneuf\, Québec\, Canada
CATEGORIES:soccer
ATTACH;FMTTYPE=image/jpeg:https://www.infotetquebec.com/wp-content/uploads/2023/04/max-zindel-uPCTGBSrfsI-unsplash-2.jpg
END:VEVENT
BEGIN:VEVENT
DTSTART;TZID=America/New_York:20230716T150000
DTEND;TZID=America/New_York:20230716T200000
DTSTAMP:20260424T082629
CREATED:20230705T160016Z
LAST-MODIFIED:20230705T160016Z
UID:7617-1689519600-1689537600@www.infotetquebec.com
SUMMARY:Neuville / Intercultural festival
DESCRIPTION:Intercultural celebration in Neuville to thank temporary foreign workers in the Capitale-Nationale region. \nWhere: Espace Art Nature at the Vieux Couvent de Neuville\, 652 rue des Érables G0A 2R0 Neuville \ntel: 418 876-2209 / info@espaceartnature.com \nWhen? Sunday\, July 16\, 2023 from 3:00 pm to 8:00 pm \n3:00 pm: welcome \n3:30 pm: Pachamama circle \n4:30 p.m. and 5:30 p.m.: Mexican dances with the Yoh Mexico group \nFrom 5:00 pm: games and festive entertainment \n6:00 pm: Latino-flavored dinner “Mexican basket” caterer \nBring your chair / Free activities / Registration recommended
URL:https://www.infotetquebec.com/en/event/neuville-intercultural-festival/
LOCATION:Espace Art Nature au Vieux Couvent de Neuville\, 652 rue des Érables\, Neuville\, Québec\, G0A 2R0\, Canada
CATEGORIES:Cultural or sports activity
ATTACH;FMTTYPE=application/pdf:https://www.infotetquebec.com/wp-content/uploads/2023/07/fiesta-TETs-16-juillet.pdf
END:VEVENT
BEGIN:VEVENT
DTSTART;TZID=America/New_York:20230719T193000
DTEND;TZID=America/New_York:20230719T210000
DTSTAMP:20260424T082629
CREATED:20230711T193401Z
LAST-MODIFIED:20230711T193401Z
UID:7681-1689795000-1689800400@www.infotetquebec.com
SUMMARY:Saint-Césaire / Latin evening with Andy Rubal July 19 and Son del sun
DESCRIPTION:In collaboration with El Rancho Latino\, we will distribute information and goodies to the TET attendees. \nParc Neveu\, Saint-Césaire Information at \nkarladuenas@lancre.ca
URL:https://www.infotetquebec.com/en/event/saint-cesaire-latin-evening-with-andy-rubal-july-19-and-son-del-sun/
LOCATION:Parc Neveu\, Saint-Césaire\, Québec\, J0L 1T0\, Canada
CATEGORIES:Night
ATTACH;FMTTYPE=image/png:https://www.infotetquebec.com/wp-content/uploads/2023/07/Soiree-latine_ES.png
ORGANIZER;CN="L'ANCRE":MAILTO:karladuenas@lancre.ca
END:VEVENT
BEGIN:VEVENT
DTSTART;TZID=America/New_York:20230721T170000
DTEND;TZID=America/New_York:20230721T203000
DTSTAMP:20260424T082629
CREATED:20230711T185927Z
LAST-MODIFIED:20230711T185927Z
UID:7660-1689958800-1689971400@www.infotetquebec.com
SUMMARY:Beloeil / Games and picnic
DESCRIPTION:Don’t miss the game night and picnic! \nRegistration : \nWhatsApp 514 434-3642 lilianasalgado@integrationcompetences.ca
URL:https://www.infotetquebec.com/en/event/beloeil-games-and-picnic/
LOCATION:Parc Victor-Brillon\, 1596 Rue André-Labadie\, Beloeil\, Québec\, J3G 5R5
CATEGORIES:bowling night
ATTACH;FMTTYPE=application/pdf:https://www.infotetquebec.com/wp-content/uploads/2023/07/N-JEUX-ET-PIQUE-NIQUE-21-juillet-FR.pdf
ORGANIZER;CN="Int%C3%A9gration comp%C3%A9tences":MAILTO:lilianasalgado@integrationcompetences.ca
END:VEVENT
BEGIN:VEVENT
DTSTART;TZID=America/New_York:20230722T150000
DTEND;TZID=America/New_York:20230722T210000
DTSTAMP:20260424T082629
CREATED:20230711T191550Z
LAST-MODIFIED:20230711T191550Z
UID:7671-1690038000-1690059600@www.infotetquebec.com
SUMMARY:Mont-Laurier / Culture en fête
DESCRIPTION:15h et 17h : PERCUSSION WORKSHOPS \n15h à 18h : WAX HAND WORKSHOPS \nDès 16h : SALSA DANCE WORKSHOP \n\n\n\n\n\n15h à 20h : \nINFLATABLE GAMES\nFOR CHILDREN AND ENTERTAINMENT \nTACO STAND \nCHEF ARTURO REYNOSO ($ CASH ONLY) \nHOT DOG STAND \nL’ASSOCIATION DE SOCCER DE MONT-LAURIER ($ CASH ONLY) \nMICROBRASSERIE DU LIÈVRE ($ CASH ONLY)
URL:https://www.infotetquebec.com/en/event/mont-laurier-culture-en-fete/
LOCATION:Parc Toussaint-Lachapelle\, Rue du Pont\, Mont-Laurier\, Mont-Laurier\, Québec\, J9L 1X5\, Canada
CATEGORIES:Cultural or sports activity
ATTACH;FMTTYPE=application/pdf:https://www.infotetquebec.com/wp-content/uploads/2023/07/Affiche_Culture-en-fete_24X36_VF_low.pdf
END:VEVENT
BEGIN:VEVENT
DTSTART;TZID=America/New_York:20230722T190000
DTEND;TZID=America/New_York:20230722T210000
DTSTAMP:20260424T082629
CREATED:20230712T165129Z
LAST-MODIFIED:20231023T172555Z
UID:7713-1690052400-1690059600@www.infotetquebec.com
SUMMARY:Ayer's Cliff / Monster Truck Xtreme
DESCRIPTION:JULY 22 2023\, 19 H \nAyer’s Cliff Drag N Show \n977\, rue Main\, Ayer’s Cliff QC JOB 1C0 \nINFORMATION : +1 (873)662-2630
URL:https://www.infotetquebec.com/en/event/ayers-cliff-monster-truck-xtreme/
LOCATION:Ayer’s Cliff Drag N Show\, 977\, rue Main\, Ayer's Cliff\, Québec\, JOB 1C0\, Canada
CATEGORIES:Other
END:VEVENT
BEGIN:VEVENT
DTSTART;TZID=America/New_York:20230723T110000
DTEND;TZID=America/New_York:20230723T130000
DTSTAMP:20260424T082629
CREATED:20230714T182254Z
LAST-MODIFIED:20230714T182254Z
UID:7740-1690110000-1690117200@www.infotetquebec.com
SUMMARY:Saint-Basile / Soccer game
DESCRIPTION:Come and play soccer at the Saint-Basile field (10 Place de l’Église) every Sunday in the late\nmorning (10:30 am)!
URL:https://www.infotetquebec.com/en/event/saint-basile-soccer-game-5/
LOCATION:10\, place de l’Église\, Saint-Basile\, Portneuf\, Québec\, Canada
CATEGORIES:soccer
END:VEVENT
BEGIN:VEVENT
DTSTART;TZID=America/New_York:20230729T110000
DTEND;TZID=America/New_York:20230729T140000
DTSTAMP:20260424T082629
CREATED:20230726T174717Z
LAST-MODIFIED:20231023T175710Z
UID:7789-1690628400-1690639200@www.infotetquebec.com
SUMMARY:Valcourt / Visit to Bombardier Museum & Picnic
DESCRIPTION:Visit to Bombardier Museum and picnic offered to the temporary foreign workers. \nSaturday July 29 from 11 A.M. to 2 P.M. \nRegistration here : https://forms.office.com/pages/responsepage.aspx?id=0_JvlIF-AUOMcJZzeTeuK9Z4nxmedR5FjMolHYNnFTdUM1A1MFE5WVVBOUhZNFhaRFdKSTlGTDZGRi4u&origin=QRCode&qrcodeorigin=presentation \nContact at Intégration Compétences \nWhatsApp : + 1 514 434-3642 \nlilianasalgado@integrationcompetences.ca
URL:https://www.infotetquebec.com/en/event/valcourt-visit-to-bombardier-museum-picnic/
LOCATION:Musée de l’ingéniosité J.Armand Bombardier\, 1001 Ave J.-A.-Bombardier\, Valcourt\, Québec\, J0E 2L0\, Canada
CATEGORIES:Cultural or sports activity
ATTACH;FMTTYPE=application/pdf:https://www.infotetquebec.com/wp-content/uploads/2023/07/Affiche_Visite-au-Musee-Bombardier_FR.pdf
ORGANIZER;CN="Int%C3%A9gration comp%C3%A9tences":MAILTO:lilianasalgado@integrationcompetences.ca
END:VEVENT
BEGIN:VEVENT
DTSTART;TZID=America/New_York:20230729T130000
DTEND;TZID=America/New_York:20230729T170000
DTSTAMP:20260424T082629
CREATED:20230712T154824Z
LAST-MODIFIED:20230712T154824Z
UID:7695-1690635600-1690650000@www.infotetquebec.com
SUMMARY:Granby / Granby international 2023 - Cars
DESCRIPTION:Over 1\,500 cars on display! \nSATURDAY JULY 29\, 2023 / 1PM \nParc Daniel-Johnson \n230 rue Drummond Granby\, Québec J2G 2S3 Canada \nINFORMATION AT +1 (873)662-2630
URL:https://www.infotetquebec.com/en/event/granby-granby-international-2023-cars/
LOCATION:Parc Daniel-Johnson\, 230 Rue Drummond\, Granby\, Québec\, Canada
CATEGORIES:Other
ATTACH;FMTTYPE=image/jpeg:https://www.infotetquebec.com/wp-content/uploads/2023/07/EOS-Granby-internationale-Voiture-ancienne-Fr.jpg
END:VEVENT
BEGIN:VEVENT
DTSTART;TZID=America/New_York:20230805T163000
DTEND;TZID=America/New_York:20230805T163000
DTSTAMP:20260424T082629
CREATED:20230803T181802Z
LAST-MODIFIED:20230803T182256Z
UID:7886-1691253000-1691253000@www.infotetquebec.com
SUMMARY:Coaticook / Coaticook Valley Exhibition
DESCRIPTION:Come to the agricultural fair and enjoy food stalls\, games\, music and much more! \nFree admission \nFree for temporary foreign workers \nSaturday\, August 5 at 4:30 p.m. \nINFORMATION: +1 (873)662-2630 \nOrganized by: AIDE
URL:https://www.infotetquebec.com/en/event/coaticook-coaticook-valley-exhibition/
LOCATION:Exposition Vallée de la Coaticook\, 125\, rue Morgan\, bureau 134-A\, Coaticook\, Québec\, J1A 1V6\, Canada
CATEGORIES:Cultural or sports activity
ATTACH;FMTTYPE=image/jpeg:https://www.infotetquebec.com/wp-content/uploads/2023/08/EOS-Exposition-Vallee-de-la-Coaticook-Fr.jpg
END:VEVENT
BEGIN:VEVENT
DTSTART;VALUE=DATE:20230811
DTEND;VALUE=DATE:20230814
DTSTAMP:20260424T082629
CREATED:20230428T161348Z
LAST-MODIFIED:20230428T161348Z
UID:6528-1691712000-1691971199@www.infotetquebec.com
SUMMARY:Saint-Marc-des-Carrières / Portneuf Agricultural Exhibition August 11 to 13
DESCRIPTION:Portneuf Agricultural Exhibition in Saint-Marc-des-Carrières from August 11 to 13 \nAll the details of the event here : expoagricoleportneuf.com
URL:https://www.infotetquebec.com/en/event/saint-marc-des-carrieres-portneuf-agricultural-exhibition-august-11-to-13/
LOCATION:1650 boul Bona-Dussault\, Saint-Marc-des-Carrières\, G0A 4B0\, Canada
ATTACH;FMTTYPE=image/jpeg:https://www.infotetquebec.com/wp-content/uploads/2023/04/annie-spratt-JMjNnQ2xFoY-unsplash.jpg
END:VEVENT
BEGIN:VEVENT
DTSTART;TZID=America/New_York:20230811T123000
DTEND;TZID=America/New_York:20230811T190000
DTSTAMP:20260424T082629
CREATED:20230808T135023Z
LAST-MODIFIED:20230808T135023Z
UID:7989-1691757000-1691780400@www.infotetquebec.com
SUMMARY:Saint-Jean-sur-Richelieu / Picnics and hot-air balloons
DESCRIPTION:“Let’s see the hot-air balloons together” picnic + Draw for 2 tickets to the Festival on August 11\, 2023 \nFREE event for temporary foreign workers (TFW) \nAugust 11\, 12:30 pm – 7 pm \nMeet at Parc Pierre-Trahan\, Saint-Jean-sur-Richelieu \nReservations required: 438 390-2132 / karladvenas@lancre.ca \nRegistration deadline: August 10
URL:https://www.infotetquebec.com/en/event/saint-jean-sur-richelieu-picnics-and-hot-air-balloons/
LOCATION:Parc Pierre-Trahan\, Rue Frontenac\, Saint-Jean-sur-Richelieu\, Québec\, J3B 7B5\, Canada
CATEGORIES:Cultural or sports activity
ATTACH;FMTTYPE=image/png:https://www.infotetquebec.com/wp-content/uploads/2023/08/Ancre_montgolfiere_FR.png
ORGANIZER;CN="L'ANCRE":MAILTO:karladuenas@lancre.ca
END:VEVENT
BEGIN:VEVENT
DTSTART;TZID=America/New_York:20230811T180000
DTEND;TZID=America/New_York:20230811T200000
DTSTAMP:20260424T082629
CREATED:20230808T175846Z
LAST-MODIFIED:20230808T175846Z
UID:8090-1691776800-1691784000@www.infotetquebec.com
SUMMARY:Saint-Marc-des-Carrières / Soccer game
DESCRIPTION:Come play soccer at the Saint-Marc-des-Carrières field (1600 Bona-Dussault Boulevard) every\nFridays (6 p.m.)!
URL:https://www.infotetquebec.com/en/event/saint-marc-des-carrieres-soccer-game/
LOCATION:1600 boul. Bona-Dussault\, Saint-Marc-des-Carrières\, Québec\, G0A 4B0\, Canada
CATEGORIES:soccer
ATTACH;FMTTYPE=image/jpeg:https://www.infotetquebec.com/wp-content/uploads/2023/05/chaos-soccer-gear-Cjfl8r_eYxY-unsplash.jpg
END:VEVENT
BEGIN:VEVENT
DTSTART;TZID=America/New_York:20230811T200000
DTEND;TZID=America/New_York:20230811T220000
DTSTAMP:20260424T082629
CREATED:20230810T202331Z
LAST-MODIFIED:20230810T202331Z
UID:8434-1691784000-1691791200@www.infotetquebec.com
SUMMARY:Coaticook / Soccer game
DESCRIPTION:Every Friday from 8pm to 10pm. \nCome and play with us! \nReservations: WhatsApp +1 873 662-2630
URL:https://www.infotetquebec.com/en/event/coaticook-soccer-game-5/
LOCATION:PARC LAURENCE (TERRAIN 1)\, RUE LAURENCE\, Coaticook\, Québec\, Canada
CATEGORIES:soccer
ATTACH;FMTTYPE=image/jpeg:https://www.infotetquebec.com/wp-content/uploads/2023/08/EOS-Match-Football-Coaticook-Es.jpg
END:VEVENT
BEGIN:VEVENT
DTSTART;VALUE=DATE:20230812
DTEND;VALUE=DATE:20230813
DTSTAMP:20260424T082629
CREATED:20230809T153822Z
LAST-MODIFIED:20230809T153822Z
UID:8253-1691798400-1691884799@www.infotetquebec.com
SUMMARY:Browsburg-Chatam / Latino Festival
DESCRIPTION:Latino Festival in Browsburg-Chatam\, opposite 338 rue des Érables\, in the municipal parking lot. \nInformation: Gabriel Garcia\, + 1 450 612-2462
URL:https://www.infotetquebec.com/en/event/browsburg-chatam-latino-festival/
LOCATION:338 rue des Érables\, Browsburg-Chatam\, Canada
CATEGORIES:Festival
ATTACH;FMTTYPE=image/jpeg:https://www.infotetquebec.com/wp-content/uploads/2023/08/filip-gielda-QKrLdkoYDrc-unsplash-scaled.jpg
ORGANIZER;CN="Centre pour l'immigration en r%C3%A9gion (CIR)":MAILTO:centrepourlimmigrationenregion.org
END:VEVENT
BEGIN:VEVENT
DTSTART;TZID=America/New_York:20230812T100000
DTEND;TZID=America/New_York:20230812T120000
DTSTAMP:20260424T082629
CREATED:20230811T123342Z
LAST-MODIFIED:20230811T123512Z
UID:8470-1691834400-1691841600@www.infotetquebec.com
SUMMARY:Sherbrooke / Soccer game
DESCRIPTION:Every Saturday from 10am to 12pm. \nCome and play soccer with us! \nReservations: +1 873 662-2630.
URL:https://www.infotetquebec.com/en/event/sherbrooke-soccer-game/
LOCATION:Parc Jean-Claude-Quirion\, Rue Chalifoux\, Sherbrooke\, Québec\, J1G 152\, Canada
CATEGORIES:soccer
ATTACH;FMTTYPE=image/jpeg:https://www.infotetquebec.com/wp-content/uploads/2023/08/EOS-Soccer-Sherbrooke-Fr.jpg
END:VEVENT
BEGIN:VEVENT
DTSTART;TZID=America/New_York:20230812T100000
DTEND;TZID=America/New_York:20230812T140000
DTSTAMP:20260424T082629
CREATED:20230726T170329Z
LAST-MODIFIED:20230726T170842Z
UID:7772-1691834400-1691848800@www.infotetquebec.com
SUMMARY:Granby / Soccer Game and BBQ
DESCRIPTION:Soccer game and bbq offered to the temporaire foreign workers. \nSaturday\, August 12\, from 10 A.M. to 2 P.M.at the Parc Poitevin in Granby. \nRegistration here : https://forms.office.com/pages/responsepage.aspx?id=0_JvlIF-AUOMcJZzeTeuK9Z4nxmedR5FjMolHYNnFTdUOTdQM1NDRVNEUlJETDNVT09IWlc4NDZVRy4u&origin=QRCode&qrcodeorigin=presentation \nContact at Intégration Compétences \nWhatsApp : + 1 514 434-3642 \nlilianasalgado@integrationcompetences.ca
URL:https://www.infotetquebec.com/en/event/granby-soccer-game-and-bbq/
LOCATION:Parc Poitevin\, 435 RUE REYNOLDS\, Granby\, Québec\, J2G 1C6\, Canada
CATEGORIES:soccer
ATTACH;FMTTYPE=application/pdf:https://www.infotetquebec.com/wp-content/uploads/2023/07/MATCH-DE-SOCCER-ET-BBQ_EN.pdf
ORGANIZER;CN="Int%C3%A9gration comp%C3%A9tences":MAILTO:lilianasalgado@integrationcompetences.ca
END:VEVENT
BEGIN:VEVENT
DTSTART;TZID=America/New_York:20230812T110000
DTEND;TZID=America/New_York:20230812T160000
DTSTAMP:20260424T082629
CREATED:20230803T183735Z
LAST-MODIFIED:20230803T183735Z
UID:7904-1691838000-1691856000@www.infotetquebec.com
SUMMARY:Coaticook / Lake Lyster beach outing
DESCRIPTION:BEACH OUTING LAKE LYSTER \nBeach\, volleyball\, kayak\, piñata\, games\, corn roast\, BBQ (hot dog) and musical entertainment! \nFREE ENTRY \nFREE ACTIVITIES FOR \nTEMPORARY FOREIGN WORKERS \nSATURDAY AUGUST 12 \n11AM TO 4PM \nRegister: +1 (873)662-2630 \nBring your own chairs or blankets. \nLake Lyster Beach \n119 Chem. des Chalets\, Coaticook
URL:https://www.infotetquebec.com/en/event/coaticook-lake-lyster-beach-outing/
LOCATION:Plage du lac Lyster\, 119 Chem. des Chalets\, Coaticook\, Québec\, J1A 2S4\, Canada
CATEGORIES:Cultural or sports activity
ATTACH;FMTTYPE=image/jpeg:https://www.infotetquebec.com/wp-content/uploads/2023/08/EOS-Sortie-a-la-plage-Lac-Lyster-Coaticook-QR-Fr.jpg
END:VEVENT
BEGIN:VEVENT
DTSTART;VALUE=DATE:20230813
DTEND;VALUE=DATE:20230814
DTSTAMP:20260424T082629
CREATED:20230808T185634Z
LAST-MODIFIED:20230808T185634Z
UID:8135-1691884800-1691971199@www.infotetquebec.com
SUMMARY:Saint-Férréol-les-Neiges / Public market
DESCRIPTION:Stroll through the Saint-Férréol-les-Neiges public market. \nFor more information and reservations\, contact Joany Boily\, 418 435-2503\, joany@cje-appui.qc.ca.
URL:https://www.infotetquebec.com/en/event/saint-ferreol-les-neiges-public-market/
LOCATION:marché public de Saint-Férréol-les-Neiges
ATTACH;FMTTYPE=image/png:https://www.infotetquebec.com/wp-content/uploads/2023/08/7198df98-3d8e-4f38-95c8-be9b652e997c.png
ORGANIZER;CN="Services de Main d'oeuvre L'Appui":MAILTO:info@cje-appui.qc.ca
END:VEVENT
BEGIN:VEVENT
DTSTART;VALUE=DATE:20230813
DTEND;VALUE=DATE:20230814
DTSTAMP:20260424T082629
CREATED:20230809T154458Z
LAST-MODIFIED:20230809T154458Z
UID:8261-1691884800-1691971199@www.infotetquebec.com
SUMMARY:Brownsburg-Chatam and Lachute / Horseback riding and beach outing
DESCRIPTION:Horseback riding at the SRA stable in Lachute and outing to the Brownsburg-Chatam municipal beach. \nInformation: Gabriel Garcia\, +1 450 612-2462
URL:https://www.infotetquebec.com/en/event/brownsburg-chatam-and-lachute-horseback-riding-and-beach-outing/
LOCATION:Écurie SRA\, 341 Rte 329\, Lachute\, Québec\, J8H 3W9\, Canada
CATEGORIES:Cultural or sports activity
ATTACH;FMTTYPE=image/jpeg:https://www.infotetquebec.com/wp-content/uploads/2023/08/beth-macdonald-7Y8gfWM-1dw-unsplash-scaled.jpg
ORGANIZER;CN="Centre pour l'immigration en r%C3%A9gion (CIR)":MAILTO:centrepourlimmigrationenregion.org
END:VEVENT
BEGIN:VEVENT
DTSTART;TZID=America/New_York:20230813T110000
DTEND;TZID=America/New_York:20230813T130000
DTSTAMP:20260424T082629
CREATED:20230808T160415Z
LAST-MODIFIED:20230808T160415Z
UID:8037-1691924400-1691931600@www.infotetquebec.com
SUMMARY:Saint-Basile / Soccer game
DESCRIPTION:Come and play soccer at the Saint-Basile field (10 Place de l’Église) every Sunday in the late\nmorning (10:30 am)!
URL:https://www.infotetquebec.com/en/event/saint-basile-soccer-game-6/
LOCATION:10\, place de l’Église\, Saint-Basile\, Portneuf\, Québec\, Canada
CATEGORIES:soccer
ATTACH;FMTTYPE=image/jpeg:https://www.infotetquebec.com/wp-content/uploads/2023/04/max-zindel-uPCTGBSrfsI-unsplash-2.jpg
END:VEVENT
BEGIN:VEVENT
DTSTART;TZID=America/New_York:20230813T160000
DTEND;TZID=America/New_York:20230813T180000
DTSTAMP:20260424T082629
CREATED:20230808T162441Z
LAST-MODIFIED:20230808T162441Z
UID:8064-1691942400-1691949600@www.infotetquebec.com
SUMMARY:Portneuf / Soccer game
DESCRIPTION:Come play soccer at the Portneuf field (100 Paquin Street) every Sunday afternoon\n(16 h)!
URL:https://www.infotetquebec.com/en/event/portneuf-soccer-game-9/
LOCATION:100\, rue Paquin\, Portneuf\, Québec\, Canada
CATEGORIES:soccer
ATTACH;FMTTYPE=image/jpeg:https://www.infotetquebec.com/wp-content/uploads/2023/05/chaos-soccer-gear-Cjfl8r_eYxY-unsplash.jpg
END:VEVENT
BEGIN:VEVENT
DTSTART;VALUE=DATE:20230814
DTEND;VALUE=DATE:20230815
DTSTAMP:20260424T082629
CREATED:20230808T184855Z
LAST-MODIFIED:20230808T184856Z
UID:8126-1691971200-1692057599@www.infotetquebec.com
SUMMARY:Charlevoix / Hiking in the Parc des Hautes-Gorges
DESCRIPTION:Don’t miss this nature hike in the Parc national des Hautes-Gorges-de-la-Rivière-Malbaie! \nFor more information and reservations\, contact Joany Boily\, 418 435-2503\, joany@cje-appui.qc.ca.
URL:https://www.infotetquebec.com/en/event/charlevoix-hiking-in-the-parc-des-hautes-gorges/
LOCATION:Parc national des Hautes‑Gorges-de-la-Rivière‑Malbaie
CATEGORIES:Cultural or sports activity
ATTACH;FMTTYPE=image/jpeg:https://www.infotetquebec.com/wp-content/uploads/2023/08/rando-scaled.jpg
ORGANIZER;CN="Services de Main d'oeuvre L'Appui":MAILTO:info@cje-appui.qc.ca
END:VEVENT
END:VCALENDAR