BEGIN:VCALENDAR
VERSION:2.0
PRODID:-//Infotetquebec - ECPv6.15.20//NONSGML v1.0//EN
CALSCALE:GREGORIAN
METHOD:PUBLISH
X-ORIGINAL-URL:https://www.infotetquebec.com/en/
X-WR-CALDESC:Events for Infotetquebec
REFRESH-INTERVAL;VALUE=DURATION:PT1H
X-Robots-Tag:noindex
X-PUBLISHED-TTL:PT1H
BEGIN:VTIMEZONE
TZID:America/New_York
BEGIN:DAYLIGHT
TZOFFSETFROM:-0500
TZOFFSETTO:-0400
TZNAME:EDT
DTSTART:20230312T070000
END:DAYLIGHT
BEGIN:STANDARD
TZOFFSETFROM:-0400
TZOFFSETTO:-0500
TZNAME:EST
DTSTART:20231105T060000
END:STANDARD
BEGIN:DAYLIGHT
TZOFFSETFROM:-0500
TZOFFSETTO:-0400
TZNAME:EDT
DTSTART:20240310T070000
END:DAYLIGHT
BEGIN:STANDARD
TZOFFSETFROM:-0400
TZOFFSETTO:-0500
TZNAME:EST
DTSTART:20241103T060000
END:STANDARD
BEGIN:DAYLIGHT
TZOFFSETFROM:-0500
TZOFFSETTO:-0400
TZNAME:EDT
DTSTART:20250309T070000
END:DAYLIGHT
BEGIN:STANDARD
TZOFFSETFROM:-0400
TZOFFSETTO:-0500
TZNAME:EST
DTSTART:20251102T060000
END:STANDARD
END:VTIMEZONE
BEGIN:VEVENT
DTSTART;TZID=America/New_York:20240718T190000
DTEND;TZID=America/New_York:20240718T203000
DTSTAMP:20260422T082008
CREATED:20240425T193736Z
LAST-MODIFIED:20240425T193736Z
UID:13681-1721329200-1721334600@www.infotetquebec.com
SUMMARY:Online / Health support group
DESCRIPTION:All players on the winning team will receive a bicycle as a gift!\n\nregistration required: karladuenas@lancre.ca\n\nregistration deadline: july 4
URL:https://www.infotetquebec.com/en/event/online-health-support-group-6/
LOCATION:En ligne
CATEGORIES:Information session,webinar
END:VEVENT
BEGIN:VEVENT
DTSTART;TZID=America/New_York:20240717T190000
DTEND;TZID=America/New_York:20240717T200000
DTSTAMP:20260422T082009
CREATED:20240722T190523Z
LAST-MODIFIED:20240722T190524Z
UID:14986-1721242800-1721246400@www.infotetquebec.com
SUMMARY:Online / Information session: what to do in the event of a workplace accident
DESCRIPTION:All players on the winning team will receive a bicycle as a gift!\n\nregistration required: karladuenas@lancre.ca\n\nregistration deadline: july 4
URL:https://www.infotetquebec.com/en/event/online-information-session-what-to-do-in-the-event-of-a-workplace-accident/
LOCATION:En ligne
CATEGORIES:Information session
END:VEVENT
BEGIN:VEVENT
DTSTART;TZID=America/New_York:20240714T120000
DTEND;TZID=America/New_York:20240714T180000
DTSTAMP:20260422T082009
CREATED:20240522T182927Z
LAST-MODIFIED:20240522T182927Z
UID:14280-1720958400-1720980000@www.infotetquebec.com
SUMMARY:Saint-Rémi / Inter-farm soccer tournament
DESCRIPTION:All players on the winning team will receive a bicycle as a gift!\n\nregistration required: karladuenas@lancre.ca\n\nregistration deadline: july 4
URL:https://www.infotetquebec.com/en/event/saint-remi-inter-farm-soccer-tournament-6/
LOCATION:terrain de soccer Saint-Rémi\, 25 Rue saint-sauveur\, Saint-Rémi\, Québec\, JOR 2L0\, Canada
CATEGORIES:soccer
ORGANIZER;CN="Complexe X Immigration":MAILTO:scerdeline@complx-immigration.ca
END:VEVENT
BEGIN:VEVENT
DTSTART;TZID=America/New_York:20240712T183000
DTEND;TZID=America/New_York:20240712T203000
DTSTAMP:20260422T082009
CREATED:20240617T171500Z
LAST-MODIFIED:20240617T171820Z
UID:14618-1720809000-1720816200@www.infotetquebec.com
SUMMARY:Beloeil / Information Evening
DESCRIPTION:All players on the winning team will receive a bicycle as a gift!\n\nregistration required: karladuenas@lancre.ca\n\nregistration deadline: july 4
URL:https://www.infotetquebec.com/en/event/beloeil-information-evening/
LOCATION:Locaux d’intégration compétences\, 287\, boul. Cartier\, Beloeil\, Québec\, J3G 3R2\, Canada
CATEGORIES:Information session
ORGANIZER;CN="Int%C3%A9gration comp%C3%A9tences":MAILTO:lilianasalgado@integrationcompetences.ca
END:VEVENT
BEGIN:VEVENT
DTSTART;TZID=America/New_York:20240707T120000
DTEND;TZID=America/New_York:20240707T180000
DTSTAMP:20260422T082009
CREATED:20240522T181213Z
LAST-MODIFIED:20240522T181213Z
UID:14268-1720353600-1720375200@www.infotetquebec.com
SUMMARY:Saint-Rémi / Inter-farm soccer tournament
DESCRIPTION:All players on the winning team will receive a bicycle as a gift!\n\nregistration required: karladuenas@lancre.ca\n\nregistration deadline: july 4
URL:https://www.infotetquebec.com/en/event/saint-remi-inter-farm-soccer-tournament-5/
LOCATION:terrain de soccer Saint-Rémi\, 25 Rue saint-sauveur\, Saint-Rémi\, Québec\, JOR 2L0\, Canada
CATEGORIES:soccer
ORGANIZER;CN="Complexe X Immigration":MAILTO:scerdeline@complx-immigration.ca
END:VEVENT
BEGIN:VEVENT
DTSTART;TZID=America/New_York:20240706T090000
DTEND;TZID=America/New_York:20240706T120000
DTSTAMP:20260422T082009
CREATED:20240617T205918Z
LAST-MODIFIED:20240617T205918Z
UID:14643-1720256400-1720267200@www.infotetquebec.com
SUMMARY:Saint-Alexandre / Express Soccer Tournament
DESCRIPTION:All players on the winning team will receive a bicycle as a gift!\n\nregistration required: karladuenas@lancre.ca\n\nregistration deadline: july 4
URL:https://www.infotetquebec.com/en/event/saint-alexandre-express-soccer-tournament/
LOCATION:Parc des loisirs\, 440\, rue Bernard\, Saint-Alexandre\, Québec\, JOJ 1S0\, Canada
CATEGORIES:Cultural or sports activity,soccer
END:VEVENT
BEGIN:VEVENT
DTSTART;TZID=America/New_York:20240704T190000
DTEND;TZID=America/New_York:20240704T203000
DTSTAMP:20260422T082009
CREATED:20240425T193309Z
LAST-MODIFIED:20240425T193309Z
UID:13672-1720119600-1720125000@www.infotetquebec.com
SUMMARY:Online / Health support group
DESCRIPTION:All players on the winning team will receive a bicycle as a gift!\n\nregistration required: karladuenas@lancre.ca\n\nregistration deadline: july 4
URL:https://www.infotetquebec.com/en/event/online-health-support-group-5/
LOCATION:En ligne
CATEGORIES:Information session,webinar
END:VEVENT
BEGIN:VEVENT
DTSTART;TZID=America/New_York:20240630T120000
DTEND;TZID=America/New_York:20240630T180000
DTSTAMP:20260422T082009
CREATED:20240522T175728Z
LAST-MODIFIED:20240522T175729Z
UID:14255-1719748800-1719770400@www.infotetquebec.com
SUMMARY:Saint-Rémi / Inter-farm soccer tournament
DESCRIPTION:All players on the winning team will receive a bicycle as a gift!\n\nregistration required: karladuenas@lancre.ca\n\nregistration deadline: july 4
URL:https://www.infotetquebec.com/en/event/saint-remi-inter-farm-soccer-tournament-4/
LOCATION:terrain de soccer Saint-Rémi\, 25 Rue saint-sauveur\, Saint-Rémi\, Québec\, JOR 2L0\, Canada
CATEGORIES:soccer
ORGANIZER;CN="Complexe X Immigration":MAILTO:scerdeline@complx-immigration.ca
END:VEVENT
BEGIN:VEVENT
DTSTART;TZID=America/New_York:20240629T120000
DTEND;TZID=America/New_York:20240629T170000
DTSTAMP:20260422T082009
CREATED:20240619T204734Z
LAST-MODIFIED:20240619T205310Z
UID:14710-1719662400-1719680400@www.infotetquebec.com
SUMMARY:Cap Saint-Ignace / Launch of the intercultural soccer league
DESCRIPTION:All players on the winning team will receive a bicycle as a gift!\n\nregistration required: karladuenas@lancre.ca\n\nregistration deadline: july 4
URL:https://www.infotetquebec.com/en/event/cap-saint-ignace-launch-of-the-intercultural-soccer-league/
LOCATION:Parc Optimiste\, 630 Rte du Petit Cap\, Cap-Saint-Ignace\, Québec\, G0R 1H0\, Canada
CATEGORIES:Cultural or sports activity,soccer
ORGANIZER;CN="Corporation de d%C3%A9veloppement %C3%A9conomique de la MRC de Montmagny (CDEMM)":MAILTO:abrebion@cgocable.ca
END:VEVENT
BEGIN:VEVENT
DTSTART;TZID=America/New_York:20240629T100000
DTEND;TZID=America/New_York:20240629T123000
DTSTAMP:20260422T082009
CREATED:20240625T145224Z
LAST-MODIFIED:20240625T145224Z
UID:14738-1719655200-1719664200@www.infotetquebec.com
SUMMARY:Sainte-Thérèse / Soccer
DESCRIPTION:All players on the winning team will receive a bicycle as a gift!\n\nregistration required: karladuenas@lancre.ca\n\nregistration deadline: july 4
URL:https://www.infotetquebec.com/en/event/sainte-therese-soccer/
LOCATION:Parc de Sève\, 840 Rue Pilon\, Sainte-Thérèse\, Québec\, J7E 4S3\, Canada
CATEGORIES:Cultural or sports activity,soccer
END:VEVENT
BEGIN:VEVENT
DTSTART;TZID=America/New_York:20240623T120000
DTEND;TZID=America/New_York:20240623T180000
DTSTAMP:20260422T082009
CREATED:20240522T174406Z
LAST-MODIFIED:20240522T174407Z
UID:14243-1719144000-1719165600@www.infotetquebec.com
SUMMARY:Saint-Rémi / Inter-farm soccer tournament
DESCRIPTION:All players on the winning team will receive a bicycle as a gift!\n\nregistration required: karladuenas@lancre.ca\n\nregistration deadline: july 4
URL:https://www.infotetquebec.com/en/event/saint-remi-inter-farm-soccer-tournament-3/
LOCATION:terrain de soccer Saint-Rémi\, 25 Rue saint-sauveur\, Saint-Rémi\, Québec\, JOR 2L0\, Canada
CATEGORIES:soccer
ORGANIZER;CN="Complexe X Immigration":MAILTO:scerdeline@complx-immigration.ca
END:VEVENT
BEGIN:VEVENT
DTSTART;TZID=America/New_York:20240620T190000
DTEND;TZID=America/New_York:20240620T203000
DTSTAMP:20260422T082009
CREATED:20240425T185648Z
LAST-MODIFIED:20240425T185648Z
UID:13659-1718910000-1718915400@www.infotetquebec.com
SUMMARY:Online / Health support group
DESCRIPTION:All players on the winning team will receive a bicycle as a gift!\n\nregistration required: karladuenas@lancre.ca\n\nregistration deadline: july 4
URL:https://www.infotetquebec.com/en/event/online-health-support-group-4/
LOCATION:En ligne
CATEGORIES:Information session,webinar
END:VEVENT
BEGIN:VEVENT
DTSTART;TZID=America/New_York:20240616T120000
DTEND;TZID=America/New_York:20240616T180000
DTSTAMP:20260422T082009
CREATED:20240522T172018Z
LAST-MODIFIED:20240522T172027Z
UID:14229-1718539200-1718560800@www.infotetquebec.com
SUMMARY:Saint-Rémi / Inter-farm soccer tournament
DESCRIPTION:All players on the winning team will receive a bicycle as a gift!\n\nregistration required: karladuenas@lancre.ca\n\nregistration deadline: july 4
URL:https://www.infotetquebec.com/en/event/saint-remi-inter-farm-soccer-tournament-2/
LOCATION:terrain de soccer Saint-Rémi\, 25 Rue saint-sauveur\, Saint-Rémi\, Québec\, JOR 2L0\, Canada
CATEGORIES:soccer
ORGANIZER;CN="Complexe X Immigration":MAILTO:scerdeline@complx-immigration.ca
END:VEVENT
BEGIN:VEVENT
DTSTART;TZID=America/New_York:20240615T140000
DTEND;TZID=America/New_York:20240615T210000
DTSTAMP:20260422T082009
CREATED:20240409T190947Z
LAST-MODIFIED:20240409T191211Z
UID:13379-1718460000-1718485200@www.infotetquebec.com
SUMMARY:Granby / Basketball Tournament
DESCRIPTION:All players on the winning team will receive a bicycle as a gift!\n\nregistration required: karladuenas@lancre.ca\n\nregistration deadline: july 4
URL:https://www.infotetquebec.com/en/event/granby-basketball-tournament-10/
LOCATION:COLLEGE DU MONT SACRE COEUR PORTE #4\, 210 RUE DENISON EST\, Granby\, Canada
CATEGORIES:basketball,Cultural or sports activity
END:VEVENT
BEGIN:VEVENT
DTSTART;TZID=America/New_York:20240615T103000
DTEND;TZID=America/New_York:20240615T143000
DTSTAMP:20260422T082009
CREATED:20240613T144245Z
LAST-MODIFIED:20240613T144245Z
UID:14549-1718447400-1718461800@www.infotetquebec.com
SUMMARY:Mont Hereford / Hiking
DESCRIPTION:All players on the winning team will receive a bicycle as a gift!\n\nregistration required: karladuenas@lancre.ca\n\nregistration deadline: july 4
URL:https://www.infotetquebec.com/en/event/mont-hereford-hiking/
LOCATION:2020 CHEM. CENTENNIAL\, STATIONNEMENT DE ST-HERMÉNÉGILDE\, Canada
CATEGORIES:Cultural or sports activity
END:VEVENT
BEGIN:VEVENT
DTSTART;TZID=America/New_York:20240614T180000
DTEND;TZID=America/New_York:20240614T200000
DTSTAMP:20260422T082009
CREATED:20240515T163134Z
LAST-MODIFIED:20240515T164052Z
UID:14025-1718388000-1718395200@www.infotetquebec.com
SUMMARY:Granby / Meeting with the CNESST prevention squad for TFWs
DESCRIPTION:All players on the winning team will receive a bicycle as a gift!\n\nregistration required: karladuenas@lancre.ca\n\nregistration deadline: july 4
URL:https://www.infotetquebec.com/en/event/granby-meeting-with-the-cnesst-prevention-squad-for-tfws/
LOCATION:Centre culturel France Arbour\, 279 Rue Principale bureau 211\, Granby\, Québec\, J2G 2W1\, Canada
CATEGORIES:Information session
ORGANIZER;CN="Granby Industriel":MAILTO:ga.brand@granby-industriel.com
END:VEVENT
BEGIN:VEVENT
DTSTART;TZID=America/New_York:20240614T180000
DTEND;TZID=America/New_York:20240614T190000
DTSTAMP:20260422T082009
CREATED:20240605T172811Z
LAST-MODIFIED:20240605T172812Z
UID:14476-1718388000-1718391600@www.infotetquebec.com
SUMMARY:Montreal + online / Conference: Increasing autonomy and social inclusion
DESCRIPTION:All players on the winning team will receive a bicycle as a gift!\n\nregistration required: karladuenas@lancre.ca\n\nregistration deadline: july 4
URL:https://www.infotetquebec.com/en/event/montreal-online-conference-increasing-autonomy-and-social-inclusion/
LOCATION:CACI\, 12049\, boul. Laurentien\, salle 402\, Montréal\, Québec\, H4K 1M8\, Canada
CATEGORIES:Information session
ORGANIZER;CN="CACI":MAILTO:info@caci-bc.org
END:VEVENT
BEGIN:VEVENT
DTSTART;TZID=America/New_York:20240614T170000
DTEND;TZID=America/New_York:20240614T190000
DTSTAMP:20260422T082009
CREATED:20240612T171518Z
LAST-MODIFIED:20240612T171519Z
UID:14492-1718384400-1718391600@www.infotetquebec.com
SUMMARY:Granby / INFORMATION SESSION WITH CNESST
DESCRIPTION:All players on the winning team will receive a bicycle as a gift!\n\nregistration required: karladuenas@lancre.ca\n\nregistration deadline: july 4
URL:https://www.infotetquebec.com/en/event/granby-information-session-with-cnesst/
LOCATION:Québec
CATEGORIES:Information session
ORGANIZER;CN="Granby Industriel":MAILTO:ga.brand@granby-industriel.com
END:VEVENT
BEGIN:VEVENT
DTSTART;TZID=America/New_York:20240609T120000
DTEND;TZID=America/New_York:20240609T180000
DTSTAMP:20260422T082009
CREATED:20240522T171022Z
LAST-MODIFIED:20240522T171321Z
UID:14212-1717934400-1717956000@www.infotetquebec.com
SUMMARY:Saint-Rémi / Inter-farm soccer tournament
DESCRIPTION:All players on the winning team will receive a bicycle as a gift!\n\nregistration required: karladuenas@lancre.ca\n\nregistration deadline: july 4
URL:https://www.infotetquebec.com/en/event/saint-remi-inter-farm-soccer-tournament/
LOCATION:terrain de soccer Saint-Rémi\, 25 Rue saint-sauveur\, Saint-Rémi\, Québec\, JOR 2L0\, Canada
CATEGORIES:soccer
ORGANIZER;CN="Complexe X Immigration":MAILTO:scerdeline@complx-immigration.ca
END:VEVENT
BEGIN:VEVENT
DTSTART;TZID=America/New_York:20240608T140000
DTEND;TZID=America/New_York:20240608T210000
DTSTAMP:20260422T082009
CREATED:20240409T190259Z
LAST-MODIFIED:20240409T190502Z
UID:13365-1717855200-1717880400@www.infotetquebec.com
SUMMARY:Granby / Basketball Tournament
DESCRIPTION:All players on the winning team will receive a bicycle as a gift!\n\nregistration required: karladuenas@lancre.ca\n\nregistration deadline: july 4
URL:https://www.infotetquebec.com/en/event/granby-basketball-tournament-9/
LOCATION:COLLEGE DU MONT SACRE COEUR PORTE #4\, 210 RUE DENISON EST\, Granby\, Canada
CATEGORIES:basketball,Cultural or sports activity
END:VEVENT
BEGIN:VEVENT
DTSTART;TZID=America/New_York:20240606T193000
DTEND;TZID=America/New_York:20240606T210000
DTSTAMP:20260422T082009
CREATED:20240425T184735Z
LAST-MODIFIED:20240425T184735Z
UID:13650-1717702200-1717707600@www.infotetquebec.com
SUMMARY:Online / Health support group
DESCRIPTION:All players on the winning team will receive a bicycle as a gift!\n\nregistration required: karladuenas@lancre.ca\n\nregistration deadline: july 4
URL:https://www.infotetquebec.com/en/event/online-health-support-group-3/
LOCATION:En ligne
CATEGORIES:Information session
END:VEVENT
BEGIN:VEVENT
DTSTART;TZID=America/New_York:20240602T120000
DTEND;TZID=America/New_York:20240602T180000
DTSTAMP:20260422T082009
CREATED:20240522T170100Z
LAST-MODIFIED:20240522T170217Z
UID:14195-1717329600-1717351200@www.infotetquebec.com
SUMMARY:Saint-Rémi / Inter-farm soccer tournament
DESCRIPTION:All players on the winning team will receive a bicycle as a gift!\n\nregistration required: karladuenas@lancre.ca\n\nregistration deadline: july 4
URL:https://www.infotetquebec.com/en/event/saint-remi-womens-soccer-tournament/
LOCATION:terrain de soccer Saint-Rémi\, 25 Rue saint-sauveur\, Saint-Rémi\, Québec\, JOR 2L0\, Canada
CATEGORIES:soccer
ORGANIZER;CN="Complexe X Immigration":MAILTO:scerdeline@complx-immigration.ca
END:VEVENT
BEGIN:VEVENT
DTSTART;TZID=America/New_York:20240601T080000
DTEND;TZID=America/New_York:20240601T170000
DTSTAMP:20260422T082009
CREATED:20240409T185741Z
LAST-MODIFIED:20240409T190003Z
UID:13351-1717228800-1717261200@www.infotetquebec.com
SUMMARY:Granby / Basketball Tournament
DESCRIPTION:All players on the winning team will receive a bicycle as a gift!\n\nregistration required: karladuenas@lancre.ca\n\nregistration deadline: july 4
URL:https://www.infotetquebec.com/en/event/granby-basketball-tournament-8/
LOCATION:COLLEGE DU MONT SACRE COEUR PORTE #4\, 210 RUE DENISON EST\, Granby\, Canada
CATEGORIES:basketball,Cultural or sports activity
END:VEVENT
BEGIN:VEVENT
DTSTART;TZID=America/New_York:20240531T183000
DTEND;TZID=America/New_York:20240531T203000
DTSTAMP:20260422T082009
CREATED:20240523T174751Z
LAST-MODIFIED:20240523T175321Z
UID:14427-1717180200-1717187400@www.infotetquebec.com
SUMMARY:Donnacona / CNESST presentation activity
DESCRIPTION:All players on the winning team will receive a bicycle as a gift!\n\nregistration required: karladuenas@lancre.ca\n\nregistration deadline: july 4
URL:https://www.infotetquebec.com/en/event/donnacona-cnesst-presentation-activity/
LOCATION:BUREAUX DE L’ATP À DONNACONA\, 162\, rue Notre-Dame\, suite 101\, Donnacona\, Québec\, G3M 1G4\, Canada
CATEGORIES:Information session
END:VEVENT
BEGIN:VEVENT
DTSTART;TZID=America/New_York:20240528T180000
DTEND;TZID=America/New_York:20240528T190000
DTSTAMP:20260422T082009
CREATED:20240502T183039Z
LAST-MODIFIED:20240502T183039Z
UID:13779-1716919200-1716922800@www.infotetquebec.com
SUMMARY:Radio Coaticook CIGN FM 96\,7 : support organizations
DESCRIPTION:All players on the winning team will receive a bicycle as a gift!\n\nregistration required: karladuenas@lancre.ca\n\nregistration deadline: july 4
URL:https://www.infotetquebec.com/en/event/radio-coaticook-cign-fm-967-support-organizations/
LOCATION:En ligne
END:VEVENT
BEGIN:VEVENT
DTSTART;TZID=America/New_York:20240527T183000
DTEND;TZID=America/New_York:20240527T203000
DTSTAMP:20260422T082009
CREATED:20240524T164200Z
LAST-MODIFIED:20240524T164201Z
UID:14464-1716834600-1716841800@www.infotetquebec.com
SUMMARY:Québec / CNESST information workshop in French and Spanish
DESCRIPTION:All players on the winning team will receive a bicycle as a gift!\n\nregistration required: karladuenas@lancre.ca\n\nregistration deadline: july 4
URL:https://www.infotetquebec.com/en/event/quebec-cnesst-information-workshop-in-french-and-spanish/
LOCATION:Iberville Quatre\, 2954 Bd Laurier Bureau 650\, Québec\, Québec\, G1V 4T2\, Canada
CATEGORIES:Information session
END:VEVENT
BEGIN:VEVENT
DTSTART;TZID=America/New_York:20240526T170000
DTEND;TZID=America/New_York:20240526T190000
DTSTAMP:20260422T082009
CREATED:20240322T181941Z
LAST-MODIFIED:20240322T181941Z
UID:13021-1716742800-1716750000@www.infotetquebec.com
SUMMARY:Saint-Basile / Indoor soccer
DESCRIPTION:All players on the winning team will receive a bicycle as a gift!\n\nregistration required: karladuenas@lancre.ca\n\nregistration deadline: july 4
URL:https://www.infotetquebec.com/en/event/saint-basile-indoor-soccer-16/
LOCATION:Centre communautaire Ernest Papillon de St-Basile\, 100 Rang Ste Angélique\, Saint-Basile\, Québec\, G0A 3G0\, Canada
CATEGORIES:soccer
END:VEVENT
BEGIN:VEVENT
DTSTART;TZID=America/New_York:20240525T140000
DTEND;TZID=America/New_York:20240525T210000
DTSTAMP:20260422T082009
CREATED:20240409T184414Z
LAST-MODIFIED:20240409T184747Z
UID:13337-1716645600-1716670800@www.infotetquebec.com
SUMMARY:Granby / Basketball Tournament
DESCRIPTION:All players on the winning team will receive a bicycle as a gift!\n\nregistration required: karladuenas@lancre.ca\n\nregistration deadline: july 4
URL:https://www.infotetquebec.com/en/event/granby-basketball-tournament-7/
LOCATION:COLLEGE DU MONT SACRE COEUR PORTE #4\, 210 RUE DENISON EST\, Granby\, Canada
CATEGORIES:basketball,Cultural or sports activity
END:VEVENT
BEGIN:VEVENT
DTSTART;TZID=America/New_York:20240523T190000
DTEND;TZID=America/New_York:20240523T203000
DTSTAMP:20260422T082009
CREATED:20240425T184155Z
LAST-MODIFIED:20240425T184155Z
UID:13641-1716490800-1716496200@www.infotetquebec.com
SUMMARY:Online / Health support group
DESCRIPTION:All players on the winning team will receive a bicycle as a gift!\n\nregistration required: karladuenas@lancre.ca\n\nregistration deadline: july 4
URL:https://www.infotetquebec.com/en/event/online-health-support-group-2/
LOCATION:Québec
CATEGORIES:Information session,webinar
END:VEVENT
BEGIN:VEVENT
DTSTART;TZID=America/New_York:20240523T140000
DTEND;TZID=America/New_York:20240523T180000
DTSTAMP:20260422T082009
CREATED:20240515T145616Z
LAST-MODIFIED:20240515T145616Z
UID:14012-1716472800-1716487200@www.infotetquebec.com
SUMMARY:Saint-Césaire / Consular day and information clinic
DESCRIPTION:All players on the winning team will receive a bicycle as a gift!\n\nregistration required: karladuenas@lancre.ca\n\nregistration deadline: july 4
URL:https://www.infotetquebec.com/en/event/saint-cesaire-consular-day-and-information-clinic/
LOCATION:Rancho Latino\, 2054 QC-112\, Saint-Césaire\, Québec\, Canada
CATEGORIES:Information session
ORGANIZER;CN="L'ANCRE":MAILTO:karladuenas@lancre.ca
END:VEVENT
END:VCALENDAR