BEGIN:VCALENDAR
VERSION:2.0
PRODID:-//Infotetquebec - ECPv6.15.20//NONSGML v1.0//EN
CALSCALE:GREGORIAN
METHOD:PUBLISH
X-ORIGINAL-URL:https://www.infotetquebec.com/en/
X-WR-CALDESC:Events for Infotetquebec
REFRESH-INTERVAL;VALUE=DURATION:PT1H
X-Robots-Tag:noindex
X-PUBLISHED-TTL:PT1H
BEGIN:VTIMEZONE
TZID:America/New_York
BEGIN:DAYLIGHT
TZOFFSETFROM:-0500
TZOFFSETTO:-0400
TZNAME:EDT
DTSTART:20220313T070000
END:DAYLIGHT
BEGIN:STANDARD
TZOFFSETFROM:-0400
TZOFFSETTO:-0500
TZNAME:EST
DTSTART:20221106T060000
END:STANDARD
BEGIN:DAYLIGHT
TZOFFSETFROM:-0500
TZOFFSETTO:-0400
TZNAME:EDT
DTSTART:20230312T070000
END:DAYLIGHT
BEGIN:STANDARD
TZOFFSETFROM:-0400
TZOFFSETTO:-0500
TZNAME:EST
DTSTART:20231105T060000
END:STANDARD
BEGIN:DAYLIGHT
TZOFFSETFROM:-0500
TZOFFSETTO:-0400
TZNAME:EDT
DTSTART:20240310T070000
END:DAYLIGHT
BEGIN:STANDARD
TZOFFSETFROM:-0400
TZOFFSETTO:-0500
TZNAME:EST
DTSTART:20241103T060000
END:STANDARD
END:VTIMEZONE
BEGIN:VEVENT
DTSTART;TZID=America/New_York:20230526T180000
DTEND;TZID=America/New_York:20230526T200000
DTSTAMP:20260424T064721
CREATED:20230428T141615Z
LAST-MODIFIED:20230428T141615Z
UID:6473-1685124000-1685131200@www.infotetquebec.com
SUMMARY:Portneuf / Soccer game
DESCRIPTION:Come play soccer at the Saint-Marc-des-Carrières field (1600 Bona-Dussault Boulevard) every\nFridays (6 p.m.)!
URL:https://www.infotetquebec.com/en/event/portneuf-soccer-game-4/
LOCATION:1600 boul. Bona-Dussault\, Saint-Marc-des-Carrières\, Québec\, G0A 4B0\, Canada
CATEGORIES:soccer
ATTACH;FMTTYPE=image/jpeg:https://www.infotetquebec.com/wp-content/uploads/2023/04/max-zindel-uPCTGBSrfsI-unsplash-2.jpg
END:VEVENT
BEGIN:VEVENT
DTSTART;TZID=America/New_York:20230527T110000
DTEND;TZID=America/New_York:20230527T140000
DTSTAMP:20260424T064721
CREATED:20230519T184953Z
LAST-MODIFIED:20230519T184953Z
UID:7267-1685185200-1685196000@www.infotetquebec.com
SUMMARY:Sabrevois / Summer picnic
DESCRIPTION:Summer picnic to meet\, talk and have a good time! \nRegistration: karladuenas@lancre.ca / +1 438 390-2132
URL:https://www.infotetquebec.com/en/event/sabrevois-summer-picnic/
LOCATION:Quai Ryan\, 38e avenue\, Sabrevois\, Québec\, J0J2G0\, Canada
ATTACH;FMTTYPE=image/png:https://www.infotetquebec.com/wp-content/uploads/2023/05/LANCRE_TET_MAI2023finale.png
ORGANIZER;CN="L'ANCRE":MAILTO:karladuenas@lancre.ca
END:VEVENT
BEGIN:VEVENT
DTSTART;TZID=America/New_York:20230527T110000
DTEND;TZID=America/New_York:20230527T170000
DTSTAMP:20260424T064721
CREATED:20230504T155433Z
LAST-MODIFIED:20230504T155433Z
UID:6835-1685185200-1685206800@www.infotetquebec.com
SUMMARY:Coaticook / Fishing
DESCRIPTION:Participate in this fishing activity\, it’s free! \nReserve your place at + 1 873 662-2630.
URL:https://www.infotetquebec.com/en/event/coaticook-fishing/
LOCATION:Parc Découverte Nature\, 2471 Chemin de Baldwin Mills-Barnston\, Coaticook\, Québec\, J1A 2S4\, Canada
CATEGORIES:Cultural or sports activity
ATTACH;FMTTYPE=image/png:https://www.infotetquebec.com/wp-content/uploads/2023/05/EOS-PECHE-GOURMANDE-Coaticook-Es.png
END:VEVENT
BEGIN:VEVENT
DTSTART;TZID=America/New_York:20230528T103000
DTEND;TZID=America/New_York:20230528T123000
DTSTAMP:20260424T064721
CREATED:20230428T154743Z
LAST-MODIFIED:20230428T154743Z
UID:6512-1685269800-1685277000@www.infotetquebec.com
SUMMARY:Saint-Basile / Soccer game
DESCRIPTION:Come and play soccer at the Saint-Basile field (10 Place de l’Église) every Sunday in the late\nmorning (10:30 am)!
URL:https://www.infotetquebec.com/en/event/saint-basile-soccer-game-4/
LOCATION:10\, place de l’Église\, Saint-Basile\, Portneuf\, Québec\, Canada
CATEGORIES:soccer
ATTACH;FMTTYPE=image/jpeg:https://www.infotetquebec.com/wp-content/uploads/2023/04/max-zindel-uPCTGBSrfsI-unsplash-2.jpg
END:VEVENT
BEGIN:VEVENT
DTSTART;TZID=America/New_York:20230528T140000
DTEND;TZID=America/New_York:20230528T180000
DTSTAMP:20260424T064721
CREATED:20230516T144002Z
LAST-MODIFIED:20230518T204317Z
UID:7118-1685282400-1685296800@www.infotetquebec.com
SUMMARY:Sainte-Clothilde-de Châteauguay / Sports circuit and soccer
DESCRIPTION:Every Sunday from 2 to 6 pm at Centre communautaire Sainte-Clothilde. \nInscription : scerdeline@complx-immigration.ca / 438 368-4613 \n 
URL:https://www.infotetquebec.com/en/event/sainte-clothilde-de-chateauguay-sports-circuit-and-soccer/
LOCATION:Parc Lester\, 2452\, chemin de l’Église\, Sainte-Clothilde-de-Châteauguay\, Québec\, J0L1W0\, Canada
CATEGORIES:soccer
ATTACH;FMTTYPE=image/png:https://www.infotetquebec.com/wp-content/uploads/2023/05/Complex_Activites-T-Etrangers-Club-Sportif_ESPANOL.png
ORGANIZER;CN="Complexe X Immigration":MAILTO:scerdeline@complx-immigration.ca
END:VEVENT
BEGIN:VEVENT
DTSTART;TZID=America/New_York:20230528T160000
DTEND;TZID=America/New_York:20230528T180000
DTSTAMP:20260424T064721
CREATED:20230428T152512Z
LAST-MODIFIED:20230428T152512Z
UID:6493-1685289600-1685296800@www.infotetquebec.com
SUMMARY:Portneuf / Soccer game
DESCRIPTION:Come play soccer at the Portneuf field (100 Paquin Street) every Sunday afternoon\n(16 h)!
URL:https://www.infotetquebec.com/en/event/portneuf-soccer-game-8/
LOCATION:100\, rue Paquin\, Portneuf\, Québec\, Canada
CATEGORIES:soccer
ATTACH;FMTTYPE=image/jpeg:https://www.infotetquebec.com/wp-content/uploads/2023/04/max-zindel-uPCTGBSrfsI-unsplash-2.jpg
END:VEVENT
BEGIN:VEVENT
DTSTART;TZID=America/New_York:20230529T190000
DTEND;TZID=America/New_York:20230529T200000
DTSTAMP:20260424T064721
CREATED:20230518T211904Z
LAST-MODIFIED:20230518T211904Z
UID:7187-1685386800-1685390400@www.infotetquebec.com
SUMMARY:Virtual discussion evenings
DESCRIPTION:You are cordially invited to an evening virtual chat on Quebec culture and values as well as an information session on labour standards\, health and safety. \nEvery Monday and Wednesday from 7 to 8 pm. \nRegistration: scerdeline@complx-immigration.ca \n+ 1 438 368-4613
URL:https://www.infotetquebec.com/en/event/virtual-discussion-evenings/
LOCATION:En ligne
CATEGORIES:webinar
ATTACH;FMTTYPE=image/png:https://www.infotetquebec.com/wp-content/uploads/2023/05/COMPLEXE-X_Activites-T-Etrangers-Causeries.png
END:VEVENT
BEGIN:VEVENT
DTSTART;TZID=America/New_York:20230531T100000
DTEND;TZID=America/New_York:20230531T180000
DTSTAMP:20260424T064721
CREATED:20230504T163345Z
LAST-MODIFIED:20230504T164427Z
UID:6849-1685527200-1685556000@www.infotetquebec.com
SUMMARY:Montréal / Immigration and integration Fair in Quebec
DESCRIPTION:JOIN US! \nThe Fair will be held on May 31 and June 1\, 2023 at the Palais des congrès de Montréal. It is an opportunity to meet companies and actors from the community and civil society. The InfoTET team and the organizations participating in the projects will be on site at booth 437. Come and meet us! \nRegister for free HERE.\nFor more information on the Fair: salonimmigration.com.
URL:https://www.infotetquebec.com/en/event/montreal-immigration-and-integration-fair-in-quebec/
LOCATION:Palais des congrès de Montréal\, 1001 Place Jean Paul Riopelle\, Montréal\, Québec\, H2Z 1H5\, Canada
CATEGORIES:Networking
ATTACH;FMTTYPE=image/png:https://www.infotetquebec.com/wp-content/uploads/2023/05/SIIQ-2023-FacebookTwitterLogos-940x788-En.png
END:VEVENT
BEGIN:VEVENT
DTSTART;TZID=America/New_York:20230531T190000
DTEND;TZID=America/New_York:20230531T200000
DTSTAMP:20260424T064721
CREATED:20230518T213502Z
LAST-MODIFIED:20230518T213502Z
UID:7200-1685559600-1685563200@www.infotetquebec.com
SUMMARY:Virtual discussion evenings
DESCRIPTION:You are cordially invited to an evening virtual chat on Quebec culture and values as well as an information session on labour standards\, health and safety. \nEvery Monday and Wednesday from 7 to 8 pm. \nRegistration: scerdeline@complx-immigration.ca \n+ 1 438 368-4613
URL:https://www.infotetquebec.com/en/event/virtual-discussion-evenings-2/
LOCATION:En ligne
ATTACH;FMTTYPE=image/png:https://www.infotetquebec.com/wp-content/uploads/2023/05/Complex-X-Causerie_SPAN.png
ORGANIZER;CN="Complexe X Immigration":MAILTO:scerdeline@complx-immigration.ca
END:VEVENT
BEGIN:VEVENT
DTSTART;TZID=America/New_York:20230601T100000
DTEND;TZID=America/New_York:20230601T180000
DTSTAMP:20260424T064721
CREATED:20230504T163902Z
LAST-MODIFIED:20230504T164846Z
UID:6858-1685613600-1685642400@www.infotetquebec.com
SUMMARY:Montréal / Immigration and integration Fair in Quebec 2023
DESCRIPTION:JOIN US! \nThe Fair will be held on May 31 and June 1\, 2023 at the Palais des congrès de Montréal. It is an opportunity to meet companies and actors from the community and civil society. The InfoTET team and the organizations participating in the projects will be on site at booth 437. Come and meet us! \nRegister for free HERE.\nFor more information on the Fair: salonimmigration.com. \n 
URL:https://www.infotetquebec.com/en/event/montreal-immigration-and-integration-fair-in-quebec-2023/
LOCATION:Palais des congrès de Montréal\, 1001 Place Jean Paul Riopelle\, Montréal\, Québec\, H2Z 1H5\, Canada
CATEGORIES:Networking
ATTACH;FMTTYPE=image/png:https://www.infotetquebec.com/wp-content/uploads/2023/05/SIIQ-2023-FacebookTwitterLogos-940x788-En.png
END:VEVENT
BEGIN:VEVENT
DTSTART;TZID=America/New_York:20230604T120000
DTEND;TZID=America/New_York:20230604T170000
DTSTAMP:20260424T064721
CREATED:20230519T141838Z
LAST-MODIFIED:20230519T142111Z
UID:7254-1685880000-1685898000@www.infotetquebec.com
SUMMARY:Sainte-Clothilde-de-Châteauguay / Soccer\, sports circuit and bike shed
DESCRIPTION:Afternoon of activities at the Sainte-Clothilde Community Center. Come and have fun! \nSports circuit\nFriendly soccer game\nBike giveaway (for selected workers)\nRegistration: scerdeline@complx-immigration.ca \n+ 1 438 368-4613
URL:https://www.infotetquebec.com/en/event/sainte-clothilde-de-chateauguay-futbol-circuito-deportivo-y-cobertizo-para-bicicletas/
LOCATION:Centre communautaire de Sainte-Clothilde\, 824\, 2e rang\, Sainte-Clothilde-de-Châteauguay\, Québec\, J0L1W0\, Canada
CATEGORIES:soccer
ATTACH;FMTTYPE=image/jpeg:https://www.infotetquebec.com/wp-content/uploads/2023/05/chaos-soccer-gear-Cjfl8r_eYxY-unsplash.jpg
ORGANIZER;CN="Complexe X Immigration":MAILTO:scerdeline@complx-immigration.ca
END:VEVENT
BEGIN:VEVENT
DTSTART;TZID=America/New_York:20230604T140000
DTEND;TZID=America/New_York:20230604T180000
DTSTAMP:20260424T064721
CREATED:20230518T171615Z
LAST-MODIFIED:20230518T203722Z
UID:7133-1685887200-1685901600@www.infotetquebec.com
SUMMARY:Sainte-Clothilde-de Châteauguay / Sports circuit and soccer
DESCRIPTION:Every Sunday from 2 pm to 6 pm at Centre communautaire Sainte-Clothilde. \nInscription : scerdeline@complx-immigration.ca / 438 368-4613
URL:https://www.infotetquebec.com/en/event/sainte-clothilde-de-chateauguay-sports-circuit-and-soccer-2/
LOCATION:Centre communautaire Sainte-Clothilde\, 824\, 2e rang\, Sainte-Clothilde-de-Châteauguay\, Québec\, J0L1W0\, Canada
CATEGORIES:soccer
ATTACH;FMTTYPE=image/png:https://www.infotetquebec.com/wp-content/uploads/2023/05/Complex_Activites-T-Etrangers-Club-Sportif_ESPANOL.png
ORGANIZER;CN="Complexe X Immigration":MAILTO:scerdeline@complx-immigration.ca
END:VEVENT
BEGIN:VEVENT
DTSTART;TZID=America/New_York:20230605T190000
DTEND;TZID=America/New_York:20230605T200000
DTSTAMP:20260424T064721
CREATED:20230518T213735Z
LAST-MODIFIED:20230518T213735Z
UID:7204-1685991600-1685995200@www.infotetquebec.com
SUMMARY:Virtual discussion evenings
DESCRIPTION:You are cordially invited to an evening virtual chat on Quebec culture and values as well as an information session on labour standards\, health and safety. \nEvery Monday and Wednesday from 7 to 8 pm. \nRegistration: scerdeline@complx-immigration.ca \n+ 1 438 368-4613
URL:https://www.infotetquebec.com/en/event/virtual-discussion-evenings-3/
LOCATION:En ligne
CATEGORIES:webinar
ATTACH;FMTTYPE=image/png:https://www.infotetquebec.com/wp-content/uploads/2023/05/COMPLEXE-X_Activites-T-Etrangers-Causeries.png
ORGANIZER;CN="Complexe X Immigration":MAILTO:scerdeline@complx-immigration.ca
END:VEVENT
BEGIN:VEVENT
DTSTART;TZID=America/New_York:20230607T190000
DTEND;TZID=America/New_York:20230607T200000
DTSTAMP:20260424T064721
CREATED:20230518T214141Z
LAST-MODIFIED:20230518T214141Z
UID:7208-1686164400-1686168000@www.infotetquebec.com
SUMMARY:Virtual discussion evenings
DESCRIPTION:You are cordially invited to an evening virtual chat on Quebec culture and values as well as an information session on labour standards\, health and safety. \nEvery Monday and Wednesday from 7 to 8 pm. \nRegistration: scerdeline@complx-immigration.ca \n+ 1 438 368-4613
URL:https://www.infotetquebec.com/en/event/virtual-discussion-evenings-4/
LOCATION:En ligne
CATEGORIES:webinar
ATTACH;FMTTYPE=image/png:https://www.infotetquebec.com/wp-content/uploads/2023/05/COMPLEXE-X_Activites-T-Etrangers-Causeries.png
ORGANIZER;CN="Complexe X Immigration":MAILTO:scerdeline@complx-immigration.ca
END:VEVENT
BEGIN:VEVENT
DTSTART;TZID=America/New_York:20230609T180000
DTEND;TZID=America/New_York:20230609T210000
DTSTAMP:20260424T064721
CREATED:20230607T144511Z
LAST-MODIFIED:20230607T144511Z
UID:7475-1686333600-1686344400@www.infotetquebec.com
SUMMARY:Beaupré / Pottery
DESCRIPTION:Artistic modeling activity with a social flavor. \nFor more information and reservations\, contact Joany Boily\, 418 435-2503\, joany@cje-appui.qc.ca.
URL:https://www.infotetquebec.com/en/event/beaupre-pottery/
LOCATION:Beaupré
CATEGORIES:Cultural or sports activity
ATTACH;FMTTYPE=image/jpeg:https://www.infotetquebec.com/wp-content/uploads/2023/06/poterie-scaled.jpg
ORGANIZER;CN="Services de Main d'oeuvre L'Appui":MAILTO:info@cje-appui.qc.ca
END:VEVENT
BEGIN:VEVENT
DTSTART;TZID=America/New_York:20230609T200000
DTEND;TZID=America/New_York:20230609T220000
DTSTAMP:20260424T064721
CREATED:20230606T195447Z
LAST-MODIFIED:20230606T195447Z
UID:7430-1686340800-1686348000@www.infotetquebec.com
SUMMARY:Coaticook / Soccer game
DESCRIPTION:Every Friday from 8pm to 10pm. \nCome and play with us! \nReservations: WhatsApp +1 873 662-2630
URL:https://www.infotetquebec.com/en/event/coaticook-soccer-game/
LOCATION:PARC LAURENCE (TERRAIN 1)\, RUE LAURENCE\, Coaticook\, Québec\, Canada
ATTACH;FMTTYPE=image/jpeg:https://www.infotetquebec.com/wp-content/uploads/2023/06/EOS-Match-Football-Coaticook-Fr.jpg
END:VEVENT
BEGIN:VEVENT
DTSTART;TZID=America/New_York:20230610T100000
DTEND;TZID=America/New_York:20230610T120000
DTSTAMP:20260424T064721
CREATED:20230606T191227Z
LAST-MODIFIED:20230606T191227Z
UID:7401-1686391200-1686398400@www.infotetquebec.com
SUMMARY:Sherbrooke / Soccer
DESCRIPTION:Every Saturday from 10am to 12pm. \nCome and play soccer with us! \nReservations: +1 873 662-2630.
URL:https://www.infotetquebec.com/en/event/sherbrooke-soccer/
LOCATION:Parc Jean-Claude-Quirion\, Rue Chalifoux\, Sherbrooke\, Québec\, J1G 152\, Canada
CATEGORIES:soccer
ATTACH;FMTTYPE=image/jpeg:https://www.infotetquebec.com/wp-content/uploads/2023/06/EOS-Soccer-Sherbrooke-Fr.jpg
END:VEVENT
BEGIN:VEVENT
DTSTART;VALUE=DATE:20230611
DTEND;VALUE=DATE:20230612
DTSTAMP:20260424T064721
CREATED:20230428T155442Z
LAST-MODIFIED:20230428T155442Z
UID:6519-1686441600-1686527999@www.infotetquebec.com
SUMMARY:Donnaconna / Soccer and bbq
DESCRIPTION:Soccer and BBQ at Donnacona Field
URL:https://www.infotetquebec.com/en/event/donnaconna-soccer-and-bbq/
LOCATION:Terrain de soccer de Donnaconna\, Donnaconna\, Québec
CATEGORIES:soccer
ATTACH;FMTTYPE=image/jpeg:https://www.infotetquebec.com/wp-content/uploads/2023/04/de-an-sun-C-ma9eCceg8-unsplash-2.jpg
END:VEVENT
BEGIN:VEVENT
DTSTART;TZID=America/New_York:20230611T140000
DTEND;TZID=America/New_York:20230611T180000
DTSTAMP:20260424T064721
CREATED:20230518T205117Z
LAST-MODIFIED:20230518T205117Z
UID:7177-1686492000-1686506400@www.infotetquebec.com
SUMMARY:Sainte-Clothilde-de Châteauguay / Sports circuit and soccer
DESCRIPTION:Every Sunday from 2 to 6 pm at Centre communautaire Sainte-Clothilde. \nInscription : scerdeline@complx-immigration.ca / 438 368-4613
URL:https://www.infotetquebec.com/en/event/sainte-clothilde-de-chateauguay-sports-circuit-and-soccer-5/
LOCATION:Centre communautaire Sainte-Clothilde\, 824\, 2e rang\, Sainte-Clothilde-de-Châteauguay\, Québec\, J0L1W0\, Canada
ATTACH;FMTTYPE=image/png:https://www.infotetquebec.com/wp-content/uploads/2023/05/Complex_Activites-T-Etrangers-Club-Sportif_ESPANOL.png
ORGANIZER;CN="Complexe X Immigration":MAILTO:scerdeline@complx-immigration.ca
END:VEVENT
BEGIN:VEVENT
DTSTART;TZID=America/New_York:20230612T190000
DTEND;TZID=America/New_York:20230612T200000
DTSTAMP:20260424T064721
CREATED:20230518T214655Z
LAST-MODIFIED:20230518T214655Z
UID:7214-1686596400-1686600000@www.infotetquebec.com
SUMMARY:Virtual discussion evenings
DESCRIPTION:You are cordially invited to an evening virtual chat on Quebec culture and values as well as an information session on labour standards\, health and safety. \nEvery Monday and Wednesday from 7 to 8 pm. \nRegistration: scerdeline@complx-immigration.ca \n+ 1 438 368-4613
URL:https://www.infotetquebec.com/en/event/virtual-discussion-evenings-5/
LOCATION:En ligne
CATEGORIES:webinar
ATTACH;FMTTYPE=image/png:https://www.infotetquebec.com/wp-content/uploads/2023/05/COMPLEXE-X_Activites-T-Etrangers-Causeries.png
ORGANIZER;CN="Complexe X Immigration":MAILTO:scerdeline@complx-immigration.ca
END:VEVENT
BEGIN:VEVENT
DTSTART;TZID=America/New_York:20230613T170000
DTEND;TZID=America/New_York:20230613T170000
DTSTAMP:20260424T064721
CREATED:20230607T150623Z
LAST-MODIFIED:20230607T153526Z
UID:7490-1686675600-1686675600@www.infotetquebec.com
SUMMARY:La Malbaie / Nutrition and healthy eating workshop (French)
DESCRIPTION:Come and learn more about nutrition in this workshop offered by the CLSC (Centre local de services communautaires)! \nFor more information and reservations\, contact Joany Boily\, 418 435-2503\, joany@cje-appui.qc.ca.
URL:https://www.infotetquebec.com/en/event/la-malbaie-nutrition-and-healthy-eating-workshop/
LOCATION:La Malbaie
CATEGORIES:Information session
ATTACH;FMTTYPE=image/jpeg:https://www.infotetquebec.com/wp-content/uploads/2023/06/nutrition.jpg
ORGANIZER;CN="Services de Main d'oeuvre L'Appui":MAILTO:info@cje-appui.qc.ca
END:VEVENT
BEGIN:VEVENT
DTSTART;TZID=America/New_York:20230614T190000
DTEND;TZID=America/New_York:20230614T200000
DTSTAMP:20260424T064721
CREATED:20230519T130512Z
LAST-MODIFIED:20230519T130512Z
UID:7220-1686769200-1686772800@www.infotetquebec.com
SUMMARY:Virtual discussion evenings
DESCRIPTION:You are cordially invited to an evening virtual chat on Quebec culture and values as well as an information session on labour standards\, health and safety. \nEvery Monday and Wednesday from 7 to 8 pm. \nRegistration: scerdeline@complx-immigration.ca \n+ 1 438 368-4613
URL:https://www.infotetquebec.com/en/event/virtual-discussion-evenings-6/
LOCATION:En ligne
CATEGORIES:webinar
ATTACH;FMTTYPE=image/png:https://www.infotetquebec.com/wp-content/uploads/2023/05/COMPLEXE-X_Activites-T-Etrangers-Causeries.png
ORGANIZER;CN="Complexe X Immigration":MAILTO:scerdeline@complx-immigration.ca
END:VEVENT
BEGIN:VEVENT
DTSTART;TZID=America/New_York:20230616T190000
DTEND;TZID=America/New_York:20230616T190000
DTSTAMP:20260424T064721
CREATED:20230606T183644Z
LAST-MODIFIED:20230606T183644Z
UID:7388-1686942000-1686942000@www.infotetquebec.com
SUMMARY:Coaticook / Foresta Lumina
DESCRIPTION:Don’t miss the Foresta Lumina illuminated night-time trail! \nLimited seating. \nReservations: +1 873 662-2630.
URL:https://www.infotetquebec.com/en/event/coaticook-foresta-lumina/
LOCATION:Parc de la Gorge de Coaticook\, 135 Rue Michaud\, Coaticook\, Québec\, JIA 1A9\, Canada
CATEGORIES:Cultural or sports activity
ATTACH;FMTTYPE=image/png:https://www.infotetquebec.com/wp-content/uploads/2023/06/EOS-Foresta-lumina-coaticook-Fr.png
END:VEVENT
BEGIN:VEVENT
DTSTART;TZID=America/New_York:20230616T200000
DTEND;TZID=America/New_York:20230616T220000
DTSTAMP:20260424T064721
CREATED:20230606T200314Z
LAST-MODIFIED:20230606T200314Z
UID:7439-1686945600-1686952800@www.infotetquebec.com
SUMMARY:Coaticook / Soccer game
DESCRIPTION:Every Friday from 8pm to 10pm. \nCome and play with us! \nReservations: WhatsApp +1 873 662-2630
URL:https://www.infotetquebec.com/en/event/coaticook-soccer-game-2/
LOCATION:PARC LAURENCE (TERRAIN 1)\, RUE LAURENCE\, Coaticook\, Québec\, Canada
CATEGORIES:soccer
ATTACH;FMTTYPE=image/jpeg:https://www.infotetquebec.com/wp-content/uploads/2023/06/EOS-Match-Football-Coaticook-Fr.jpg
END:VEVENT
BEGIN:VEVENT
DTSTART;TZID=America/New_York:20230617T090000
DTEND;TZID=America/New_York:20230617T120000
DTSTAMP:20260424T064721
CREATED:20230606T202815Z
LAST-MODIFIED:20230606T202815Z
UID:7460-1686992400-1687003200@www.infotetquebec.com
SUMMARY:Saint-Jean-sur-Richelieu / Express soccer tournament
DESCRIPTION:Express Soccer Tournament 2023. \nGet moving with us! \nInformation: Karla Dueñas\, +1 438 390-2132\, karladuenas@lancre.ca.
URL:https://www.infotetquebec.com/en/event/saint-jean-sur-richelieu-express-soccer-tournament/
LOCATION:Parc Marguerite-Bourgeoys\, 11e Avenue\, Saint-Jean-sur-Richelieu (Iberville)\, Québec\, Canada
CATEGORIES:soccer
ATTACH;FMTTYPE=image/png:https://www.infotetquebec.com/wp-content/uploads/2023/06/LANCRE_TET_SOCCER_Carre_FR.png
ORGANIZER;CN="L'ANCRE":MAILTO:karladuenas@lancre.ca
END:VEVENT
BEGIN:VEVENT
DTSTART;TZID=America/New_York:20230617T093000
DTEND;TZID=America/New_York:20230617T120000
DTSTAMP:20260424T064721
CREATED:20230607T153251Z
LAST-MODIFIED:20230607T153251Z
UID:7500-1686994200-1687003200@www.infotetquebec.com
SUMMARY:Saint-Tite-des-Caps / Gardening activity
DESCRIPTION:Gardening activity with Semeurs d’espoir from 9:30 a.m. to 12 p.m. \nFor more information and reservations\, contact Joany Boily\, 418 435-2503\, joany@cje-appui.qc.ca.
URL:https://www.infotetquebec.com/en/event/saint-tite-des-caps-gardening-activity/
LOCATION:Saint-Tite-des-Caps
CATEGORIES:Information session
ATTACH;FMTTYPE=image/jpeg:https://www.infotetquebec.com/wp-content/uploads/2023/06/jardinage-scaled.jpg
ORGANIZER;CN="Services de Main d'oeuvre L'Appui":MAILTO:info@cje-appui.qc.ca
END:VEVENT
BEGIN:VEVENT
DTSTART;TZID=America/New_York:20230617T100000
DTEND;TZID=America/New_York:20230617T120000
DTSTAMP:20260424T064721
CREATED:20230606T192348Z
LAST-MODIFIED:20230606T192348Z
UID:7409-1686996000-1687003200@www.infotetquebec.com
SUMMARY:Sherbrooke / Soccer
DESCRIPTION:Every Saturday from 10am to 12pm. \nCome and play soccer with us! \nReservations: +1 873 662-2630.
URL:https://www.infotetquebec.com/en/event/sherbrooke-soccer-2/
LOCATION:Parc Jean-Claude-Quirion\, Rue Chalifoux\, Sherbrooke\, Québec\, J1G 152\, Canada
CATEGORIES:soccer
ATTACH;FMTTYPE=image/jpeg:https://www.infotetquebec.com/wp-content/uploads/2023/06/EOS-Soccer-Sherbrooke-Fr.jpg
END:VEVENT
BEGIN:VEVENT
DTSTART;TZID=America/New_York:20230617T110000
DTEND;TZID=America/New_York:20230617T110000
DTSTAMP:20260424T064721
CREATED:20230606T181244Z
LAST-MODIFIED:20230606T181244Z
UID:7375-1686999600-1686999600@www.infotetquebec.com
SUMMARY:Ayer's cliff / Rodeo
DESCRIPTION:Don’t miss the Ayer’s Cliff rodeo! \nReservations: +1 873 662-2630
URL:https://www.infotetquebec.com/en/event/ayers-cliff-rodeo/
LOCATION:977\, rue Main\, Ayer's Cliff\, Québec\, JOB 1C0\, Canada
CATEGORIES:Cultural or sports activity
ATTACH;FMTTYPE=image/jpeg:https://www.infotetquebec.com/wp-content/uploads/2023/06/EOS-Rodeo-dAyers-Cliff-Fr.jpg
END:VEVENT
BEGIN:VEVENT
DTSTART;TZID=America/New_York:20230617T110000
DTEND;TZID=America/New_York:20230617T140000
DTSTAMP:20260424T064722
CREATED:20230607T154652Z
LAST-MODIFIED:20230607T154652Z
UID:7511-1686999600-1687010400@www.infotetquebec.com
SUMMARY:La Malbaie / Visit to the Jardin des lilas + lunch
DESCRIPTION:Join us for a tour of the Jardin des lilas en fleur\, and enjoy a fundraising dinner organized by Croisière des Alizés. \nFor more information and reservations\, contact Joany Boily\, 418 435-2503\, joany@cje-appui.qc.ca.
URL:https://www.infotetquebec.com/en/event/la-malbaie-visit-to-the-jardin-des-lilas-lunch/
LOCATION:La Malbaie
CATEGORIES:Cultural or sports activity
ATTACH;FMTTYPE=image/jpeg:https://www.infotetquebec.com/wp-content/uploads/2023/06/lilas-scaled.jpg
ORGANIZER;CN="Services de Main d'oeuvre L'Appui":MAILTO:info@cje-appui.qc.ca
END:VEVENT
BEGIN:VEVENT
DTSTART;TZID=America/New_York:20230618T140000
DTEND;TZID=America/New_York:20230618T180000
DTSTAMP:20260424T064722
CREATED:20230518T183221Z
LAST-MODIFIED:20230518T205712Z
UID:7146-1687096800-1687111200@www.infotetquebec.com
SUMMARY:Sainte-Clothilde-de Châteauguay / Sports circuit and soccer
DESCRIPTION:Every Sunday from 2pm to 6pm at Centre communautaire Sainte-Clothilde. \nInscription : scerdeline@complx-immigration.ca / 438 368-4613
URL:https://www.infotetquebec.com/en/event/sainte-clothilde-de-chateauguay-sports-circuit-and-soccer-3/
CATEGORIES:soccer
ATTACH;FMTTYPE=image/png:https://www.infotetquebec.com/wp-content/uploads/2023/05/Complex-Activites-T-Etrangers-Club-Sportif.png
ORGANIZER;CN="Complexe X Immigration":MAILTO:scerdeline@complx-immigration.ca
END:VEVENT
END:VCALENDAR