BEGIN:VCALENDAR
VERSION:2.0
PRODID:-//Infotetquebec - ECPv6.15.20//NONSGML v1.0//EN
CALSCALE:GREGORIAN
METHOD:PUBLISH
X-ORIGINAL-URL:https://www.infotetquebec.com/en/
X-WR-CALDESC:Events for Infotetquebec
REFRESH-INTERVAL;VALUE=DURATION:PT1H
X-Robots-Tag:noindex
X-PUBLISHED-TTL:PT1H
BEGIN:VTIMEZONE
TZID:America/Toronto
BEGIN:DAYLIGHT
TZOFFSETFROM:-0500
TZOFFSETTO:-0400
TZNAME:EDT
DTSTART:20250309T070000
END:DAYLIGHT
BEGIN:STANDARD
TZOFFSETFROM:-0400
TZOFFSETTO:-0500
TZNAME:EST
DTSTART:20251102T060000
END:STANDARD
BEGIN:DAYLIGHT
TZOFFSETFROM:-0500
TZOFFSETTO:-0400
TZNAME:EDT
DTSTART:20260308T070000
END:DAYLIGHT
BEGIN:STANDARD
TZOFFSETFROM:-0400
TZOFFSETTO:-0500
TZNAME:EST
DTSTART:20261101T060000
END:STANDARD
BEGIN:DAYLIGHT
TZOFFSETFROM:-0500
TZOFFSETTO:-0400
TZNAME:EDT
DTSTART:20270314T070000
END:DAYLIGHT
BEGIN:STANDARD
TZOFFSETFROM:-0400
TZOFFSETTO:-0500
TZNAME:EST
DTSTART:20271107T060000
END:STANDARD
END:VTIMEZONE
BEGIN:VEVENT
DTSTART;TZID=America/Toronto:20260309T120000
DTEND;TZID=America/Toronto:20260309T130000
DTSTAMP:20260422T182436
CREATED:20260227T191908Z
LAST-MODIFIED:20260227T192008Z
UID:27029-1773057600-1773061200@www.infotetquebec.com
SUMMARY:Online / Webinar: Free information session organized by Justice Pro Bono for Temporary Foreign Workers (TFWs) facing end-of-employment situations.
DESCRIPTION:
URL:https://www.infotetquebec.com/en/event/online-webinar-free-information-session-organized-by-justice-pro-bono-for-temporary-foreign-workers-tfws-facing-end-of-employment-situations/
LOCATION:En ligne
CATEGORIES:Information session,Information session,webinar
ATTACH;FMTTYPE=image/png:https://www.infotetquebec.com/wp-content/uploads/2026/02/Seance-francais.png
END:VEVENT
BEGIN:VEVENT
DTSTART;TZID=America/Toronto:20260310T180000
DTEND;TZID=America/Toronto:20260310T190000
DTSTAMP:20260422T182436
CREATED:20260127T134447Z
LAST-MODIFIED:20260127T134609Z
UID:26099-1773165600-1773169200@www.infotetquebec.com
SUMMARY:Radio Show for TFWs / Information Session on Project Services for TFWs / 96.7 CING FM
DESCRIPTION:
URL:https://www.infotetquebec.com/en/event/radio-show-for-tfws-information-session-on-project-services-for-tfws-96-7-cing-fm-2/
LOCATION:À la radio\, CIGN FM 96\,7\, Coaticook\, Québec\, Canada
CATEGORIES:Information session
ATTACH;FMTTYPE=image/png:https://www.infotetquebec.com/wp-content/uploads/2026/01/CIGN-FM-96.7-Radio-cooperative-de-Coaticook-fr-10.03.26.png
END:VEVENT
BEGIN:VEVENT
DTSTART;TZID=America/Toronto:20260313T180000
DTEND;TZID=America/Toronto:20260313T200000
DTSTAMP:20260422T182436
CREATED:20260223T161455Z
LAST-MODIFIED:20260223T161613Z
UID:26884-1773424800-1773432000@www.infotetquebec.com
SUMMARY:Saint-Eustache\, QC / Sugar Shack Outing for TFWs
DESCRIPTION:
URL:https://www.infotetquebec.com/en/event/saint-eustache-qc-sugar-shack-outing-for-tfws/
LOCATION:1050 Bd Arthur-Sauvé\, Saint-Eustache\, QC J7R 4K3
CATEGORIES:Cultural or sports activity,Night,Social activity
ATTACH;FMTTYPE=image/png:https://www.infotetquebec.com/wp-content/uploads/2026/02/Logo-FR.png
END:VEVENT
BEGIN:VEVENT
DTSTART;TZID=America/Toronto:20260313T190000
DTEND;TZID=America/Toronto:20260313T210000
DTSTAMP:20260422T182436
CREATED:20260112T210903Z
LAST-MODIFIED:20260112T210903Z
UID:25479-1773428400-1773435600@www.infotetquebec.com
SUMMARY:Coaticook\, QC / Soccer in Coaticook for TFWs
DESCRIPTION:
URL:https://www.infotetquebec.com/en/event/coaticook-qc-soccer-in-coaticook-for-tfws-10/
LOCATION:497 Rue Saint-Jean-Baptiste\, Coaticook\, QC J1A 1G1\, Canada
CATEGORIES:Cultural or sports activity,soccer
ATTACH;FMTTYPE=image/png:https://www.infotetquebec.com/wp-content/uploads/2026/01/EOS-Soccer-Coaticook-interieur-2026-ang.png
END:VEVENT
BEGIN:VEVENT
DTSTART;TZID=America/Toronto:20260313T190000
DTEND;TZID=America/Toronto:20260313T210000
DTSTAMP:20260422T182436
CREATED:20260311T173148Z
LAST-MODIFIED:20260311T173222Z
UID:27264-1773428400-1773435600@www.infotetquebec.com
SUMMARY:Dégelis\, QC / Futsal Activity for Temporary Foreign Workers (TFWs)
DESCRIPTION:
URL:https://www.infotetquebec.com/en/event/degelis-qc-futsal-activity-for-temporary-foreign-workers-tfws/
LOCATION:385 Av. Principale\, Dégelis\, QC G5T 1L3.
CATEGORIES:Cultural or sports activity,soccer
ATTACH;FMTTYPE=image/png:https://www.infotetquebec.com/wp-content/uploads/2026/03/Activite-Futsal-Fr.png
END:VEVENT
BEGIN:VEVENT
DTSTART;TZID=America/Toronto:20260314T104500
DTEND;TZID=America/Toronto:20260314T140000
DTSTAMP:20260422T182436
CREATED:20260225T165217Z
LAST-MODIFIED:20260225T165237Z
UID:27004-1773485100-1773496800@www.infotetquebec.com
SUMMARY:Sainte-Cécile-de-Milton\, QC / Let’s go to the Sugar Shack! Traditional sugar shack lunch for TFWs.
DESCRIPTION:
URL:https://www.infotetquebec.com/en/event/sainte-cecile-de-milton-qc-lets-go-to-the-sugar-shack-traditional-sugar-shack-lunch-for-tfws/
LOCATION:Erablière Martin SENC\, 675 Route 137 Sud\, Sainte-Cécile-de-Milton\, QC J0E 2C0
CATEGORIES:Cultural or sports activity,Social activity
ORGANIZER;CN="Granby Industriel":MAILTO:ga.brand@granby-industriel.com
END:VEVENT
BEGIN:VEVENT
DTSTART;TZID=America/Toronto:20260315T123000
DTEND;TZID=America/Toronto:20260315T160000
DTSTAMP:20260422T182436
CREATED:20260227T203409Z
LAST-MODIFIED:20260227T203411Z
UID:27042-1773577800-1773590400@www.infotetquebec.com
SUMMARY:Saint-Césaire\, QC / Soccer match and community meal for TFWs.
DESCRIPTION:
URL:https://www.infotetquebec.com/en/event/saint-cesaire-qc-soccer-match-and-community-meal-for-tfws/
LOCATION:1109 Av. Saint-Paul\, Saint-Césaire\, QC J0L 1T0\, Canada
CATEGORIES:Cultural or sports activity,soccer,Social activity
ORGANIZER;CN="Int%C3%A9gration comp%C3%A9tences":MAILTO:lilianasalgado@integrationcompetences.ca
END:VEVENT
BEGIN:VEVENT
DTSTART;TZID=America/Toronto:20260315T170000
DTEND;TZID=America/Toronto:20260315T190000
DTSTAMP:20260422T182436
CREATED:20260312T193743Z
LAST-MODIFIED:20260312T193816Z
UID:27301-1773594000-1773601200@www.infotetquebec.com
SUMMARY:Ham-Nord\, QC / Visit to the TFWs at SELEXIE Farm
DESCRIPTION:
URL:https://www.infotetquebec.com/en/event/ham-nord-qc-visit-to-the-tfws-at-selexie-farm/
LOCATION:571 Rte 216 O\, Ham-Nord\, QC\, Canada.
CATEGORIES:Night,Social activity
ATTACH;FMTTYPE=image/png:https://www.infotetquebec.com/wp-content/uploads/2026/03/Visite-a-la-ferme-Selexie-fr.png
END:VEVENT
BEGIN:VEVENT
DTSTART;TZID=America/Toronto:20260317T183000
DTEND;TZID=America/Toronto:20260317T200000
DTSTAMP:20260422T182436
CREATED:20260310T180613Z
LAST-MODIFIED:20260310T180745Z
UID:27212-1773772200-1773777600@www.infotetquebec.com
SUMMARY:Saint-Jean-sur-Richelieu\, QC / Information session for TFWs
DESCRIPTION:
URL:https://www.infotetquebec.com/en/event/saint-jean-sur-richelieu-qc-information-session-for-tfws/
LOCATION:300 Rue Georges-Phaneuf\, Saint-Jean-sur-Richelieu\, QC\, Canada
CATEGORIES:Information session,Social activity
ATTACH;FMTTYPE=image/png:https://www.infotetquebec.com/wp-content/uploads/2026/03/Visuel_RS_Francais_Une-pause-avec-lANCRE.png
ORGANIZER;CN="L'ANCRE":MAILTO:karladuenas@lancre.ca
END:VEVENT
BEGIN:VEVENT
DTSTART;TZID=America/Toronto:20260320T190000
DTEND;TZID=America/Toronto:20260320T210000
DTSTAMP:20260422T182436
CREATED:20260112T210938Z
LAST-MODIFIED:20260112T210938Z
UID:25481-1774033200-1774040400@www.infotetquebec.com
SUMMARY:Coaticook\, QC / Soccer in Coaticook for TFWs
DESCRIPTION:
URL:https://www.infotetquebec.com/en/event/coaticook-qc-soccer-in-coaticook-for-tfws-11/
LOCATION:497 Rue Saint-Jean-Baptiste\, Coaticook\, QC J1A 1G1\, Canada
CATEGORIES:Cultural or sports activity,soccer
ATTACH;FMTTYPE=image/png:https://www.infotetquebec.com/wp-content/uploads/2026/01/EOS-Soccer-Coaticook-interieur-2026-ang.png
END:VEVENT
BEGIN:VEVENT
DTSTART;TZID=America/Toronto:20260320T190000
DTEND;TZID=America/Toronto:20260320T210000
DTSTAMP:20260422T182436
CREATED:20260311T174134Z
LAST-MODIFIED:20260311T174134Z
UID:27285-1774033200-1774040400@www.infotetquebec.com
SUMMARY:Dégelis\, QC / Futsal Activity for Temporary Foreign Workers (TFWs)
DESCRIPTION:
URL:https://www.infotetquebec.com/en/event/degelis-qc-futsal-activity-for-temporary-foreign-workers-tfws-2/
LOCATION:385 Av. Principale\, Dégelis\, QC G5T 1L3.
CATEGORIES:Cultural or sports activity,soccer
ATTACH;FMTTYPE=image/png:https://www.infotetquebec.com/wp-content/uploads/2026/03/Activite-Futsal-Fr.png
END:VEVENT
BEGIN:VEVENT
DTSTART;TZID=America/Toronto:20260321T100000
DTEND;TZID=America/Toronto:20260321T160000
DTSTAMP:20260422T182436
CREATED:20260305T143515Z
LAST-MODIFIED:20260305T143621Z
UID:27100-1774087200-1774108800@www.infotetquebec.com
SUMMARY:Sept-Îles\, QC / Skidoo Day for TFWs
DESCRIPTION:
URL:https://www.infotetquebec.com/en/event/sept-iles-qc-skidoo-day-for-tfws/
LOCATION:600\, route du\, Chem. de Club de Ski Gallix\, Sept-Îles\, QC G0G 1L0
CATEGORIES:Cultural or sports activity
ATTACH;FMTTYPE=image/png:https://www.infotetquebec.com/wp-content/uploads/2026/03/Journee-SKIDOO-TET-FR.png
END:VEVENT
BEGIN:VEVENT
DTSTART;TZID=America/Toronto:20260321T110000
DTEND;TZID=America/Toronto:20260321T140000
DTSTAMP:20260422T182436
CREATED:20260225T184558Z
LAST-MODIFIED:20260225T184704Z
UID:27014-1774090800-1774101600@www.infotetquebec.com
SUMMARY:Montmagny\, QC / Culinary Workshop for TFWs.
DESCRIPTION:
URL:https://www.infotetquebec.com/en/event/montmagny-qc-culinary-workshop-for-tfws/
LOCATION:160 Boulevard Taché Est\, Montmagny\, QC\, Canada
CATEGORIES:Cultural or sports activity,Social activity
ATTACH;FMTTYPE=image/png:https://www.infotetquebec.com/wp-content/uploads/2026/02/Culinary-Worskshop-1.png
ORGANIZER;CN="Corporation de d%C3%A9veloppement %C3%A9conomique de la MRC de Montmagny (CDEMM)":MAILTO:abrebion@cgocable.ca
END:VEVENT
BEGIN:VEVENT
DTSTART;TZID=America/Toronto:20260321T123000
DTEND;TZID=America/Toronto:20260321T143000
DTSTAMP:20260422T182436
CREATED:20260310T181856Z
LAST-MODIFIED:20260310T181955Z
UID:27226-1774096200-1774103400@www.infotetquebec.com
SUMMARY:Saint-Christophe-d'Arthabaska\, QC / Outdoor activity for TFWs
DESCRIPTION:
URL:https://www.infotetquebec.com/en/event/saint-christophe-darthabaska-qc-outdoor-activity-for-tfws/
LOCATION:179 Chem. Laurier E\, Saint-Christophe-d’Arthabaska\, QC G6S 0L8\, Canada.
CATEGORIES:Cultural or sports activity,Social activity
ATTACH;FMTTYPE=image/png:https://www.infotetquebec.com/wp-content/uploads/2026/03/Invitation-Plein-Air-Francais.png
ORGANIZER;CN="Corporation de d%C3%A9veloppement %C3%A9conomique Victoriaville et sa r%C3%A9gion":MAILTO:vsanchez@cdevr.ca
END:VEVENT
BEGIN:VEVENT
DTSTART;TZID=America/Toronto:20260322T090000
DTEND;TZID=America/Toronto:20260322T153000
DTSTAMP:20260422T182436
CREATED:20260310T191259Z
LAST-MODIFIED:20260310T191352Z
UID:27239-1774170000-1774193400@www.infotetquebec.com
SUMMARY:La Malbaie\, QC / Beginner ski day for TFWs
DESCRIPTION:
URL:https://www.infotetquebec.com/en/event/la-malbaie-qc-beginner-ski-day-for-tfws/
LOCATION:Mont Grand-Fonds\, 1000 Chemin des Loisirs\, La Malbaie\, QC\, Canada.
CATEGORIES:Cultural or sports activity,Social activity
ATTACH;FMTTYPE=image/png:https://www.infotetquebec.com/wp-content/uploads/2026/03/Mont-Grand-Fonds-IQ-FR.png
ORGANIZER;CN="Services de Main d'oeuvre L'Appui":MAILTO:info@cje-appui.qc.ca
END:VEVENT
BEGIN:VEVENT
DTSTART;TZID=America/Toronto:20260322T110000
DTEND;TZID=America/Toronto:20260322T140000
DTSTAMP:20260422T182436
CREATED:20260225T162559Z
LAST-MODIFIED:20260225T162732Z
UID:26990-1774177200-1774188000@www.infotetquebec.com
SUMMARY:Mont-Saint-Grégoire\, QC / Sugar Shack for TFWs.
DESCRIPTION:
URL:https://www.infotetquebec.com/en/event/mont-saint-gregoire-qc-sugar-shack-for-tfws/
LOCATION:45 Chemin du Sous-Bois\, Mont-Saint-Grégoire\, QC\, Canada
CATEGORIES:Cultural or sports activity,Social activity
ATTACH;FMTTYPE=image/jpeg:https://www.infotetquebec.com/wp-content/uploads/2026/02/TET_Cabane-a-sucre_FR.jpg
ORGANIZER;CN="L'ANCRE":MAILTO:karladuenas@lancre.ca
END:VEVENT
BEGIN:VEVENT
DTSTART;TZID=America/Toronto:20260324T180000
DTEND;TZID=America/Toronto:20260324T190000
DTSTAMP:20260422T182436
CREATED:20260127T135048Z
LAST-MODIFIED:20260318T193833Z
UID:26112-1774375200-1774378800@www.infotetquebec.com
SUMMARY:Radio Show for TFWs / Information Session on Project Services for TFWs / 96.7 CING FM
DESCRIPTION:
URL:https://www.infotetquebec.com/en/event/radio-show-for-tfws-information-session-on-project-services-for-tfws-96-7-cing-fm-3/
LOCATION:À la radio\, CIGN FM 96\,7\, Coaticook\, Québec\, Canada
CATEGORIES:Information session
ATTACH;FMTTYPE=image/png:https://www.infotetquebec.com/wp-content/uploads/2026/01/CIGN-FM-96.7-Radio-cooperative-de-Coaticook-fr-1.png
END:VEVENT
BEGIN:VEVENT
DTSTART;TZID=America/Toronto:20260325T173000
DTEND;TZID=America/Toronto:20260325T183000
DTSTAMP:20260422T182436
CREATED:20260311T144154Z
LAST-MODIFIED:20260311T144221Z
UID:27251-1774459800-1774463400@www.infotetquebec.com
SUMMARY:Online / Informative Webinar for TFWs
DESCRIPTION:
URL:https://www.infotetquebec.com/en/event/online-informative-webinar-for-tfws/
LOCATION:En ligne
CATEGORIES:Information session,Information session,webinar
ATTACH;FMTTYPE=image/png:https://www.infotetquebec.com/wp-content/uploads/2026/03/Webinaire-FR.png
END:VEVENT
BEGIN:VEVENT
DTSTART;TZID=America/Toronto:20260327T190000
DTEND;TZID=America/Toronto:20260327T210000
DTSTAMP:20260422T182436
CREATED:20260112T211045Z
LAST-MODIFIED:20260112T211045Z
UID:25483-1774638000-1774645200@www.infotetquebec.com
SUMMARY:Coaticook\, QC / Soccer in Coaticook for TFWs
DESCRIPTION:
URL:https://www.infotetquebec.com/en/event/coaticook-qc-soccer-in-coaticook-for-tfws-12/
LOCATION:497 Rue Saint-Jean-Baptiste\, Coaticook\, QC J1A 1G1\, Canada
CATEGORIES:Cultural or sports activity,soccer
ATTACH;FMTTYPE=image/png:https://www.infotetquebec.com/wp-content/uploads/2026/01/EOS-Soccer-Coaticook-interieur-2026-ang.png
END:VEVENT
BEGIN:VEVENT
DTSTART;TZID=America/Toronto:20260327T190000
DTEND;TZID=America/Toronto:20260327T210000
DTSTAMP:20260422T182436
CREATED:20260311T174206Z
LAST-MODIFIED:20260311T174206Z
UID:27287-1774638000-1774645200@www.infotetquebec.com
SUMMARY:Dégelis\, QC / Futsal Activity for Temporary Foreign Workers (TFWs)
DESCRIPTION:
URL:https://www.infotetquebec.com/en/event/degelis-qc-futsal-activity-for-temporary-foreign-workers-tfws-3/
LOCATION:385 Av. Principale\, Dégelis\, QC G5T 1L3.
CATEGORIES:Cultural or sports activity,soccer
ATTACH;FMTTYPE=image/png:https://www.infotetquebec.com/wp-content/uploads/2026/03/Activite-Futsal-Fr.png
END:VEVENT
BEGIN:VEVENT
DTSTART;TZID=America/Toronto:20260328T130000
DTEND;TZID=America/Toronto:20260328T170000
DTSTAMP:20260422T182436
CREATED:20260303T162001Z
LAST-MODIFIED:20260303T162252Z
UID:27071-1774702800-1774717200@www.infotetquebec.com
SUMMARY:Mont-Laurier\, QC / Discovery and Well-being Day for PITRE TFWs
DESCRIPTION:
URL:https://www.infotetquebec.com/en/event/mont-laurier-qc-discovery-and-well-being-day-for-pitre-tfws/
LOCATION:565 Rue de la Montagne\, Mont-Laurier\, QC\, Canada
CATEGORIES:Information session,Networking,Social activity
ATTACH;FMTTYPE=image/jpeg:https://www.infotetquebec.com/wp-content/uploads/2026/03/Modele-invitation-TET-esp.jpg
END:VEVENT
BEGIN:VEVENT
DTSTART;TZID=America/Toronto:20260328T133000
DTEND;TZID=America/Toronto:20260328T153000
DTSTAMP:20260422T182436
CREATED:20260310T173015Z
LAST-MODIFIED:20260310T173057Z
UID:27194-1774704600-1774711800@www.infotetquebec.com
SUMMARY:Saint-Eustache\, QC / Bowling for TFWs
DESCRIPTION:
URL:https://www.infotetquebec.com/en/event/saint-eustache-qc-bowling-for-tfws/
LOCATION:367 Bd Arthur-Sauvé\, Saint-Eustache\, QC J7P 2B1\, Canada.
CATEGORIES:Bowling,Cultural or sports activity
ATTACH;FMTTYPE=image/png:https://www.infotetquebec.com/wp-content/uploads/2026/03/Logo-FR.png
END:VEVENT
BEGIN:VEVENT
DTSTART;TZID=America/Toronto:20260329T200000
DTEND;TZID=America/Toronto:20260329T220000
DTSTAMP:20260422T182436
CREATED:20260317T173428Z
LAST-MODIFIED:20260317T173455Z
UID:27335-1774814400-1774821600@www.infotetquebec.com
SUMMARY:Châteauguay\, QC / Sugar Shack for TFWs
DESCRIPTION:
URL:https://www.infotetquebec.com/en/event/chateauguay-qc-sugar-shack-for-tfws/
LOCATION:498 Bd D’Youville\, Châteauguay\, QC J6J 2T2
CATEGORIES:Cultural or sports activity,Night,Social activity
ATTACH;FMTTYPE=image/jpeg:https://www.infotetquebec.com/wp-content/uploads/2026/03/Cabane-a-sucre-Fr-1.jpg
ORGANIZER;CN="Complexe X Immigration":MAILTO:scerdeline@complx-immigration.ca
END:VEVENT
BEGIN:VEVENT
DTSTART;TZID=America/Toronto:20260330T120000
DTEND;TZID=America/Toronto:20260330T125000
DTSTAMP:20260422T182436
CREATED:20260327T190154Z
LAST-MODIFIED:20260327T190221Z
UID:27795-1774872000-1774875000@www.infotetquebec.com
SUMMARY:Online / Webinar: useful information for TFWs. Your rights as Temporary Foreign Workers (related to your closed work permit and your employment contract).
DESCRIPTION:
URL:https://www.infotetquebec.com/en/event/online-webinar-useful-information-for-tfws-your-rights-as-temporary-foreign-workers-related-to-your-closed-work-permit-and-your-employment-contract/
LOCATION:En ligne
CATEGORIES:Information session,Information session,webinar
ATTACH;FMTTYPE=image/jpeg:https://www.infotetquebec.com/wp-content/uploads/2026/03/JPB-30-MARS-2.jpg
END:VEVENT
BEGIN:VEVENT
DTSTART;TZID=America/Toronto:20260403T190000
DTEND;TZID=America/Toronto:20260403T210000
DTSTAMP:20260422T182436
CREATED:20260311T174234Z
LAST-MODIFIED:20260311T174234Z
UID:27289-1775242800-1775250000@www.infotetquebec.com
SUMMARY:Dégelis\, QC / Futsal Activity for Temporary Foreign Workers (TFWs)
DESCRIPTION:
URL:https://www.infotetquebec.com/en/event/degelis-qc-futsal-activity-for-temporary-foreign-workers-tfws-4/
LOCATION:385 Av. Principale\, Dégelis\, QC G5T 1L3.
CATEGORIES:Cultural or sports activity,soccer
ATTACH;FMTTYPE=image/png:https://www.infotetquebec.com/wp-content/uploads/2026/03/Activite-Futsal-Fr.png
END:VEVENT
BEGIN:VEVENT
DTSTART;TZID=America/Toronto:20260410T190000
DTEND;TZID=America/Toronto:20260410T210000
DTSTAMP:20260422T182436
CREATED:20260311T174303Z
LAST-MODIFIED:20260311T174303Z
UID:27291-1775847600-1775854800@www.infotetquebec.com
SUMMARY:Dégelis\, QC / Futsal Activity for Temporary Foreign Workers (TFWs)
DESCRIPTION:
URL:https://www.infotetquebec.com/en/event/degelis-qc-futsal-activity-for-temporary-foreign-workers-tfws-5/
LOCATION:385 Av. Principale\, Dégelis\, QC G5T 1L3.
CATEGORIES:Cultural or sports activity,soccer
ATTACH;FMTTYPE=image/png:https://www.infotetquebec.com/wp-content/uploads/2026/03/Activite-Futsal-Fr.png
END:VEVENT
BEGIN:VEVENT
DTSTART;TZID=America/Toronto:20260412T100000
DTEND;TZID=America/Toronto:20260412T120000
DTSTAMP:20260422T182436
CREATED:20260331T130001Z
LAST-MODIFIED:20260331T130152Z
UID:27847-1775988000-1775995200@www.infotetquebec.com
SUMMARY:Château-Richer\, QC / Visit to the copper museum and copper repoussé workshop for TFWs.
DESCRIPTION:
URL:https://www.infotetquebec.com/en/event/chateau-richer-qc-visit-to-the-copper-museum-and-copper-repousse-workshop-for-tfws/
LOCATION:7450 Bd Sainte-Anne\, Château-Richer\, QC G0A 1N0
CATEGORIES:Cultural or sports activity
ATTACH;FMTTYPE=image/png:https://www.infotetquebec.com/wp-content/uploads/2026/03/Musee-du-cuivre-IQ.png
END:VEVENT
BEGIN:VEVENT
DTSTART;TZID=America/Toronto:20260416T173000
DTEND;TZID=America/Toronto:20260416T193000
DTSTAMP:20260422T182436
CREATED:20260331T151625Z
LAST-MODIFIED:20260331T151656Z
UID:27860-1776360600-1776367800@www.infotetquebec.com
SUMMARY:Drummondville\, QC / Drummond Économique Open House for TFWs.
DESCRIPTION:
URL:https://www.infotetquebec.com/en/event/drummondville-qc-drummond-economique-open-house-for-tfws/
LOCATION:1500 Rue Jean-Berchmans-Michaud a\, Drummondville\, QC J2C 7V3
CATEGORIES:Information session,Networking,Social activity
ATTACH;FMTTYPE=image/jpeg:https://www.infotetquebec.com/wp-content/uploads/2026/03/Soiree-porte-ouverte-2026-Invitation-francais.jpg
END:VEVENT
BEGIN:VEVENT
DTSTART;TZID=America/Toronto:20260422T133000
DTEND;TZID=America/Toronto:20260422T150000
DTSTAMP:20260422T182436
CREATED:20260409T161036Z
LAST-MODIFIED:20260420T172810Z
UID:28082-1776864600-1776870000@www.infotetquebec.com
SUMMARY:Baie-Saint-Paul\, QC / Information workshop on police services in Quebec and road safety for TFWs
DESCRIPTION:
URL:https://www.infotetquebec.com/en/event/baie-saint-paul-qc-information-workshop-on-police-services-in-quebec-and-road-safety-for-tfws/
LOCATION:39 rue saint jean baptiste\, Baie-Saint-Paul\, QC\, Canada\, G3Z 1M3.
CATEGORIES:Information session
ATTACH;FMTTYPE=image/png:https://www.infotetquebec.com/wp-content/uploads/2026/04/Decouvrez-les-services-de-securite-de-proximite-1.png
END:VEVENT
BEGIN:VEVENT
DTSTART;TZID=America/Toronto:20260424T173000
DTEND;TZID=America/Toronto:20260424T193000
DTSTAMP:20260422T182436
CREATED:20260415T141309Z
LAST-MODIFIED:20260415T141402Z
UID:28131-1777051800-1777059000@www.infotetquebec.com
SUMMARY:Victoriaville\, QC / Bingo Night for TFWs
DESCRIPTION:
URL:https://www.infotetquebec.com/en/event/victoriaville-qc-bingo-night-for-tfws/
LOCATION:60 Boulevard des Bois Francs Sud\, Victoriaville\, QC\, Canada
CATEGORIES:Night,Social activity
ATTACH;FMTTYPE=image/png:https://www.infotetquebec.com/wp-content/uploads/2026/04/Invitation-soiree-BINGO-en-francais.png
END:VEVENT
END:VCALENDAR