BEGIN:VCALENDAR
VERSION:2.0
PRODID:-//Infotetquebec - ECPv6.15.20//NONSGML v1.0//EN
CALSCALE:GREGORIAN
METHOD:PUBLISH
X-ORIGINAL-URL:https://www.infotetquebec.com/en/
X-WR-CALDESC:Events for Infotetquebec
REFRESH-INTERVAL;VALUE=DURATION:PT1H
X-Robots-Tag:noindex
X-PUBLISHED-TTL:PT1H
BEGIN:VTIMEZONE
TZID:America/Toronto
BEGIN:DAYLIGHT
TZOFFSETFROM:-0500
TZOFFSETTO:-0400
TZNAME:EDT
DTSTART:20240310T070000
END:DAYLIGHT
BEGIN:STANDARD
TZOFFSETFROM:-0400
TZOFFSETTO:-0500
TZNAME:EST
DTSTART:20241103T060000
END:STANDARD
BEGIN:DAYLIGHT
TZOFFSETFROM:-0500
TZOFFSETTO:-0400
TZNAME:EDT
DTSTART:20250309T070000
END:DAYLIGHT
BEGIN:STANDARD
TZOFFSETFROM:-0400
TZOFFSETTO:-0500
TZNAME:EST
DTSTART:20251102T060000
END:STANDARD
BEGIN:DAYLIGHT
TZOFFSETFROM:-0500
TZOFFSETTO:-0400
TZNAME:EDT
DTSTART:20260308T070000
END:DAYLIGHT
BEGIN:STANDARD
TZOFFSETFROM:-0400
TZOFFSETTO:-0500
TZNAME:EST
DTSTART:20261101T060000
END:STANDARD
BEGIN:DAYLIGHT
TZOFFSETFROM:-0500
TZOFFSETTO:-0400
TZNAME:EDT
DTSTART:20270314T070000
END:DAYLIGHT
BEGIN:STANDARD
TZOFFSETFROM:-0400
TZOFFSETTO:-0500
TZNAME:EST
DTSTART:20271107T060000
END:STANDARD
END:VTIMEZONE
BEGIN:VEVENT
DTSTART;TZID=America/Toronto:20251214T173000
DTEND;TZID=America/Toronto:20251214T193000
DTSTAMP:20260423T012516
CREATED:20251010T180347Z
LAST-MODIFIED:20251010T180347Z
UID:23260-1765733400-1765740600@www.infotetquebec.com
SUMMARY:Saint-Basile\, QC/Indoor soccer for TFWs
DESCRIPTION:To log in : \nhttps://meet.jit.si/CONGEDIEMENT
URL:https://www.infotetquebec.com/en/event/saint-basile-qc-indoor-soccer-for-tfws-11/
LOCATION:Centre Ernest-J.-Papillon\, Rue Sainte Angélique\, Saint-Basile\, QC\, Canada
CATEGORIES:Cultural or sports activity,soccer
ATTACH;FMTTYPE=image/png:https://www.infotetquebec.com/wp-content/uploads/2025/10/SOCCER-INTERIEUR-FR.png
END:VEVENT
BEGIN:VEVENT
DTSTART;TZID=America/Toronto:20251219T190000
DTEND;TZID=America/Toronto:20251219T210000
DTSTAMP:20260423T012516
CREATED:20251128T172143Z
LAST-MODIFIED:20251215T202320Z
UID:24404-1766170800-1766178000@www.infotetquebec.com
SUMMARY:Victoriaville\, QC/ Christmas party for TFWs.
DESCRIPTION:To log in : \nhttps://meet.jit.si/CONGEDIEMENT
URL:https://www.infotetquebec.com/en/event/victoriaville-qc-christmas-party-for-tfws/
LOCATION:905 Boulevard des Bois Francs Sud\, Victoriaville\, QC.
CATEGORIES:Night,Party
ATTACH;FMTTYPE=image/png:https://www.infotetquebec.com/wp-content/uploads/2025/11/Invitation-Soiree-de-Noel-Francais.png
END:VEVENT
BEGIN:VEVENT
DTSTART;TZID=America/Toronto:20251220T180000
DTEND;TZID=America/Toronto:20251220T230000
DTSTAMP:20260423T012516
CREATED:20251210T200734Z
LAST-MODIFIED:20251210T200827Z
UID:24637-1766253600-1766271600@www.infotetquebec.com
SUMMARY:Matane\, QC/ Festive Christmas party for TFWs
DESCRIPTION:To log in : \nhttps://meet.jit.si/CONGEDIEMENT
URL:https://www.infotetquebec.com/en/event/matane-qc-festive-christmas-party-for-tfws/
LOCATION:679 Route 195\, Matane\, QC.
CATEGORIES:Festival,Night,Social activity
ATTACH;FMTTYPE=image/png:https://www.infotetquebec.com/wp-content/uploads/2025/12/IMM-QC_Souper-de-Noel-2025_FRAN.png
END:VEVENT
BEGIN:VEVENT
DTSTART;TZID=America/Toronto:20251221T170000
DTEND;TZID=America/Toronto:20251221T200000
DTSTAMP:20260423T012516
CREATED:20251205T150203Z
LAST-MODIFIED:20251205T153041Z
UID:24446-1766336400-1766347200@www.infotetquebec.com
SUMMARY:Drummondville\, QC/ Village illuminated for the TFWs.
DESCRIPTION:To log in : \nhttps://meet.jit.si/CONGEDIEMENT
URL:https://www.infotetquebec.com/en/event/drummondville-qc-village-illuminated-for-the-tfws/
LOCATION:1425\, Rue Montplaisir\, Drummondville. Qc.
CATEGORIES:Festival,Social activity
ATTACH;FMTTYPE=image/jpeg:https://www.infotetquebec.com/wp-content/uploads/2025/12/Village-illumine-Desjardins_FR.jpg
END:VEVENT
BEGIN:VEVENT
DTSTART;TZID=America/Toronto:20251221T173000
DTEND;TZID=America/Toronto:20251221T193000
DTSTAMP:20260423T012516
CREATED:20251010T180216Z
LAST-MODIFIED:20251010T180251Z
UID:23258-1766338200-1766345400@www.infotetquebec.com
SUMMARY:Saint-Basile\, QC/Indoor soccer for TFWs
DESCRIPTION:To log in : \nhttps://meet.jit.si/CONGEDIEMENT
URL:https://www.infotetquebec.com/en/event/saint-basile-qc-indoor-soccer-for-tfws-10/
LOCATION:Centre Ernest-J.-Papillon\, Rue Sainte Angélique\, Saint-Basile\, QC\, Canada
CATEGORIES:Cultural or sports activity,soccer
ATTACH;FMTTYPE=image/png:https://www.infotetquebec.com/wp-content/uploads/2025/10/SOCCER-INTERIEUR-FR.png
END:VEVENT
BEGIN:VEVENT
DTSTART;TZID=America/Toronto:20251228T173000
DTEND;TZID=America/Toronto:20251228T193000
DTSTAMP:20260423T012516
CREATED:20251010T180500Z
LAST-MODIFIED:20251010T180500Z
UID:23262-1766943000-1766950200@www.infotetquebec.com
SUMMARY:Saint-Basile\, QC/Indoor soccer for TFWs
DESCRIPTION:To log in : \nhttps://meet.jit.si/CONGEDIEMENT
URL:https://www.infotetquebec.com/en/event/saint-basile-qc-indoor-soccer-for-tfws-12/
LOCATION:Centre Ernest-J.-Papillon\, Rue Sainte Angélique\, Saint-Basile\, QC\, Canada
CATEGORIES:Cultural or sports activity,soccer
ATTACH;FMTTYPE=image/png:https://www.infotetquebec.com/wp-content/uploads/2025/10/SOCCER-INTERIEUR-FR.png
END:VEVENT
BEGIN:VEVENT
DTSTART;TZID=America/Toronto:20260109T190000
DTEND;TZID=America/Toronto:20260109T210000
DTSTAMP:20260423T012516
CREATED:20260112T205907Z
LAST-MODIFIED:20260112T205907Z
UID:25458-1767985200-1767992400@www.infotetquebec.com
SUMMARY:Coaticook\, QC / Soccer in Coaticook for TFWs
DESCRIPTION:To log in : \nhttps://meet.jit.si/CONGEDIEMENT
URL:https://www.infotetquebec.com/en/event/coaticook-qc-soccer-in-coaticook-for-tfws/
LOCATION:497 Rue Saint-Jean-Baptiste\, Coaticook\, QC J1A 1G1\, Canada
CATEGORIES:Cultural or sports activity,soccer
ATTACH;FMTTYPE=image/png:https://www.infotetquebec.com/wp-content/uploads/2026/01/EOS-Soccer-Coaticook-interieur-2026-ang.png
END:VEVENT
BEGIN:VEVENT
DTSTART;TZID=America/Toronto:20260110T180000
DTEND;TZID=America/Toronto:20260110T220000
DTSTAMP:20260423T012517
CREATED:20260106T171107Z
LAST-MODIFIED:20260106T171435Z
UID:25241-1768068000-1768082400@www.infotetquebec.com
SUMMARY:Sainte-Anne-de-Beaupré\, QC/ New Year's celebration for TFWs.
DESCRIPTION:To log in : \nhttps://meet.jit.si/CONGEDIEMENT
URL:https://www.infotetquebec.com/en/event/sainte-anne-de-beaupre-qc-new-years-celebration-for-tfws/
LOCATION:10000 Boulevard Sainte-Anne\, Sainte-Anne-de-Beaupré\, QC\, Canada
CATEGORIES:Night,Party,Social activity
ATTACH;FMTTYPE=image/jpeg:https://www.infotetquebec.com/wp-content/uploads/2026/01/5.jpg
ORGANIZER;CN="Services de Main d'oeuvre L'Appui":MAILTO:info@cje-appui.qc.ca
END:VEVENT
BEGIN:VEVENT
DTSTART;TZID=America/Toronto:20260116T190000
DTEND;TZID=America/Toronto:20260116T210000
DTSTAMP:20260423T012517
CREATED:20260112T210021Z
LAST-MODIFIED:20260112T210021Z
UID:25463-1768590000-1768597200@www.infotetquebec.com
SUMMARY:Coaticook\, QC / Soccer in Coaticook for TFWs
DESCRIPTION:To log in : \nhttps://meet.jit.si/CONGEDIEMENT
URL:https://www.infotetquebec.com/en/event/coaticook-qc-soccer-in-coaticook-for-tfws-2/
LOCATION:497 Rue Saint-Jean-Baptiste\, Coaticook\, QC J1A 1G1\, Canada
CATEGORIES:Cultural or sports activity,soccer
ATTACH;FMTTYPE=image/png:https://www.infotetquebec.com/wp-content/uploads/2026/01/EOS-Soccer-Coaticook-interieur-2026-ang.png
END:VEVENT
BEGIN:VEVENT
DTSTART;TZID=America/Toronto:20260119T173000
DTEND;TZID=America/Toronto:20260119T193000
DTSTAMP:20260423T012517
CREATED:20260115T180627Z
LAST-MODIFIED:20260115T180856Z
UID:25705-1768843800-1768851000@www.infotetquebec.com
SUMMARY:Saint-François-Xavier-de-Brompton\, QC / TFWs Visit to Porc-Saint Farm
DESCRIPTION:To log in : \nhttps://meet.jit.si/CONGEDIEMENT
URL:https://www.infotetquebec.com/en/event/saint-francois-xavier-de-brompton-qc-tfws-visit-to-porc-saint-farm/
LOCATION:220 Chemin du 7e Rang\, Saint-François-Xavier-de-Brompton\, QC\, Canada
CATEGORIES:Night,Social activity
ATTACH;FMTTYPE=image/png:https://www.infotetquebec.com/wp-content/uploads/2026/01/Soiree-latina-fr.png
END:VEVENT
BEGIN:VEVENT
DTSTART;TZID=America/Toronto:20260122T190000
DTEND;TZID=America/Toronto:20260122T203000
DTSTAMP:20260423T012517
CREATED:20251126T210552Z
LAST-MODIFIED:20251126T210845Z
UID:24384-1769108400-1769113800@www.infotetquebec.com
SUMMARY:Chambly\, QC/Soccer activity for TFWs.
DESCRIPTION:To log in : \nhttps://meet.jit.si/CONGEDIEMENT
URL:https://www.infotetquebec.com/en/event/chambly-qc-soccer-activity-for-tfws/
LOCATION:5 Rue des Voltigeurs\, Chambly\, QC J3L 2B9
CATEGORIES:Cultural or sports activity,soccer
ATTACH;FMTTYPE=image/jpeg:https://www.infotetquebec.com/wp-content/uploads/2025/11/Activite-Soccer-22-janvier-2026-ENG.jpg
ORGANIZER;CN="Int%C3%A9gration comp%C3%A9tences":MAILTO:lilianasalgado@integrationcompetences.ca
END:VEVENT
BEGIN:VEVENT
DTSTART;TZID=America/Toronto:20260123T190000
DTEND;TZID=America/Toronto:20260123T210000
DTSTAMP:20260423T012517
CREATED:20260112T210237Z
LAST-MODIFIED:20260112T210237Z
UID:25465-1769194800-1769202000@www.infotetquebec.com
SUMMARY:Coaticook\, QC / Soccer in Coaticook for TFWs
DESCRIPTION:To log in : \nhttps://meet.jit.si/CONGEDIEMENT
URL:https://www.infotetquebec.com/en/event/coaticook-qc-soccer-in-coaticook-for-tfws-3/
LOCATION:497 Rue Saint-Jean-Baptiste\, Coaticook\, QC J1A 1G1\, Canada
CATEGORIES:Cultural or sports activity,soccer
ATTACH;FMTTYPE=image/png:https://www.infotetquebec.com/wp-content/uploads/2026/01/EOS-Soccer-Coaticook-interieur-2026-ang.png
END:VEVENT
BEGIN:VEVENT
DTSTART;TZID=America/Toronto:20260125T143000
DTEND;TZID=America/Toronto:20260125T163000
DTSTAMP:20260423T012517
CREATED:20260115T182550Z
LAST-MODIFIED:20260115T182756Z
UID:25736-1769351400-1769358600@www.infotetquebec.com
SUMMARY:Sherbrooke\, QC / Laser Game in Sherbrooke for TFWs
DESCRIPTION:To log in : \nhttps://meet.jit.si/CONGEDIEMENT
URL:https://www.infotetquebec.com/en/event/sherbrooke-qc-laser-game-in-sherbrooke-for-tfws/
LOCATION:1201 12e Avenue Nord\, Sherbrooke\, QC\, Canada
CATEGORIES:Cultural or sports activity,Social activity
ATTACH;FMTTYPE=image/png:https://www.infotetquebec.com/wp-content/uploads/2026/01/Jeu-laser-ang.png
END:VEVENT
BEGIN:VEVENT
DTSTART;TZID=America/Toronto:20260127T180000
DTEND;TZID=America/Toronto:20260127T190000
DTSTAMP:20260423T012517
CREATED:20260121T134010Z
LAST-MODIFIED:20260121T134618Z
UID:25870-1769536800-1769540400@www.infotetquebec.com
SUMMARY:Radio Program for TFWs / Information Session on Project Services for TFWs / 96.7 CING FM
DESCRIPTION:To log in : \nhttps://meet.jit.si/CONGEDIEMENT
URL:https://www.infotetquebec.com/en/event/radio-program-for-tfws-information-session-on-project-services-for-tfws-96-7-cing-fm/
LOCATION:À la radio\, CIGN FM 96\,7\, Coaticook\, Québec\, Canada
CATEGORIES:Information session
ATTACH;FMTTYPE=image/png:https://www.infotetquebec.com/wp-content/uploads/2026/01/CIGN-FM-96.7-Radio-cooperative-de-Coaticook-fr.png
END:VEVENT
BEGIN:VEVENT
DTSTART;TZID=America/Toronto:20260127T180000
DTEND;TZID=America/Toronto:20260127T200000
DTSTAMP:20260423T012517
CREATED:20260116T165428Z
LAST-MODIFIED:20260116T165741Z
UID:25820-1769536800-1769544000@www.infotetquebec.com
SUMMARY:Sept-Îles\, QC / Tax Information Session for TFWs
DESCRIPTION:To log in : \nhttps://meet.jit.si/CONGEDIEMENT
URL:https://www.infotetquebec.com/en/event/sept-iles-qc-tax-information-session-for-tfws/
LOCATION:500 Av. Jolliet\, Sept-Îles\, QC G4R 1X6–
CATEGORIES:Information session
ATTACH;FMTTYPE=image/png:https://www.infotetquebec.com/wp-content/uploads/2026/01/SEANCE-DINFORMATIONS-SUR-LES-IMPOTS-FR-1.png
END:VEVENT
BEGIN:VEVENT
DTSTART;TZID=America/Toronto:20260128T183000
DTEND;TZID=America/Toronto:20260128T203000
DTSTAMP:20260423T012517
CREATED:20260120T141607Z
LAST-MODIFIED:20260122T210343Z
UID:25857-1769625000-1769632200@www.infotetquebec.com
SUMMARY:Sainte-Anne-de-Beaupré\, QC / Skating Initiation for TFWs
DESCRIPTION:To log in : \nhttps://meet.jit.si/CONGEDIEMENT
URL:https://www.infotetquebec.com/en/event/saint-joachim-de-courval-qc-skating-initiation-for-tfws/
LOCATION:10000 Bd Sainte-Anne. Sainte-Anne-de-Beaupré\, QC G0A 3C0
CATEGORIES:Cultural or sports activity,Social activity
ATTACH;FMTTYPE=image/png:https://www.infotetquebec.com/wp-content/uploads/2026/01/Visuel-Immigrant-quebec-FR.png
ORGANIZER;CN="Services de Main d'oeuvre L'Appui":MAILTO:info@cje-appui.qc.ca
END:VEVENT
BEGIN:VEVENT
DTSTART;TZID=America/Toronto:20260130T174500
DTEND;TZID=America/Toronto:20260130T200000
DTSTAMP:20260423T012517
CREATED:20260113T205750Z
LAST-MODIFIED:20260115T180520Z
UID:25634-1769795100-1769803200@www.infotetquebec.com
SUMMARY:Granby\, QC / Information Session “Rights and Responsibilities of Tenants” for TFWs
DESCRIPTION:To log in : \nhttps://meet.jit.si/CONGEDIEMENT
URL:https://www.infotetquebec.com/en/event/granby-qc-information-session-rights-and-responsibilities-of-tenants-for-tfws/
LOCATION:279 Rue Principale\, Granby\, QC\, Canada
CATEGORIES:Information session,Information session
ATTACH;FMTTYPE=image/png:https://www.infotetquebec.com/wp-content/uploads/2026/01/Droits-et-obligations-des-locataires-anglais.png
ORGANIZER;CN="Granby Industriel":MAILTO:ga.brand@granby-industriel.com
END:VEVENT
BEGIN:VEVENT
DTSTART;TZID=America/Toronto:20260130T190000
DTEND;TZID=America/Toronto:20260130T210000
DTSTAMP:20260423T012517
CREATED:20260112T210346Z
LAST-MODIFIED:20260112T210346Z
UID:25467-1769799600-1769806800@www.infotetquebec.com
SUMMARY:Coaticook\, QC / Soccer in Coaticook for TFWs
DESCRIPTION:To log in : \nhttps://meet.jit.si/CONGEDIEMENT
URL:https://www.infotetquebec.com/en/event/coaticook-qc-soccer-in-coaticook-for-tfws-4/
LOCATION:497 Rue Saint-Jean-Baptiste\, Coaticook\, QC J1A 1G1\, Canada
CATEGORIES:Cultural or sports activity,soccer
ATTACH;FMTTYPE=image/png:https://www.infotetquebec.com/wp-content/uploads/2026/01/EOS-Soccer-Coaticook-interieur-2026-ang.png
END:VEVENT
BEGIN:VEVENT
DTSTART;TZID=America/Toronto:20260202T173000
DTEND;TZID=America/Toronto:20260202T193000
DTSTAMP:20260423T012517
CREATED:20260126T174913Z
LAST-MODIFIED:20260126T175001Z
UID:26074-1770053400-1770060600@www.infotetquebec.com
SUMMARY:Saint-François-Xavier-de-Brompton\, QC / Visit of TFWs to Porc-Saint Farm
DESCRIPTION:To log in : \nhttps://meet.jit.si/CONGEDIEMENT
URL:https://www.infotetquebec.com/en/event/saint-francois-xavier-de-brompton-qc-visit-of-tfws-to-porc-saint-farm/
LOCATION:159 2e Rang\, Saint-François-Xavier-de-Brompton\, QC\, Canada
CATEGORIES:bowling night,Social activity
ATTACH;FMTTYPE=image/png:https://www.infotetquebec.com/wp-content/uploads/2026/01/Soiree-latina-fr-1.png
END:VEVENT
BEGIN:VEVENT
DTSTART;TZID=America/Toronto:20260205T190000
DTEND;TZID=America/Toronto:20260205T210000
DTSTAMP:20260423T012517
CREATED:20260114T134031Z
LAST-MODIFIED:20260114T134141Z
UID:25650-1770318000-1770325200@www.infotetquebec.com
SUMMARY:Saint-Ubalde\, QC / Social Gathering with Board Games for TFWs
DESCRIPTION:To log in : \nhttps://meet.jit.si/CONGEDIEMENT
URL:https://www.infotetquebec.com/en/event/saint-ubalde-qc-social-gathering-with-board-games-for-tfws/
LOCATION:St-Ubalde Arena\, Rue de l’Aréna\, Saint-Ubalde\, QC\, Canada
CATEGORIES:Cultural or sports activity,Night,Social activity
ATTACH;FMTTYPE=image/png:https://www.infotetquebec.com/wp-content/uploads/2026/01/jeux-de-table-SAINT-UBALDE.png
END:VEVENT
BEGIN:VEVENT
DTSTART;TZID=America/Toronto:20260206T190000
DTEND;TZID=America/Toronto:20260206T210000
DTSTAMP:20260423T012517
CREATED:20260112T210453Z
LAST-MODIFIED:20260112T210453Z
UID:25469-1770404400-1770411600@www.infotetquebec.com
SUMMARY:Coaticook\, QC / Soccer in Coaticook for TFWs
DESCRIPTION:To log in : \nhttps://meet.jit.si/CONGEDIEMENT
URL:https://www.infotetquebec.com/en/event/coaticook-qc-soccer-in-coaticook-for-tfws-5/
LOCATION:497 Rue Saint-Jean-Baptiste\, Coaticook\, QC J1A 1G1\, Canada
CATEGORIES:Cultural or sports activity,soccer
ATTACH;FMTTYPE=image/png:https://www.infotetquebec.com/wp-content/uploads/2026/01/EOS-Soccer-Coaticook-interieur-2026-ang.png
END:VEVENT
BEGIN:VEVENT
DTSTART;TZID=America/Toronto:20260207T090000
DTEND;TZID=America/Toronto:20260207T130000
DTSTAMP:20260423T012517
CREATED:20260119T135736Z
LAST-MODIFIED:20260119T135739Z
UID:25833-1770454800-1770469200@www.infotetquebec.com
SUMMARY:Sept-Îles\, QC / Cross-country skiing for TFWs
DESCRIPTION:To log in : \nhttps://meet.jit.si/CONGEDIEMENT
URL:https://www.infotetquebec.com/en/event/sept-iles-qc-cross-country-skiing-for-tfws/
LOCATION:Centre de plein air du Lac des Rapides\, Chemin du Lac des Rapides\, Sept-Îles\, QC.
CATEGORIES:Cultural or sports activity
END:VEVENT
BEGIN:VEVENT
DTSTART;TZID=America/Toronto:20260207T120000
DTEND;TZID=America/Toronto:20260207T150000
DTSTAMP:20260423T012517
CREATED:20260127T212018Z
LAST-MODIFIED:20260127T212104Z
UID:26171-1770465600-1770476400@www.infotetquebec.com
SUMMARY:Tingwick\, QC / Winter Afternoon Activity for TFWs
DESCRIPTION:To log in : \nhttps://meet.jit.si/CONGEDIEMENT
URL:https://www.infotetquebec.com/en/event/tingwick-qc-winter-afternoon-activity-for-tfws/
LOCATION:180 Chemin Mont Gleason\, Tingwick\, QC\, Canada
CATEGORIES:Cultural or sports activity,Social activity
ATTACH;FMTTYPE=image/png:https://www.infotetquebec.com/wp-content/uploads/2026/01/Invitation-Glissade-francais.png
END:VEVENT
BEGIN:VEVENT
DTSTART;TZID=America/Toronto:20260207T173000
DTEND;TZID=America/Toronto:20260207T193000
DTSTAMP:20260423T012517
CREATED:20260115T181709Z
LAST-MODIFIED:20260115T181846Z
UID:25719-1770485400-1770492600@www.infotetquebec.com
SUMMARY:Sherbrooke\, QC / Bowling in Sherbrooke for TFWs
DESCRIPTION:To log in : \nhttps://meet.jit.si/CONGEDIEMENT
URL:https://www.infotetquebec.com/en/event/sherbrooke-qc-bowling-in-sherbrooke-for-tet/
LOCATION:969 Rue du Haut-Bois Sud\, Sherbrooke\, QC\, Canada
CATEGORIES:Bowling,Cultural or sports activity
ATTACH;FMTTYPE=image/png:https://www.infotetquebec.com/wp-content/uploads/2026/01/Quilles-Sherbrooke-ang.png
END:VEVENT
BEGIN:VEVENT
DTSTART;TZID=America/Toronto:20260210T104500
DTEND;TZID=America/Toronto:20260210T120000
DTSTAMP:20260423T012517
CREATED:20260202T163229Z
LAST-MODIFIED:20260202T163342Z
UID:26196-1770720300-1770724800@www.infotetquebec.com
SUMMARY:Mirabel\, QC / Informational Workshop by the Mirabel Police for TFWs
DESCRIPTION:To log in : \nhttps://meet.jit.si/CONGEDIEMENT
URL:https://www.infotetquebec.com/en/event/mirabel-qc-informational-workshop-by-the-mirabel-police-for-tfws/
LOCATION:13000 Chem. Bélanger\, Mirabel\, QC J7J 1P3\, Canada
CATEGORIES:Information session,Information session
ATTACH;FMTTYPE=image/jpeg:https://www.infotetquebec.com/wp-content/uploads/2026/02/Modele-invitation-TET-FR.jpg
END:VEVENT
BEGIN:VEVENT
DTSTART;TZID=America/Toronto:20260210T114000
DTEND;TZID=America/Toronto:20260210T124000
DTSTAMP:20260423T012517
CREATED:20260204T154923Z
LAST-MODIFIED:20260204T155312Z
UID:26358-1770723600-1770727200@www.infotetquebec.com
SUMMARY:Saint-Jean-sur-Richelieu\, QC / Information session for TFWs
DESCRIPTION:To log in : \nhttps://meet.jit.si/CONGEDIEMENT
URL:https://www.infotetquebec.com/en/event/saint-jean-sur-richelieu-qc-information-session-for-tet/
LOCATION:300 Rue Georges-Phaneuf\, Saint-Jean-sur-Richelieu\, QC\, Canada
CATEGORIES:Information session,Networking,Social activity
ATTACH;FMTTYPE=image/png:https://www.infotetquebec.com/wp-content/uploads/2026/02/affiche-LANCRE-RELANCE-FRA.png
ORGANIZER;CN="L'ANCRE":MAILTO:karladuenas@lancre.ca
END:VEVENT
BEGIN:VEVENT
DTSTART;TZID=America/Toronto:20260212T180000
DTEND;TZID=America/Toronto:20260212T203000
DTSTAMP:20260423T012517
CREATED:20260121T204343Z
LAST-MODIFIED:20260121T204920Z
UID:25899-1770919200-1770928200@www.infotetquebec.com
SUMMARY:Online / Webinar: Information Workshop “How Taxes Work in Canada” for TFWs
DESCRIPTION:To log in : \nhttps://meet.jit.si/CONGEDIEMENT
URL:https://www.infotetquebec.com/en/event/online-webinar-information-workshop-how-taxes-work-in-canada-for-tfws/
LOCATION:En ligne
CATEGORIES:Information session,webinar
ATTACH;FMTTYPE=image/png:https://www.infotetquebec.com/wp-content/uploads/2026/01/Webinaire-12-fevrier-2026-EN.png
ORGANIZER;CN="Int%C3%A9gration comp%C3%A9tences":MAILTO:lilianasalgado@integrationcompetences.ca
END:VEVENT
BEGIN:VEVENT
DTSTART;TZID=America/Toronto:20260213T190000
DTEND;TZID=America/Toronto:20260213T210000
DTSTAMP:20260423T012517
CREATED:20260112T210551Z
LAST-MODIFIED:20260112T210551Z
UID:25471-1771009200-1771016400@www.infotetquebec.com
SUMMARY:Coaticook\, QC / Soccer in Coaticook for TFWs
DESCRIPTION:To log in : \nhttps://meet.jit.si/CONGEDIEMENT
URL:https://www.infotetquebec.com/en/event/coaticook-qc-soccer-in-coaticook-for-tfws-6/
LOCATION:497 Rue Saint-Jean-Baptiste\, Coaticook\, QC J1A 1G1\, Canada
CATEGORIES:Cultural or sports activity,soccer
ATTACH;FMTTYPE=image/png:https://www.infotetquebec.com/wp-content/uploads/2026/01/EOS-Soccer-Coaticook-interieur-2026-ang.png
END:VEVENT
BEGIN:VEVENT
DTSTART;TZID=America/Toronto:20260215T094500
DTEND;TZID=America/Toronto:20260215T130000
DTSTAMP:20260423T012517
CREATED:20260120T140137Z
LAST-MODIFIED:20260120T140436Z
UID:25843-1771148700-1771160400@www.infotetquebec.com
SUMMARY:Saint-Joachim-de-Courval\, QC / Tube Sliding for TFWs
DESCRIPTION:To log in : \nhttps://meet.jit.si/CONGEDIEMENT
URL:https://www.infotetquebec.com/en/event/saint-joachim-de-courval-qc-tube-sliding-for-tfws/
LOCATION:526 Rang Sainte Anne\, Saint-Joachim-de-Courval\, QC\, Canada
CATEGORIES:Cultural or sports activity,Social activity
ATTACH;FMTTYPE=image/png:https://www.infotetquebec.com/wp-content/uploads/2026/01/Glissade-exteria-francais.png
END:VEVENT
BEGIN:VEVENT
DTSTART;TZID=America/Toronto:20260217T183000
DTEND;TZID=America/Toronto:20260217T203000
DTSTAMP:20260423T012517
CREATED:20260210T152601Z
LAST-MODIFIED:20260210T152701Z
UID:26487-1771353000-1771360200@www.infotetquebec.com
SUMMARY:Baie-Saint-Paul\, QC / Information Workshop on Housing Search for TFWs
DESCRIPTION:To log in : \nhttps://meet.jit.si/CONGEDIEMENT
URL:https://www.infotetquebec.com/en/event/baie-saint-paul-qc-information-workshop-on-housing-search-for-tfws/
LOCATION:39 Rue St Jean Baptiste\, Baie-Saint-Paul\, QC G3Z 1M3
CATEGORIES:Information session,Information session
ATTACH;FMTTYPE=image/png:https://www.infotetquebec.com/wp-content/uploads/2026/02/Logement-3.png
ORGANIZER;CN="Services de Main d'oeuvre L'Appui":MAILTO:info@cje-appui.qc.ca
END:VEVENT
END:VCALENDAR