BEGIN:VCALENDAR
VERSION:2.0
PRODID:-//Infotetquebec - ECPv6.15.20//NONSGML v1.0//EN
CALSCALE:GREGORIAN
METHOD:PUBLISH
X-ORIGINAL-URL:https://www.infotetquebec.com/en/
X-WR-CALDESC:Events for Infotetquebec
REFRESH-INTERVAL;VALUE=DURATION:PT1H
X-Robots-Tag:noindex
X-PUBLISHED-TTL:PT1H
BEGIN:VTIMEZONE
TZID:America/Toronto
BEGIN:DAYLIGHT
TZOFFSETFROM:-0500
TZOFFSETTO:-0400
TZNAME:EDT
DTSTART:20240310T070000
END:DAYLIGHT
BEGIN:STANDARD
TZOFFSETFROM:-0400
TZOFFSETTO:-0500
TZNAME:EST
DTSTART:20241103T060000
END:STANDARD
BEGIN:DAYLIGHT
TZOFFSETFROM:-0500
TZOFFSETTO:-0400
TZNAME:EDT
DTSTART:20250309T070000
END:DAYLIGHT
BEGIN:STANDARD
TZOFFSETFROM:-0400
TZOFFSETTO:-0500
TZNAME:EST
DTSTART:20251102T060000
END:STANDARD
BEGIN:DAYLIGHT
TZOFFSETFROM:-0500
TZOFFSETTO:-0400
TZNAME:EDT
DTSTART:20260308T070000
END:DAYLIGHT
BEGIN:STANDARD
TZOFFSETFROM:-0400
TZOFFSETTO:-0500
TZNAME:EST
DTSTART:20261101T060000
END:STANDARD
END:VTIMEZONE
BEGIN:VEVENT
DTSTART;TZID=America/Toronto:20250913T190000
DTEND;TZID=America/Toronto:20250913T210000
DTSTAMP:20260423T021554
CREATED:20250717T155751Z
LAST-MODIFIED:20250717T155751Z
UID:21488-1757790000-1757797200@www.infotetquebec.com
SUMMARY:Val-des-Sources\, QC/Outdoor soccer Val-des-Sources.
DESCRIPTION:To log in : \nhttps://meet.jit.si/CONGEDIEMENT
URL:https://www.infotetquebec.com/en/event/val-des-sources-qc-outdoor-soccer-val-des-sources-9/
LOCATION:517 1ere Avenue\, Val-des-Sources\, QC J1T 3X4\, Canada
CATEGORIES:Cultural or sports activity,soccer
ATTACH;FMTTYPE=image/jpeg:https://www.infotetquebec.com/wp-content/uploads/2025/07/EOS-Soccer-exterieur-VdS-ete-2025-fr.jpg
END:VEVENT
BEGIN:VEVENT
DTSTART;TZID=America/Toronto:20250914T110000
DTEND;TZID=America/Toronto:20250914T170000
DTSTAMP:20260423T021554
CREATED:20250801T124612Z
LAST-MODIFIED:20250801T125248Z
UID:21858-1757847600-1757869200@www.infotetquebec.com
SUMMARY:Neuville\, QC/Guatemala and Mexico Independence Day
DESCRIPTION:To log in : \nhttps://meet.jit.si/CONGEDIEMENT
URL:https://www.infotetquebec.com/en/event/neuville-qc-guatemala-and-mexico-independence-day/
LOCATION:230 Rue du Père Rhéaume\, Neuville\, QC G0A 2R0\, Canada
CATEGORIES:Party,Social activity
ATTACH;FMTTYPE=image/png:https://www.infotetquebec.com/wp-content/uploads/2025/07/Flyer-recto-Francais.png
END:VEVENT
BEGIN:VEVENT
DTSTART;TZID=America/Toronto:20250914T143000
DTEND;TZID=America/Toronto:20250914T163000
DTSTAMP:20260423T021554
CREATED:20250811T172009Z
LAST-MODIFIED:20250811T172118Z
UID:22241-1757860200-1757867400@www.infotetquebec.com
SUMMARY:Sherbrooke\, QC / Torch Relay. Celebration of Guatemalan Independence Day
DESCRIPTION:To log in : \nhttps://meet.jit.si/CONGEDIEMENT
URL:https://www.infotetquebec.com/en/event/sherbrooke-qc-torch-relay-celebration-of-guatemalan-independence-day/
LOCATION:Rue St. Francis\, Sherbrooke\, QC J1M 0B3\, Canada
CATEGORIES:Cultural or sports activity,Social activity
ATTACH;FMTTYPE=image/png:https://www.infotetquebec.com/wp-content/uploads/2025/08/La-portee-de-la-torche-fr.png
END:VEVENT
BEGIN:VEVENT
DTSTART;TZID=America/Toronto:20250920T190000
DTEND;TZID=America/Toronto:20250920T210000
DTSTAMP:20260423T021554
CREATED:20250717T155815Z
LAST-MODIFIED:20250717T155815Z
UID:21490-1758394800-1758402000@www.infotetquebec.com
SUMMARY:Val-des-Sources\, QC/Outdoor soccer Val-des-Sources.
DESCRIPTION:To log in : \nhttps://meet.jit.si/CONGEDIEMENT
URL:https://www.infotetquebec.com/en/event/val-des-sources-qc-outdoor-soccer-val-des-sources-10/
LOCATION:517 1ere Avenue\, Val-des-Sources\, QC J1T 3X4\, Canada
CATEGORIES:Cultural or sports activity,soccer
ATTACH;FMTTYPE=image/jpeg:https://www.infotetquebec.com/wp-content/uploads/2025/07/EOS-Soccer-exterieur-VdS-ete-2025-fr.jpg
END:VEVENT
BEGIN:VEVENT
DTSTART;TZID=America/Toronto:20250926T180000
DTEND;TZID=America/Toronto:20250926T210000
DTSTAMP:20260423T021554
CREATED:20250825T173534Z
LAST-MODIFIED:20250825T173624Z
UID:22493-1758909600-1758920400@www.infotetquebec.com
SUMMARY:Saint-Marc-des-Carrières\, Qc./Outdoor soccer for TET.
DESCRIPTION:To log in : \nhttps://meet.jit.si/CONGEDIEMENT
URL:https://www.infotetquebec.com/en/event/saint-marc-des-carrieres-qc-outdoor-soccer-for-tet/
LOCATION:1600 Boul. Bona-Dussault\, Saint-Marc-des-Carrières\, QC G0A 4B0\, Canada
CATEGORIES:BBQ,Cultural or sports activity,soccer
ATTACH;FMTTYPE=image/png:https://www.infotetquebec.com/wp-content/uploads/2025/08/Fin_saison_soccer_26_sept_FR.png
END:VEVENT
BEGIN:VEVENT
DTSTART;TZID=America/Toronto:20250927T140000
DTEND;TZID=America/Toronto:20250927T170000
DTSTAMP:20260423T021554
CREATED:20250922T183114Z
LAST-MODIFIED:20250922T183217Z
UID:22853-1758981600-1758992400@www.infotetquebec.com
SUMMARY:Cap-Saint-Ignace\, QC/Apple picking for TFW´s
DESCRIPTION:To log in : \nhttps://meet.jit.si/CONGEDIEMENT
URL:https://www.infotetquebec.com/en/event/cap-saint-ignace-qc-apple-picking-for-tfws/
LOCATION:1308 Chem. Bellevue O\, Cap-Saint-Ignace\, QC G0R 1H0
CATEGORIES:Cultural or sports activity,Social activity
ATTACH;FMTTYPE=image/png:https://www.infotetquebec.com/wp-content/uploads/2025/09/visuel-apple-picking.png
ORGANIZER;CN="Corporation de d%C3%A9veloppement %C3%A9conomique de la MRC de Montmagny (CDEMM)":MAILTO:abrebion@cgocable.ca
END:VEVENT
BEGIN:VEVENT
DTSTART;TZID=America/Toronto:20250927T190000
DTEND;TZID=America/Toronto:20250927T210000
DTSTAMP:20260423T021554
CREATED:20250717T155841Z
LAST-MODIFIED:20250717T155841Z
UID:21492-1758999600-1759006800@www.infotetquebec.com
SUMMARY:Val-des-Sources\, QC/Outdoor soccer Val-des-Sources.
DESCRIPTION:To log in : \nhttps://meet.jit.si/CONGEDIEMENT
URL:https://www.infotetquebec.com/en/event/val-des-sources-qc-outdoor-soccer-val-des-sources-11/
LOCATION:517 1ere Avenue\, Val-des-Sources\, QC J1T 3X4\, Canada
CATEGORIES:Cultural or sports activity,soccer
ATTACH;FMTTYPE=image/jpeg:https://www.infotetquebec.com/wp-content/uploads/2025/07/EOS-Soccer-exterieur-VdS-ete-2025-fr.jpg
END:VEVENT
BEGIN:VEVENT
DTSTART;TZID=America/Toronto:20251011T093000
DTEND;TZID=America/Toronto:20251011T123000
DTSTAMP:20260423T021554
CREATED:20251008T141623Z
LAST-MODIFIED:20251008T142543Z
UID:23163-1760175000-1760185800@www.infotetquebec.com
SUMMARY:Sainte-Famille\, QC/Apple picking for TFWs
DESCRIPTION:To log in : \nhttps://meet.jit.si/CONGEDIEMENT
URL:https://www.infotetquebec.com/en/event/sainte-famille-qc-apple-picking-for-tfws/
LOCATION:Ferme Laval Gagnon inc\, Chemin Royal\, Sainte-Famille\, QC\, Canada
CATEGORIES:Cultural or sports activity,Social activity
ATTACH;FMTTYPE=image/png:https://www.infotetquebec.com/wp-content/uploads/2025/10/Francais.png
END:VEVENT
BEGIN:VEVENT
DTSTART;TZID=America/Toronto:20251011T140000
DTEND;TZID=America/Toronto:20251011T170000
DTSTAMP:20260423T021554
CREATED:20251006T122347Z
LAST-MODIFIED:20251006T122416Z
UID:23127-1760191200-1760202000@www.infotetquebec.com
SUMMARY:Compton\, QC/The gourmet getaway for the TFWs
DESCRIPTION:To log in : \nhttps://meet.jit.si/CONGEDIEMENT
URL:https://www.infotetquebec.com/en/event/compton-qc-the-gourmet-getaway-for-the-tfws/
LOCATION:Domaine Ives Hill : Vignoble et verger\, Chemin Boyce\, Compton\, QC\, Canada
CATEGORIES:Cultural or sports activity,Social activity
ATTACH;FMTTYPE=image/png:https://www.infotetquebec.com/wp-content/uploads/2025/10/Viree-gourmande-fr.png
END:VEVENT
BEGIN:VEVENT
DTSTART;TZID=America/Toronto:20251011T200000
DTEND;TZID=America/Toronto:20251011T230000
DTSTAMP:20260423T021554
CREATED:20251006T153808Z
LAST-MODIFIED:20251006T160732Z
UID:23140-1760212800-1760223600@www.infotetquebec.com
SUMMARY:Matane\, QC/The Market Fiesta for TFWs
DESCRIPTION:To log in : \nhttps://meet.jit.si/CONGEDIEMENT
URL:https://www.infotetquebec.com/en/event/matane-qc-the-market-fiesta-for-tfws/
LOCATION:Marché public de La Matanie\, Avenue du Phare Ouest\, Matane\, QC\, Canada
CATEGORIES:Festival,Night,Social activity
ATTACH;FMTTYPE=image/jpeg:https://www.infotetquebec.com/wp-content/uploads/2025/10/Affiches_TET-V2_page-0003.jpg
END:VEVENT
BEGIN:VEVENT
DTSTART;TZID=America/Toronto:20251012T130000
DTEND;TZID=America/Toronto:20251012T160000
DTSTAMP:20260423T021555
CREATED:20251001T124638Z
LAST-MODIFIED:20251001T124715Z
UID:23111-1760274000-1760284800@www.infotetquebec.com
SUMMARY:Stoneham-et-Tewkesbury\, QC/Fall hike for TFWs
DESCRIPTION:To log in : \nhttps://meet.jit.si/CONGEDIEMENT
URL:https://www.infotetquebec.com/en/event/stoneham-et-tewkesbury-qc-fall-hike-for-tfws/
LOCATION:Parc national de la Jacques-Cartier\, Chemin du Parc National\, Stoneham-et-Tewkesbury\, QC\, Canada
CATEGORIES:Cultural or sports activity
ATTACH;FMTTYPE=image/png:https://www.infotetquebec.com/wp-content/uploads/2025/10/Randonnee-automne-CMQ_FR.png
ORGANIZER;CN="Centre multiethnique de Qu%C3%A9bec":MAILTO:sgiroux@centremultiethnique
END:VEVENT
BEGIN:VEVENT
DTSTART;TZID=America/Toronto:20251012T173000
DTEND;TZID=America/Toronto:20251012T193000
DTSTAMP:20260423T021555
CREATED:20251010T173131Z
LAST-MODIFIED:20251010T175343Z
UID:23193-1760290200-1760297400@www.infotetquebec.com
SUMMARY:Saint-Basile\, QC/Indoor soccer for TFWs
DESCRIPTION:To log in : \nhttps://meet.jit.si/CONGEDIEMENT
URL:https://www.infotetquebec.com/en/event/saint-basile-qc-indoor-soccer-for-tfws/
LOCATION:Centre Ernest-J.-Papillon\, Rue Sainte Angélique\, Saint-Basile\, QC\, Canada
CATEGORIES:Cultural or sports activity,soccer
ATTACH;FMTTYPE=image/png:https://www.infotetquebec.com/wp-content/uploads/2025/10/SOCCER-INTERIEUR-FR.png
END:VEVENT
BEGIN:VEVENT
DTSTART;TZID=America/Toronto:20251015T110000
DTEND;TZID=America/Toronto:20251015T120000
DTSTAMP:20260423T021555
CREATED:20251007T134453Z
LAST-MODIFIED:20251007T134535Z
UID:23153-1760526000-1760529600@www.infotetquebec.com
SUMMARY:Webinar: Social Insurance Number (SIN) useful information for TFWs
DESCRIPTION:To log in : \nhttps://meet.jit.si/CONGEDIEMENT
URL:https://www.infotetquebec.com/en/event/webinar-social-insurance-number-sin-useful-information-for-tfws/
LOCATION:En ligne
CATEGORIES:Information session
ATTACH;FMTTYPE=image/jpeg:https://www.infotetquebec.com/wp-content/uploads/2025/10/Image.jpeg
END:VEVENT
BEGIN:VEVENT
DTSTART;TZID=America/Toronto:20251018T110000
DTEND;TZID=America/Toronto:20251018T160000
DTSTAMP:20260423T021555
CREATED:20250922T185833Z
LAST-MODIFIED:20250922T185936Z
UID:22869-1760785200-1760803200@www.infotetquebec.com
SUMMARY:Granby\, QC/Health Fair – 2025 Health Rendezvous for TFWs
DESCRIPTION:To log in : \nhttps://meet.jit.si/CONGEDIEMENT
URL:https://www.infotetquebec.com/en/event/granby-qc-health-fair-2025-health-rendezvous-for-tfws/
LOCATION:235 Rue Saint-Jacques\, Granby\, QC J2G 3N1\, Canada
CATEGORIES:Information session,Social activity
ATTACH;FMTTYPE=image/jpeg:https://www.infotetquebec.com/wp-content/uploads/2025/09/Foire-de-la-sante-CAFLA-2025-FR-scaled.jpg
END:VEVENT
BEGIN:VEVENT
DTSTART;TZID=America/Toronto:20251019T173000
DTEND;TZID=America/Toronto:20251019T193000
DTSTAMP:20260423T021555
CREATED:20251010T175604Z
LAST-MODIFIED:20251010T175604Z
UID:23242-1760895000-1760902200@www.infotetquebec.com
SUMMARY:Saint-Basile\, QC/Indoor soccer for TFWs
DESCRIPTION:To log in : \nhttps://meet.jit.si/CONGEDIEMENT
URL:https://www.infotetquebec.com/en/event/saint-basile-qc-indoor-soccer-for-tfws-2/
LOCATION:Centre Ernest-J.-Papillon\, Rue Sainte Angélique\, Saint-Basile\, QC\, Canada
CATEGORIES:Cultural or sports activity,soccer
ATTACH;FMTTYPE=image/png:https://www.infotetquebec.com/wp-content/uploads/2025/10/SOCCER-INTERIEUR-FR.png
END:VEVENT
BEGIN:VEVENT
DTSTART;TZID=America/Toronto:20251024T180000
DTEND;TZID=America/Toronto:20251024T210000
DTSTAMP:20260423T021555
CREATED:20250926T160146Z
LAST-MODIFIED:20250926T160335Z
UID:22918-1761328800-1761339600@www.infotetquebec.com
SUMMARY:Saint-Paul-d'Abbotsford\, QC/Intercultural Halloween for TFWs
DESCRIPTION:To log in : \nhttps://meet.jit.si/CONGEDIEMENT
URL:https://www.infotetquebec.com/en/event/saint-paul-dabbotsford-qc-intercultural-halloween-for-tfws/
LOCATION:35 Rue Codaire\, Saint-Paul-d’Abbotsford\, QC J0E 1A0\, Canada
CATEGORIES:Social activity
ATTACH;FMTTYPE=image/png:https://www.infotetquebec.com/wp-content/uploads/2025/09/Halloween-interculturelle-ENG.png
ORGANIZER;CN="Int%C3%A9gration comp%C3%A9tences":MAILTO:lilianasalgado@integrationcompetences.ca
END:VEVENT
BEGIN:VEVENT
DTSTART;TZID=America/Toronto:20251025T090000
DTEND;TZID=America/Toronto:20251025T123000
DTSTAMP:20260423T021555
CREATED:20251017T160819Z
LAST-MODIFIED:20251017T160953Z
UID:23480-1761382800-1761395400@www.infotetquebec.com
SUMMARY:Sept-Iles\, QC/ Climbing wall for TFWs
DESCRIPTION:To log in : \nhttps://meet.jit.si/CONGEDIEMENT
URL:https://www.infotetquebec.com/en/event/sept-iles-qc-climbing-wall-for-tfws/
LOCATION:175 Rue de la Vérendrye\, Sept-Iles\, QC\, Canada
CATEGORIES:Cultural or sports activity
ATTACH;FMTTYPE=image/png:https://www.infotetquebec.com/wp-content/uploads/2025/10/Version-FR-de-Soleil-et-sable.-Nager.png
END:VEVENT
BEGIN:VEVENT
DTSTART;TZID=America/Toronto:20251025T130000
DTEND;TZID=America/Toronto:20251025T150000
DTSTAMP:20260423T021555
CREATED:20251009T184447Z
LAST-MODIFIED:20251009T184523Z
UID:23180-1761397200-1761404400@www.infotetquebec.com
SUMMARY:Saint-Jérôme\, QC/Recognition event for TFWs
DESCRIPTION:To log in : \nhttps://meet.jit.si/CONGEDIEMENT
URL:https://www.infotetquebec.com/en/event/saint-jerome-qc-recognition-event-for-tfws/
LOCATION:340 Boulevard des Laurentides\, Saint-Jérôme\, QC\, Canada
CATEGORIES:Social activity
ATTACH;FMTTYPE=image/png:https://www.infotetquebec.com/wp-content/uploads/2025/10/Modele-invitation-TET.png
END:VEVENT
BEGIN:VEVENT
DTSTART;TZID=America/Toronto:20251026T173000
DTEND;TZID=America/Toronto:20251026T193000
DTSTAMP:20260423T021555
CREATED:20251010T175640Z
LAST-MODIFIED:20251010T175640Z
UID:23244-1761499800-1761507000@www.infotetquebec.com
SUMMARY:Saint-Basile\, QC/Indoor soccer for TFWs
DESCRIPTION:To log in : \nhttps://meet.jit.si/CONGEDIEMENT
URL:https://www.infotetquebec.com/en/event/saint-basile-qc-indoor-soccer-for-tfws-3/
LOCATION:Centre Ernest-J.-Papillon\, Rue Sainte Angélique\, Saint-Basile\, QC\, Canada
CATEGORIES:Cultural or sports activity,soccer
ATTACH;FMTTYPE=image/png:https://www.infotetquebec.com/wp-content/uploads/2025/10/SOCCER-INTERIEUR-FR.png
END:VEVENT
BEGIN:VEVENT
DTSTART;TZID=America/Toronto:20251101T150000
DTEND;TZID=America/Toronto:20251101T170000
DTSTAMP:20260423T021555
CREATED:20251021T174133Z
LAST-MODIFIED:20251021T174212Z
UID:23545-1762009200-1762016400@www.infotetquebec.com
SUMMARY:Victoriaville\, QC/Day of the Dead activity for TFWs
DESCRIPTION:To log in : \nhttps://meet.jit.si/CONGEDIEMENT
URL:https://www.infotetquebec.com/en/event/victoriaville-qc-day-of-the-dead-activity-for-tfws/
LOCATION:747 Boulevard Pierre-Roux Est\, Victoriaville\, QC\, Canada
CATEGORIES:Cultural or sports activity,Party,Social activity
ATTACH;FMTTYPE=image/png:https://www.infotetquebec.com/wp-content/uploads/2025/10/Jour-de-morts-Francais.png
END:VEVENT
BEGIN:VEVENT
DTSTART;TZID=America/Toronto:20251101T173000
DTEND;TZID=America/Toronto:20251101T203000
DTSTAMP:20260423T021555
CREATED:20251017T133942Z
LAST-MODIFIED:20251017T134019Z
UID:23456-1762018200-1762029000@www.infotetquebec.com
SUMMARY:Sherbrooke\, QC/All Souls' Day. All Saints' Day. Halloween for the TFWs.
DESCRIPTION:To log in : \nhttps://meet.jit.si/CONGEDIEMENT
URL:https://www.infotetquebec.com/en/event/sherbrooke-qc-all-souls-day-all-saints-day-halloween-for-the-tfws/
LOCATION:Pavillon Armand-Nadeau\, Sherbrooke\, QC\, Canada
CATEGORIES:Cultural or sports activity,Social activity
ATTACH;FMTTYPE=image/png:https://www.infotetquebec.com/wp-content/uploads/2025/10/Fetes-de-morts-fr.png
END:VEVENT
BEGIN:VEVENT
DTSTART;TZID=America/Toronto:20251102T173000
DTEND;TZID=America/Toronto:20251102T193000
DTSTAMP:20260423T021555
CREATED:20251010T175845Z
LAST-MODIFIED:20251010T175845Z
UID:23248-1762104600-1762111800@www.infotetquebec.com
SUMMARY:Saint-Basile\, QC/Indoor soccer for TFWs
DESCRIPTION:To log in : \nhttps://meet.jit.si/CONGEDIEMENT
URL:https://www.infotetquebec.com/en/event/saint-basile-qc-indoor-soccer-for-tfws-5/
LOCATION:Centre Ernest-J.-Papillon\, Rue Sainte Angélique\, Saint-Basile\, QC\, Canada
CATEGORIES:Cultural or sports activity,soccer
ATTACH;FMTTYPE=image/png:https://www.infotetquebec.com/wp-content/uploads/2025/10/SOCCER-INTERIEUR-FR.png
END:VEVENT
BEGIN:VEVENT
DTSTART;TZID=America/Toronto:20251106T170000
DTEND;TZID=America/Toronto:20251106T210000
DTSTAMP:20260423T021555
CREATED:20250929T194933Z
LAST-MODIFIED:20250929T195342Z
UID:23098-1762448400-1762462800@www.infotetquebec.com
SUMMARY:Saint-Jean-sur-Richelieu\, QC/The Altar of the Dead – Immersive Experience for the TFWs
DESCRIPTION:To log in : \nhttps://meet.jit.si/CONGEDIEMENT
URL:https://www.infotetquebec.com/en/event/saint-jean-sur-richelieu-qc-immersive-experience-for-tfws/
LOCATION:215 Rue Longueuil\, Saint-Jean-sur-Richelieu\, QC\, Canada
CATEGORIES:Cultural or sports activity,Social activity
ATTACH;FMTTYPE=image/png:https://www.infotetquebec.com/wp-content/uploads/2025/09/OKAutel-des-morts_Affiche-IQ-FR-1-min-min.png
ORGANIZER;CN="L'ANCRE":MAILTO:karladuenas@lancre.ca
END:VEVENT
BEGIN:VEVENT
DTSTART;TZID=America/Toronto:20251107T170000
DTEND;TZID=America/Toronto:20251107T190000
DTSTAMP:20260423T021556
CREATED:20251024T153645Z
LAST-MODIFIED:20251024T153732Z
UID:23609-1762534800-1762542000@www.infotetquebec.com
SUMMARY:Grenville\, QC/Cooking activity for TFWs
DESCRIPTION:To log in : \nhttps://meet.jit.si/CONGEDIEMENT
URL:https://www.infotetquebec.com/en/event/grenville-qc-cooking-activity-for-tfws/
LOCATION:414 Rue Principale\, Grenville\, QC
CATEGORIES:Cultural or sports activity
ATTACH;FMTTYPE=image/jpeg:https://www.infotetquebec.com/wp-content/uploads/2025/10/AFF-FRAN-activite-cuisine-7nov2025.jpg
ORGANIZER;CN="Centre pour l'immigration en r%C3%A9gion (CIR)":MAILTO:centrepourlimmigrationenregion.org
END:VEVENT
BEGIN:VEVENT
DTSTART;TZID=America/Toronto:20251108T150000
DTEND;TZID=America/Toronto:20251108T170000
DTSTAMP:20260423T021556
CREATED:20251104T211620Z
LAST-MODIFIED:20251104T213011Z
UID:23735-1762614000-1762621200@www.infotetquebec.com
SUMMARY:Sherbrooke\, QC / Information Session for TÉT on the topic: "Job Searching with a Closed Work Permit: Opportunities and Limitations"
DESCRIPTION:To log in : \nhttps://meet.jit.si/CONGEDIEMENT
URL:https://www.infotetquebec.com/en/event/sherbrooke-qc-information-session-for-tfws-on-the-topic-looking-for-a-job-with-a-closed-work-permit-opportunities-and-limitations/
LOCATION:1600 Bd du Plateau-Saint-Joseph\, Sherbrooke\, QC J1L 3C6
CATEGORIES:Information session,Information session
ATTACH;FMTTYPE=image/png:https://www.infotetquebec.com/wp-content/uploads/2025/11/Seance-dinformation-rechercher-demploi-ang.png
END:VEVENT
BEGIN:VEVENT
DTSTART;TZID=America/Toronto:20251109T130000
DTEND;TZID=America/Toronto:20251109T150000
DTSTAMP:20260423T021556
CREATED:20251103T202456Z
LAST-MODIFIED:20251103T203026Z
UID:23688-1762693200-1762700400@www.infotetquebec.com
SUMMARY:Coaticook\, QC/Basketball for the TFWs.
DESCRIPTION:To log in : \nhttps://meet.jit.si/CONGEDIEMENT
URL:https://www.infotetquebec.com/en/event/coaticook-qc-basketball-for-the-tfws/
LOCATION:497 Rue Saint-Jean-Baptiste\, Coaticook\, QC J1A 1G1
CATEGORIES:basketball,Cultural or sports activity
ATTACH;FMTTYPE=image/png:https://www.infotetquebec.com/wp-content/uploads/2025/11/EOS-Basketball-interieur-Coaticook-2025-II-an.png
END:VEVENT
BEGIN:VEVENT
DTSTART;TZID=America/Toronto:20251109T173000
DTEND;TZID=America/Toronto:20251109T193000
DTSTAMP:20260423T021556
CREATED:20251010T175721Z
LAST-MODIFIED:20251010T175749Z
UID:23246-1762709400-1762716600@www.infotetquebec.com
SUMMARY:Saint-Basile\, QC/Indoor soccer for TFWs
DESCRIPTION:To log in : \nhttps://meet.jit.si/CONGEDIEMENT
URL:https://www.infotetquebec.com/en/event/saint-basile-qc-indoor-soccer-for-tfws-4/
LOCATION:Centre Ernest-J.-Papillon\, Rue Sainte Angélique\, Saint-Basile\, QC\, Canada
CATEGORIES:Cultural or sports activity,soccer
ATTACH;FMTTYPE=image/png:https://www.infotetquebec.com/wp-content/uploads/2025/10/SOCCER-INTERIEUR-FR.png
END:VEVENT
BEGIN:VEVENT
DTSTART;TZID=America/Toronto:20251111T180000
DTEND;TZID=America/Toronto:20251111T200000
DTSTAMP:20260423T021556
CREATED:20251106T145003Z
LAST-MODIFIED:20251106T145158Z
UID:23756-1762884000-1762891200@www.infotetquebec.com
SUMMARY:Quebec City\, QC/Activity for TFWs to commemorate the Day of the Dead.
DESCRIPTION:To log in : \nhttps://meet.jit.si/CONGEDIEMENT
URL:https://www.infotetquebec.com/en/event/quebec-city-qc-activity-for-tfws-to-commemorate-the-day-of-the-dead/
LOCATION:249 Rue Saint-Jean\, Québec\, QC G1R 1N8
CATEGORIES:Festival,Social activity
ATTACH;FMTTYPE=image/png:https://www.infotetquebec.com/wp-content/uploads/2025/11/FRANCAIS.png
END:VEVENT
BEGIN:VEVENT
DTSTART;TZID=America/Toronto:20251115T090000
DTEND;TZID=America/Toronto:20251115T160000
DTSTAMP:20260423T021556
CREATED:20251106T160823Z
LAST-MODIFIED:20251106T160913Z
UID:23770-1763197200-1763222400@www.infotetquebec.com
SUMMARY:Montmagny\, QC / Basketball Tournament for TFWs.
DESCRIPTION:To log in : \nhttps://meet.jit.si/CONGEDIEMENT
URL:https://www.infotetquebec.com/en/event/montmagny-qc-basketball-tournament-for-tfws/
LOCATION:141 Bd Taché E\, Montmagny\, QC G5V 1B9.
CATEGORIES:basketball,Cultural or sports activity
ATTACH;FMTTYPE=image/png:https://www.infotetquebec.com/wp-content/uploads/2025/11/Basketball-Event.png
END:VEVENT
BEGIN:VEVENT
DTSTART;TZID=America/Toronto:20251116T120000
DTEND;TZID=America/Toronto:20251116T140000
DTSTAMP:20260423T021556
CREATED:20251024T134613Z
LAST-MODIFIED:20251024T134708Z
UID:23583-1763294400-1763301600@www.infotetquebec.com
SUMMARY:Grenville\, QC/Painting activity for TFWs
DESCRIPTION:To log in : \nhttps://meet.jit.si/CONGEDIEMENT
URL:https://www.infotetquebec.com/en/event/grenville-qc-painting-activity-for-tfws/
LOCATION:414 Rue Principale\, Grenville\, QC – Centre Paul Bougie
CATEGORIES:Cultural or sports activity
ATTACH;FMTTYPE=image/jpeg:https://www.infotetquebec.com/wp-content/uploads/2025/10/AFF-Fran-activite-peinture-16nov-2025.jpg
END:VEVENT
END:VCALENDAR