BEGIN:VCALENDAR
VERSION:2.0
PRODID:-//Infotetquebec - ECPv6.15.20//NONSGML v1.0//EN
CALSCALE:GREGORIAN
METHOD:PUBLISH
X-ORIGINAL-URL:https://www.infotetquebec.com/en/
X-WR-CALDESC:Events for Infotetquebec
REFRESH-INTERVAL;VALUE=DURATION:PT1H
X-Robots-Tag:noindex
X-PUBLISHED-TTL:PT1H
BEGIN:VTIMEZONE
TZID:America/Toronto
BEGIN:DAYLIGHT
TZOFFSETFROM:-0500
TZOFFSETTO:-0400
TZNAME:EDT
DTSTART:20240310T070000
END:DAYLIGHT
BEGIN:STANDARD
TZOFFSETFROM:-0400
TZOFFSETTO:-0500
TZNAME:EST
DTSTART:20241103T060000
END:STANDARD
BEGIN:DAYLIGHT
TZOFFSETFROM:-0500
TZOFFSETTO:-0400
TZNAME:EDT
DTSTART:20250309T070000
END:DAYLIGHT
BEGIN:STANDARD
TZOFFSETFROM:-0400
TZOFFSETTO:-0500
TZNAME:EST
DTSTART:20251102T060000
END:STANDARD
BEGIN:DAYLIGHT
TZOFFSETFROM:-0500
TZOFFSETTO:-0400
TZNAME:EDT
DTSTART:20260308T070000
END:DAYLIGHT
BEGIN:STANDARD
TZOFFSETFROM:-0400
TZOFFSETTO:-0500
TZNAME:EST
DTSTART:20261101T060000
END:STANDARD
END:VTIMEZONE
BEGIN:VEVENT
DTSTART;TZID=America/Toronto:20250816T120000
DTEND;TZID=America/Toronto:20250816T170000
DTSTAMP:20260423T024607
CREATED:20250625T135641Z
LAST-MODIFIED:20250625T140239Z
UID:20708-1755345600-1755363600@www.infotetquebec.com
SUMMARY:Cap-Saint-Ignace\, QC / Intercultural Soccer League Summer 2025
DESCRIPTION:To log in : \nhttps://meet.jit.si/CONGEDIEMENT
URL:https://www.infotetquebec.com/en/event/cap-saint-ignace-qc-intercultural-soccer-league-summer-2025-3/
LOCATION:630 Rte du Petit Cap\, Cap-Saint-Ignace\, QC G0R 1H0
CATEGORIES:Cultural or sports activity,soccer,Social activity
ATTACH;FMTTYPE=image/png:https://www.infotetquebec.com/wp-content/uploads/2025/06/Horaire-soccer-ete-2025-ANG.png
END:VEVENT
BEGIN:VEVENT
DTSTART;TZID=America/Toronto:20250816T190000
DTEND;TZID=America/Toronto:20250816T210000
DTSTAMP:20260423T024607
CREATED:20250717T155601Z
LAST-MODIFIED:20250717T155601Z
UID:21480-1755370800-1755378000@www.infotetquebec.com
SUMMARY:Val-des-Sources\, QC/Outdoor soccer Val-des-Sources.
DESCRIPTION:To log in : \nhttps://meet.jit.si/CONGEDIEMENT
URL:https://www.infotetquebec.com/en/event/val-des-sources-qc-outdoor-soccer-val-des-sources-5/
LOCATION:517 1ere Avenue\, Val-des-Sources\, QC J1T 3X4\, Canada
CATEGORIES:Cultural or sports activity,soccer
ATTACH;FMTTYPE=image/jpeg:https://www.infotetquebec.com/wp-content/uploads/2025/07/EOS-Soccer-exterieur-VdS-ete-2025-fr.jpg
END:VEVENT
BEGIN:VEVENT
DTSTART;TZID=America/Toronto:20250821T160000
DTEND;TZID=America/Toronto:20250821T190000
DTSTAMP:20260423T024607
CREATED:20250801T131124Z
LAST-MODIFIED:20250801T131200Z
UID:21870-1755792000-1755802800@www.infotetquebec.com
SUMMARY:Compton\, QC/Fiesta Latina at the Compton Public Market
DESCRIPTION:To log in : \nhttps://meet.jit.si/CONGEDIEMENT
URL:https://www.infotetquebec.com/en/event/compton-qc-fiesta-latina-at-the-compton-public-market/
LOCATION:Parc des Lions de Compton\, Compton\, QC J0B 1L0\, Canada
CATEGORIES:Festival,Social activity
ATTACH;FMTTYPE=image/png:https://www.infotetquebec.com/wp-content/uploads/2025/08/EOS-Fiesta-Latina-a-Compton-fr.png
END:VEVENT
BEGIN:VEVENT
DTSTART;TZID=America/Toronto:20250822T173000
DTEND;TZID=America/Toronto:20250822T203000
DTSTAMP:20260423T024607
CREATED:20250708T160453Z
LAST-MODIFIED:20250708T160453Z
UID:21149-1755883800-1755894600@www.infotetquebec.com
SUMMARY:Cap-Santé\, QC / SOCCER FOR TFWs
DESCRIPTION:To log in : \nhttps://meet.jit.si/CONGEDIEMENT
URL:https://www.infotetquebec.com/en/event/cap-sante-qc-soccer-for-tfws-7/
LOCATION:12 Rue Déry\, Cap-Santé\, QC G0A 1L0
CATEGORIES:Cultural or sports activity,soccer
ATTACH;FMTTYPE=image/png:https://www.infotetquebec.com/wp-content/uploads/2025/07/1.png
END:VEVENT
BEGIN:VEVENT
DTSTART;TZID=America/Toronto:20250822T180000
DTEND;TZID=America/Toronto:20250822T200000
DTSTAMP:20260423T024607
CREATED:20250806T155335Z
LAST-MODIFIED:20250806T155407Z
UID:22147-1755885600-1755892800@www.infotetquebec.com
SUMMARY:Québec\, Qc./Coffee Meeting
DESCRIPTION:To log in : \nhttps://meet.jit.si/CONGEDIEMENT
URL:https://www.infotetquebec.com/en/event/quebec-qc-coffee-meeting/
LOCATION:200 Rue Dorchester\, Québec\, QC G1K 0E9\, Canada
CATEGORIES:Social activity
ATTACH;FMTTYPE=image/png:https://www.infotetquebec.com/wp-content/uploads/2025/08/Cafe-rencontre-1-1.png
ORGANIZER;CN="Centre multiethnique de Qu%C3%A9bec":MAILTO:sgiroux@centremultiethnique
END:VEVENT
BEGIN:VEVENT
DTSTART;TZID=America/Toronto:20250823T093000
DTEND;TZID=America/Toronto:20250823T120000
DTSTAMP:20260423T024607
CREATED:20250818T175131Z
LAST-MODIFIED:20250818T175336Z
UID:22340-1755941400-1755950400@www.infotetquebec.com
SUMMARY:Cap-Santé\, Qc./Soccer game for TET
DESCRIPTION:To log in : \nhttps://meet.jit.si/CONGEDIEMENT
URL:https://www.infotetquebec.com/en/event/cap-sante-qc-soccer-game-for-tet/
LOCATION:30 Rue Déry\, Cap-Santé\, QC G0A 1L0\, Canada
CATEGORIES:Cultural or sports activity,soccer
ATTACH;FMTTYPE=image/png:https://www.infotetquebec.com/wp-content/uploads/2025/08/Francais.png
END:VEVENT
BEGIN:VEVENT
DTSTART;TZID=America/Toronto:20250823T120000
DTEND;TZID=America/Toronto:20250823T170000
DTSTAMP:20260423T024607
CREATED:20250625T141132Z
LAST-MODIFIED:20250625T141452Z
UID:20722-1755950400-1755968400@www.infotetquebec.com
SUMMARY:Saint-Fabien-de-Panet\, Qc / Intercultural Soccer League Summer 2025
DESCRIPTION:To log in : \nhttps://meet.jit.si/CONGEDIEMENT
URL:https://www.infotetquebec.com/en/event/saint-fabien-de-panet-qc-intercultural-soccer-league-summer-2025-2/
LOCATION:195 rue Bilodeau Saint-Fabien-de-Panet\, Qc. G0R 2J0
CATEGORIES:Cultural or sports activity,soccer,Social activity
ATTACH;FMTTYPE=image/png:https://www.infotetquebec.com/wp-content/uploads/2025/06/Horaire-soccer-ete-2025-ANG.png
END:VEVENT
BEGIN:VEVENT
DTSTART;TZID=America/Toronto:20250823T120000
DTEND;TZID=America/Toronto:20250823T180000
DTSTAMP:20260423T024607
CREATED:20250813T153549Z
LAST-MODIFIED:20250813T153647Z
UID:22289-1755950400-1755972000@www.infotetquebec.com
SUMMARY:Saint-Fabien-de-Panet\, Qc./Soccer game and family celebration.
DESCRIPTION:To log in : \nhttps://meet.jit.si/CONGEDIEMENT
URL:https://www.infotetquebec.com/en/event/saint-fabien-de-panet-qc-soccer-game-and-family-celebration/
LOCATION:47 Rue Principale O\, Saint-Fabien-de-Panet\, QC G0R 2J0\, Canada
CATEGORIES:Cultural or sports activity,soccer,Social activity
ATTACH;FMTTYPE=image/png:https://www.infotetquebec.com/wp-content/uploads/2025/08/Soccer-fete-famille-23-08-2025_AN.png
END:VEVENT
BEGIN:VEVENT
DTSTART;TZID=America/Toronto:20250823T190000
DTEND;TZID=America/Toronto:20250823T210000
DTSTAMP:20260423T024607
CREATED:20250717T155628Z
LAST-MODIFIED:20250717T155628Z
UID:21482-1755975600-1755982800@www.infotetquebec.com
SUMMARY:Val-des-Sources\, QC/Outdoor soccer Val-des-Sources.
DESCRIPTION:To log in : \nhttps://meet.jit.si/CONGEDIEMENT
URL:https://www.infotetquebec.com/en/event/val-des-sources-qc-outdoor-soccer-val-des-sources-6/
LOCATION:517 1ere Avenue\, Val-des-Sources\, QC J1T 3X4\, Canada
CATEGORIES:Cultural or sports activity,soccer
ATTACH;FMTTYPE=image/jpeg:https://www.infotetquebec.com/wp-content/uploads/2025/07/EOS-Soccer-exterieur-VdS-ete-2025-fr.jpg
END:VEVENT
BEGIN:VEVENT
DTSTART;TZID=America/Toronto:20250824T193000
DTEND;TZID=America/Toronto:20250824T223000
DTSTAMP:20260423T024607
CREATED:20250708T153446Z
LAST-MODIFIED:20250708T153620Z
UID:21090-1756063800-1756074600@www.infotetquebec.com
SUMMARY:Saint-Paul-d'Abbotsford\, QC/MOVIE NIGHT
DESCRIPTION:To log in : \nhttps://meet.jit.si/CONGEDIEMENT
URL:https://www.infotetquebec.com/en/event/saint-paul-dabbotsford-qc-movie-night/
LOCATION:35 Rue Codaire Saint-Paul-d’Abbotsford\, QC J0E 1A0
CATEGORIES:Social activity
ATTACH;FMTTYPE=image/png:https://www.infotetquebec.com/wp-content/uploads/2025/07/Soiree-cinema-EN.png
ORGANIZER;CN="Int%C3%A9gration comp%C3%A9tences":MAILTO:lilianasalgado@integrationcompetences.ca
END:VEVENT
BEGIN:VEVENT
DTSTART;TZID=America/Toronto:20250829T173000
DTEND;TZID=America/Toronto:20250829T203000
DTSTAMP:20260423T024607
CREATED:20250708T160518Z
LAST-MODIFIED:20250708T160518Z
UID:21151-1756488600-1756499400@www.infotetquebec.com
SUMMARY:Cap-Santé\, QC / SOCCER FOR TFWs
DESCRIPTION:To log in : \nhttps://meet.jit.si/CONGEDIEMENT
URL:https://www.infotetquebec.com/en/event/cap-sante-qc-soccer-for-tfws-8/
LOCATION:12 Rue Déry\, Cap-Santé\, QC G0A 1L0
CATEGORIES:Cultural or sports activity,soccer
ATTACH;FMTTYPE=image/png:https://www.infotetquebec.com/wp-content/uploads/2025/07/1.png
END:VEVENT
BEGIN:VEVENT
DTSTART;TZID=America/Toronto:20250830T120000
DTEND;TZID=America/Toronto:20250830T170000
DTSTAMP:20260423T024607
CREATED:20250625T135532Z
LAST-MODIFIED:20250821T175329Z
UID:20706-1756555200-1756573200@www.infotetquebec.com
SUMMARY:Saint-Paul-de-Montminy\, QC / Intercultural Soccer League Summer 2025
DESCRIPTION:To log in : \nhttps://meet.jit.si/CONGEDIEMENT
URL:https://www.infotetquebec.com/en/event/cap-saint-ignace-qc-intercultural-soccer-league-summer-2025-2/
LOCATION:420 route 283\, Saint-Paul-de-Montminy\, QC G0R 3Y0\, Canada
CATEGORIES:Cultural or sports activity,soccer,Social activity
ATTACH;FMTTYPE=image/png:https://www.infotetquebec.com/wp-content/uploads/2025/06/Soccer-30082025-St-Paul-AN.png
END:VEVENT
BEGIN:VEVENT
DTSTART;TZID=America/Toronto:20250830T190000
DTEND;TZID=America/Toronto:20250830T210000
DTSTAMP:20260423T024607
CREATED:20250717T155656Z
LAST-MODIFIED:20250717T155656Z
UID:21484-1756580400-1756587600@www.infotetquebec.com
SUMMARY:Val-des-Sources\, QC/Outdoor soccer Val-des-Sources.
DESCRIPTION:To log in : \nhttps://meet.jit.si/CONGEDIEMENT
URL:https://www.infotetquebec.com/en/event/val-des-sources-qc-outdoor-soccer-val-des-sources-7/
LOCATION:517 1ere Avenue\, Val-des-Sources\, QC J1T 3X4\, Canada
CATEGORIES:Cultural or sports activity,soccer
ATTACH;FMTTYPE=image/jpeg:https://www.infotetquebec.com/wp-content/uploads/2025/07/EOS-Soccer-exterieur-VdS-ete-2025-fr.jpg
END:VEVENT
BEGIN:VEVENT
DTSTART;TZID=America/Toronto:20250831T120000
DTEND;TZID=America/Toronto:20250831T180000
DTSTAMP:20260423T024607
CREATED:20250814T135649Z
LAST-MODIFIED:20250814T135812Z
UID:22327-1756641600-1756663200@www.infotetquebec.com
SUMMARY:Saint-Rémi\, QC / Soccer Final for Agricultural TFWs
DESCRIPTION:To log in : \nhttps://meet.jit.si/CONGEDIEMENT
URL:https://www.infotetquebec.com/en/event/saint-remi-qc-soccer-final-for-agricultural-tfws/
LOCATION:25 Rue Saint-Sauveur\, Saint-Rémi\, QC J0L 2L0\, Canada
CATEGORIES:Cultural or sports activity,soccer
ATTACH;FMTTYPE=image/jpeg:https://www.infotetquebec.com/wp-content/uploads/2025/08/TOURNOI-SOCCER-2025-min_page-0001.jpg
ORGANIZER;CN="Complexe X Immigration":MAILTO:scerdeline@complx-immigration.ca
END:VEVENT
BEGIN:VEVENT
DTSTART;TZID=America/Toronto:20250906T190000
DTEND;TZID=America/Toronto:20250906T210000
DTSTAMP:20260423T024607
CREATED:20250717T155726Z
LAST-MODIFIED:20250717T155726Z
UID:21486-1757185200-1757192400@www.infotetquebec.com
SUMMARY:Val-des-Sources\, QC/Outdoor soccer Val-des-Sources.
DESCRIPTION:To log in : \nhttps://meet.jit.si/CONGEDIEMENT
URL:https://www.infotetquebec.com/en/event/val-des-sources-qc-outdoor-soccer-val-des-sources-8/
LOCATION:517 1ere Avenue\, Val-des-Sources\, QC J1T 3X4\, Canada
CATEGORIES:Cultural or sports activity,soccer
ATTACH;FMTTYPE=image/jpeg:https://www.infotetquebec.com/wp-content/uploads/2025/07/EOS-Soccer-exterieur-VdS-ete-2025-fr.jpg
END:VEVENT
BEGIN:VEVENT
DTSTART;TZID=America/Toronto:20250906T200000
DTEND;TZID=America/Toronto:20250906T220000
DTSTAMP:20260423T024607
CREATED:20250806T153425Z
LAST-MODIFIED:20250821T162150Z
UID:22131-1757188800-1757196000@www.infotetquebec.com
SUMMARY:Wendake\, Qc./Visit to Onhwa Lumina in Wendake
DESCRIPTION:To log in : \nhttps://meet.jit.si/CONGEDIEMENT
URL:https://www.infotetquebec.com/en/event/wendake-qc-visit-to-onhwa-lumina-in-wendake/
LOCATION:110 rue Grand Chef Thonnakona\, Wendake\, QC G0A 4V0
CATEGORIES:Social activity
ATTACH;FMTTYPE=image/png:https://www.infotetquebec.com/wp-content/uploads/2025/08/1-1.png
ORGANIZER;CN="Centre multiethnique de Qu%C3%A9bec":MAILTO:sgiroux@centremultiethnique
END:VEVENT
BEGIN:VEVENT
DTSTART;TZID=America/Toronto:20250907T150000
DTEND;TZID=America/Toronto:20250907T170000
DTSTAMP:20260423T024607
CREATED:20250819T181445Z
LAST-MODIFIED:20250819T181523Z
UID:22373-1757257200-1757264400@www.infotetquebec.com
SUMMARY:Saint-Rémi\, Qc./Spanish Mass for Agricultural TFWs
DESCRIPTION:To log in : \nhttps://meet.jit.si/CONGEDIEMENT
URL:https://www.infotetquebec.com/en/event/saint-remi-qc-spanish-mass-for-agricultural-tfws/
LOCATION:840 R. Notre Dame\, Saint-Rémi\, QC J0L 2L0\, Canadá
CATEGORIES:Mass,mess
ATTACH;FMTTYPE=image/png:https://www.infotetquebec.com/wp-content/uploads/2025/08/Logo-EN-2.png
END:VEVENT
BEGIN:VEVENT
DTSTART;TZID=America/Toronto:20250911T170000
DTEND;TZID=America/Toronto:20250911T200000
DTSTAMP:20260423T024607
CREATED:20250819T160314Z
LAST-MODIFIED:20250819T160357Z
UID:22355-1757610000-1757620800@www.infotetquebec.com
SUMMARY:Drummondville\, Qc./BBQ Back for TFW
DESCRIPTION:To log in : \nhttps://meet.jit.si/CONGEDIEMENT
URL:https://www.infotetquebec.com/en/event/drummondville-qc-bbq-back-for-tfw/
LOCATION:1400 Rue Jean-Berchmans-Michaud\, Drummondville\, QC J2C 7V3\, Canada
CATEGORIES:BBQ,Night,Social activity
ATTACH;FMTTYPE=application/pdf:https://www.infotetquebec.com/wp-content/uploads/2025/08/BBQ-de-la-rentree-Invitation-1.pdf
END:VEVENT
BEGIN:VEVENT
DTSTART;TZID=America/Toronto:20250912T173000
DTEND;TZID=America/Toronto:20250912T203000
DTSTAMP:20260423T024607
CREATED:20250801T191355Z
LAST-MODIFIED:20250801T191435Z
UID:21963-1757698200-1757709000@www.infotetquebec.com
SUMMARY:Saint-Laurent-de-l'Île-d'Orléans\, QC / Île d'Orléans Temporary Foreign Workers Celebration
DESCRIPTION:To log in : \nhttps://meet.jit.si/CONGEDIEMENT
URL:https://www.infotetquebec.com/en/event/saint-laurent-de-lile-dorleans-qc-ile-dorleans-temporary-foreign-workers-celebration/
LOCATION:120 chemin de la Chalouperie\, Saint-Laurent-de-l’Île-d’Orléans\, Qc. G0A 3Z0
CATEGORIES:Party,Social activity
ATTACH;FMTTYPE=image/png:https://www.infotetquebec.com/wp-content/uploads/2025/08/1.png
ORGANIZER;CN="Centre multiethnique de Qu%C3%A9bec":MAILTO:sgiroux@centremultiethnique
END:VEVENT
BEGIN:VEVENT
DTSTART;TZID=America/Toronto:20250913T104500
DTEND;TZID=America/Toronto:20250913T124500
DTSTAMP:20260423T024607
CREATED:20250731T185944Z
LAST-MODIFIED:20250731T190106Z
UID:21841-1757760300-1757767500@www.infotetquebec.com
SUMMARY:Granby\, QC/Apple picking.
DESCRIPTION:To log in : \nhttps://meet.jit.si/CONGEDIEMENT
URL:https://www.infotetquebec.com/en/event/granby-qc-apple-picking/
LOCATION:210 Rue Denison E Granby\, QC J2H 2R6
CATEGORIES:Cultural or sports activity,Social activity
ATTACH;FMTTYPE=image/png:https://www.infotetquebec.com/wp-content/uploads/2025/07/Anglais.png
ORGANIZER;CN="Granby Industriel":MAILTO:ga.brand@granby-industriel.com
END:VEVENT
BEGIN:VEVENT
DTSTART;TZID=America/Toronto:20250913T190000
DTEND;TZID=America/Toronto:20250913T210000
DTSTAMP:20260423T024607
CREATED:20250717T155751Z
LAST-MODIFIED:20250717T155751Z
UID:21488-1757790000-1757797200@www.infotetquebec.com
SUMMARY:Val-des-Sources\, QC/Outdoor soccer Val-des-Sources.
DESCRIPTION:To log in : \nhttps://meet.jit.si/CONGEDIEMENT
URL:https://www.infotetquebec.com/en/event/val-des-sources-qc-outdoor-soccer-val-des-sources-9/
LOCATION:517 1ere Avenue\, Val-des-Sources\, QC J1T 3X4\, Canada
CATEGORIES:Cultural or sports activity,soccer
ATTACH;FMTTYPE=image/jpeg:https://www.infotetquebec.com/wp-content/uploads/2025/07/EOS-Soccer-exterieur-VdS-ete-2025-fr.jpg
END:VEVENT
BEGIN:VEVENT
DTSTART;TZID=America/Toronto:20250914T110000
DTEND;TZID=America/Toronto:20250914T170000
DTSTAMP:20260423T024607
CREATED:20250801T124612Z
LAST-MODIFIED:20250801T125248Z
UID:21858-1757847600-1757869200@www.infotetquebec.com
SUMMARY:Neuville\, QC/Guatemala and Mexico Independence Day
DESCRIPTION:To log in : \nhttps://meet.jit.si/CONGEDIEMENT
URL:https://www.infotetquebec.com/en/event/neuville-qc-guatemala-and-mexico-independence-day/
LOCATION:230 Rue du Père Rhéaume\, Neuville\, QC G0A 2R0\, Canada
CATEGORIES:Party,Social activity
ATTACH;FMTTYPE=image/png:https://www.infotetquebec.com/wp-content/uploads/2025/07/Flyer-recto-Francais.png
END:VEVENT
BEGIN:VEVENT
DTSTART;TZID=America/Toronto:20250914T143000
DTEND;TZID=America/Toronto:20250914T163000
DTSTAMP:20260423T024607
CREATED:20250811T172009Z
LAST-MODIFIED:20250811T172118Z
UID:22241-1757860200-1757867400@www.infotetquebec.com
SUMMARY:Sherbrooke\, QC / Torch Relay. Celebration of Guatemalan Independence Day
DESCRIPTION:To log in : \nhttps://meet.jit.si/CONGEDIEMENT
URL:https://www.infotetquebec.com/en/event/sherbrooke-qc-torch-relay-celebration-of-guatemalan-independence-day/
LOCATION:Rue St. Francis\, Sherbrooke\, QC J1M 0B3\, Canada
CATEGORIES:Cultural or sports activity,Social activity
ATTACH;FMTTYPE=image/png:https://www.infotetquebec.com/wp-content/uploads/2025/08/La-portee-de-la-torche-fr.png
END:VEVENT
BEGIN:VEVENT
DTSTART;TZID=America/Toronto:20250920T190000
DTEND;TZID=America/Toronto:20250920T210000
DTSTAMP:20260423T024607
CREATED:20250717T155815Z
LAST-MODIFIED:20250717T155815Z
UID:21490-1758394800-1758402000@www.infotetquebec.com
SUMMARY:Val-des-Sources\, QC/Outdoor soccer Val-des-Sources.
DESCRIPTION:To log in : \nhttps://meet.jit.si/CONGEDIEMENT
URL:https://www.infotetquebec.com/en/event/val-des-sources-qc-outdoor-soccer-val-des-sources-10/
LOCATION:517 1ere Avenue\, Val-des-Sources\, QC J1T 3X4\, Canada
CATEGORIES:Cultural or sports activity,soccer
ATTACH;FMTTYPE=image/jpeg:https://www.infotetquebec.com/wp-content/uploads/2025/07/EOS-Soccer-exterieur-VdS-ete-2025-fr.jpg
END:VEVENT
BEGIN:VEVENT
DTSTART;TZID=America/Toronto:20250926T180000
DTEND;TZID=America/Toronto:20250926T210000
DTSTAMP:20260423T024607
CREATED:20250825T173534Z
LAST-MODIFIED:20250825T173624Z
UID:22493-1758909600-1758920400@www.infotetquebec.com
SUMMARY:Saint-Marc-des-Carrières\, Qc./Outdoor soccer for TET.
DESCRIPTION:To log in : \nhttps://meet.jit.si/CONGEDIEMENT
URL:https://www.infotetquebec.com/en/event/saint-marc-des-carrieres-qc-outdoor-soccer-for-tet/
LOCATION:1600 Boul. Bona-Dussault\, Saint-Marc-des-Carrières\, QC G0A 4B0\, Canada
CATEGORIES:BBQ,Cultural or sports activity,soccer
ATTACH;FMTTYPE=image/png:https://www.infotetquebec.com/wp-content/uploads/2025/08/Fin_saison_soccer_26_sept_FR.png
END:VEVENT
BEGIN:VEVENT
DTSTART;TZID=America/Toronto:20250927T140000
DTEND;TZID=America/Toronto:20250927T170000
DTSTAMP:20260423T024607
CREATED:20250922T183114Z
LAST-MODIFIED:20250922T183217Z
UID:22853-1758981600-1758992400@www.infotetquebec.com
SUMMARY:Cap-Saint-Ignace\, QC/Apple picking for TFW´s
DESCRIPTION:To log in : \nhttps://meet.jit.si/CONGEDIEMENT
URL:https://www.infotetquebec.com/en/event/cap-saint-ignace-qc-apple-picking-for-tfws/
LOCATION:1308 Chem. Bellevue O\, Cap-Saint-Ignace\, QC G0R 1H0
CATEGORIES:Cultural or sports activity,Social activity
ATTACH;FMTTYPE=image/png:https://www.infotetquebec.com/wp-content/uploads/2025/09/visuel-apple-picking.png
ORGANIZER;CN="Corporation de d%C3%A9veloppement %C3%A9conomique de la MRC de Montmagny (CDEMM)":MAILTO:abrebion@cgocable.ca
END:VEVENT
BEGIN:VEVENT
DTSTART;TZID=America/Toronto:20250927T190000
DTEND;TZID=America/Toronto:20250927T210000
DTSTAMP:20260423T024607
CREATED:20250717T155841Z
LAST-MODIFIED:20250717T155841Z
UID:21492-1758999600-1759006800@www.infotetquebec.com
SUMMARY:Val-des-Sources\, QC/Outdoor soccer Val-des-Sources.
DESCRIPTION:To log in : \nhttps://meet.jit.si/CONGEDIEMENT
URL:https://www.infotetquebec.com/en/event/val-des-sources-qc-outdoor-soccer-val-des-sources-11/
LOCATION:517 1ere Avenue\, Val-des-Sources\, QC J1T 3X4\, Canada
CATEGORIES:Cultural or sports activity,soccer
ATTACH;FMTTYPE=image/jpeg:https://www.infotetquebec.com/wp-content/uploads/2025/07/EOS-Soccer-exterieur-VdS-ete-2025-fr.jpg
END:VEVENT
BEGIN:VEVENT
DTSTART;TZID=America/Toronto:20251011T093000
DTEND;TZID=America/Toronto:20251011T123000
DTSTAMP:20260423T024607
CREATED:20251008T141623Z
LAST-MODIFIED:20251008T142543Z
UID:23163-1760175000-1760185800@www.infotetquebec.com
SUMMARY:Sainte-Famille\, QC/Apple picking for TFWs
DESCRIPTION:To log in : \nhttps://meet.jit.si/CONGEDIEMENT
URL:https://www.infotetquebec.com/en/event/sainte-famille-qc-apple-picking-for-tfws/
LOCATION:Ferme Laval Gagnon inc\, Chemin Royal\, Sainte-Famille\, QC\, Canada
CATEGORIES:Cultural or sports activity,Social activity
ATTACH;FMTTYPE=image/png:https://www.infotetquebec.com/wp-content/uploads/2025/10/Francais.png
END:VEVENT
BEGIN:VEVENT
DTSTART;TZID=America/Toronto:20251011T140000
DTEND;TZID=America/Toronto:20251011T170000
DTSTAMP:20260423T024607
CREATED:20251006T122347Z
LAST-MODIFIED:20251006T122416Z
UID:23127-1760191200-1760202000@www.infotetquebec.com
SUMMARY:Compton\, QC/The gourmet getaway for the TFWs
DESCRIPTION:To log in : \nhttps://meet.jit.si/CONGEDIEMENT
URL:https://www.infotetquebec.com/en/event/compton-qc-the-gourmet-getaway-for-the-tfws/
LOCATION:Domaine Ives Hill : Vignoble et verger\, Chemin Boyce\, Compton\, QC\, Canada
CATEGORIES:Cultural or sports activity,Social activity
ATTACH;FMTTYPE=image/png:https://www.infotetquebec.com/wp-content/uploads/2025/10/Viree-gourmande-fr.png
END:VEVENT
BEGIN:VEVENT
DTSTART;TZID=America/Toronto:20251011T200000
DTEND;TZID=America/Toronto:20251011T230000
DTSTAMP:20260423T024607
CREATED:20251006T153808Z
LAST-MODIFIED:20251006T160732Z
UID:23140-1760212800-1760223600@www.infotetquebec.com
SUMMARY:Matane\, QC/The Market Fiesta for TFWs
DESCRIPTION:To log in : \nhttps://meet.jit.si/CONGEDIEMENT
URL:https://www.infotetquebec.com/en/event/matane-qc-the-market-fiesta-for-tfws/
LOCATION:Marché public de La Matanie\, Avenue du Phare Ouest\, Matane\, QC\, Canada
CATEGORIES:Festival,Night,Social activity
ATTACH;FMTTYPE=image/jpeg:https://www.infotetquebec.com/wp-content/uploads/2025/10/Affiches_TET-V2_page-0003.jpg
END:VEVENT
END:VCALENDAR