BEGIN:VCALENDAR
VERSION:2.0
PRODID:-//Infotetquebec - ECPv6.15.20//NONSGML v1.0//EN
CALSCALE:GREGORIAN
METHOD:PUBLISH
X-WR-CALNAME:Infotetquebec
X-ORIGINAL-URL:https://www.infotetquebec.com/en/
X-WR-CALDESC:Events for Infotetquebec
REFRESH-INTERVAL;VALUE=DURATION:PT1H
X-Robots-Tag:noindex
X-PUBLISHED-TTL:PT1H
BEGIN:VTIMEZONE
TZID:America/Toronto
BEGIN:DAYLIGHT
TZOFFSETFROM:-0500
TZOFFSETTO:-0400
TZNAME:EDT
DTSTART:20240310T070000
END:DAYLIGHT
BEGIN:STANDARD
TZOFFSETFROM:-0400
TZOFFSETTO:-0500
TZNAME:EST
DTSTART:20241103T060000
END:STANDARD
BEGIN:DAYLIGHT
TZOFFSETFROM:-0500
TZOFFSETTO:-0400
TZNAME:EDT
DTSTART:20250309T070000
END:DAYLIGHT
BEGIN:STANDARD
TZOFFSETFROM:-0400
TZOFFSETTO:-0500
TZNAME:EST
DTSTART:20251102T060000
END:STANDARD
BEGIN:DAYLIGHT
TZOFFSETFROM:-0500
TZOFFSETTO:-0400
TZNAME:EDT
DTSTART:20260308T070000
END:DAYLIGHT
BEGIN:STANDARD
TZOFFSETFROM:-0400
TZOFFSETTO:-0500
TZNAME:EST
DTSTART:20261101T060000
END:STANDARD
BEGIN:DAYLIGHT
TZOFFSETFROM:-0500
TZOFFSETTO:-0400
TZNAME:EDT
DTSTART:20270314T070000
END:DAYLIGHT
BEGIN:STANDARD
TZOFFSETFROM:-0400
TZOFFSETTO:-0500
TZNAME:EST
DTSTART:20271107T060000
END:STANDARD
END:VTIMEZONE
BEGIN:VEVENT
DTSTART;TZID=America/Toronto:20251120T173000
DTEND;TZID=America/Toronto:20251120T190000
DTSTAMP:20260423T025001
CREATED:20251114T150941Z
LAST-MODIFIED:20251114T151031Z
UID:23919-1763659800-1763665200@www.infotetquebec.com
SUMMARY:Montmagny\, QC/Training session on credit and credit reports for TFWs
DESCRIPTION:To log in : \nhttps://meet.jit.si/CONGEDIEMENT
URL:https://www.infotetquebec.com/en/event/montmagny-qc-training-session-on-credit-and-credit-reports-for-tfws/
LOCATION:6 Rue Saint Jean Baptiste Est\, Montmagny\, QC
CATEGORIES:Information session,Information session
ATTACH;FMTTYPE=image/png:https://www.infotetquebec.com/wp-content/uploads/2025/11/CREDIT-AND-CREDIT-FILE-1.png
END:VEVENT
BEGIN:VEVENT
DTSTART;TZID=America/Toronto:20251120T183000
DTEND;TZID=America/Toronto:20251120T203000
DTSTAMP:20260423T025001
CREATED:20251027T195124Z
LAST-MODIFIED:20251027T195206Z
UID:23650-1763663400-1763670600@www.infotetquebec.com
SUMMARY:Donnacona\, QC/Information session for TFWs
DESCRIPTION:To log in : \nhttps://meet.jit.si/CONGEDIEMENT
URL:https://www.infotetquebec.com/en/event/donnacona-qc-information-session-for-tfws/
LOCATION:162 Rue Notre Dame\, Donnacona\, QC\, Canada
CATEGORIES:Information session,Information session
ATTACH;FMTTYPE=image/png:https://www.infotetquebec.com/wp-content/uploads/2025/10/FR.png
END:VEVENT
BEGIN:VEVENT
DTSTART;TZID=America/Toronto:20251121T190000
DTEND;TZID=America/Toronto:20251121T210000
DTSTAMP:20260423T025001
CREATED:20251027T180705Z
LAST-MODIFIED:20251027T180746Z
UID:23637-1763751600-1763758800@www.infotetquebec.com
SUMMARY:Boisbriand\, QC/Hockey game for the TFWs
DESCRIPTION:To log in : \nhttps://meet.jit.si/CONGEDIEMENT
URL:https://www.infotetquebec.com/en/event/boisbriand-qc-hockey-game-for-the-tfws/
LOCATION:3600 Bd de la Grande-Allée #1\, Boisbriand\, QC J7H 1M9
CATEGORIES:Cultural or sports activity,Hockey
ATTACH;FMTTYPE=image/jpeg:https://www.infotetquebec.com/wp-content/uploads/2025/10/Match-de-Hockey-21-novembre-2025-1_page-0001-min.jpg
END:VEVENT
BEGIN:VEVENT
DTSTART;TZID=America/Toronto:20251123T130000
DTEND;TZID=America/Toronto:20251123T150000
DTSTAMP:20260423T025001
CREATED:20251103T203947Z
LAST-MODIFIED:20251103T204000Z
UID:23705-1763902800-1763910000@www.infotetquebec.com
SUMMARY:Coaticook\, QC/Basketball for the TFWs.
DESCRIPTION:To log in : \nhttps://meet.jit.si/CONGEDIEMENT
URL:https://www.infotetquebec.com/en/event/coaticook-qc-basketball-for-the-tfws-3/
LOCATION:497 Rue Saint-Jean-Baptiste\, Coaticook\, QC J1A 1G1
CATEGORIES:basketball,Cultural or sports activity
ATTACH;FMTTYPE=image/png:https://www.infotetquebec.com/wp-content/uploads/2025/11/EOS-Basketball-interieur-Coaticook-2025-II-an.png
END:VEVENT
BEGIN:VEVENT
DTSTART;TZID=America/Toronto:20251123T173000
DTEND;TZID=America/Toronto:20251123T193000
DTSTAMP:20260423T025001
CREATED:20251010T180007Z
LAST-MODIFIED:20251010T180007Z
UID:23252-1763919000-1763926200@www.infotetquebec.com
SUMMARY:Saint-Basile\, QC/Indoor soccer for TFWs
DESCRIPTION:To log in : \nhttps://meet.jit.si/CONGEDIEMENT
URL:https://www.infotetquebec.com/en/event/saint-basile-qc-indoor-soccer-for-tfws-7/
LOCATION:Centre Ernest-J.-Papillon\, Rue Sainte Angélique\, Saint-Basile\, QC\, Canada
CATEGORIES:Cultural or sports activity,soccer
ATTACH;FMTTYPE=image/png:https://www.infotetquebec.com/wp-content/uploads/2025/10/SOCCER-INTERIEUR-FR.png
END:VEVENT
BEGIN:VEVENT
DTSTART;TZID=America/Toronto:20251126T103000
DTEND;TZID=America/Toronto:20251126T123000
DTSTAMP:20260423T025001
CREATED:20251103T195739Z
LAST-MODIFIED:20251103T195818Z
UID:23666-1764153000-1764160200@www.infotetquebec.com
SUMMARY:Matane\, QC/Information workshop with the CNESST for TFWs
DESCRIPTION:To log in : \nhttps://meet.jit.si/CONGEDIEMENT
URL:https://www.infotetquebec.com/en/event/matane-qc-information-workshop-with-the-cnesst-for-tfws/
LOCATION:289 Rue du Bon Pasteur\, Matane\, QC\, Canada
CATEGORIES:Information session,Information session
ATTACH;FMTTYPE=image/png:https://www.infotetquebec.com/wp-content/uploads/2025/11/Atelier-CNESST-Ingles.png
END:VEVENT
BEGIN:VEVENT
DTSTART;TZID=America/Toronto:20251127T190000
DTEND;TZID=America/Toronto:20251127T210000
DTSTAMP:20260423T025001
CREATED:20251126T135426Z
LAST-MODIFIED:20251126T135554Z
UID:24242-1764270000-1764277200@www.infotetquebec.com
SUMMARY:Québec\, QC/ Bowling night for TFWs
DESCRIPTION:To log in : \nhttps://meet.jit.si/CONGEDIEMENT
URL:https://www.infotetquebec.com/en/event/quebec-qc-bowling-night-for-tfws/
LOCATION:2020 Rue Cyrille-Duquet\, Québec\, QC G1N 2G3
CATEGORIES:Bowling,Cultural or sports activity
ATTACH;FMTTYPE=image/png:https://www.infotetquebec.com/wp-content/uploads/2025/11/Salon-de-quilles_FR.png
ORGANIZER;CN="Centre multiethnique de Qu%C3%A9bec":MAILTO:sgiroux@centremultiethnique
END:VEVENT
BEGIN:VEVENT
DTSTART;TZID=America/Toronto:20251128T150000
DTEND;TZID=America/Toronto:20251128T170000
DTSTAMP:20260423T025001
CREATED:20251103T200509Z
LAST-MODIFIED:20251103T200553Z
UID:23676-1764342000-1764349200@www.infotetquebec.com
SUMMARY:Matane\, QC/Information workshop with the CNESST for TFWs
DESCRIPTION:To log in : \nhttps://meet.jit.si/CONGEDIEMENT
URL:https://www.infotetquebec.com/en/event/matane-qc-information-workshop-with-the-cnesst-for-tfws-2/
LOCATION:289 Rue du Bon Pasteur\, Matane\, QC\, Canada
CATEGORIES:Information session,Information session
ATTACH;FMTTYPE=image/png:https://www.infotetquebec.com/wp-content/uploads/2025/11/Atelier-CNESST-Ingles.png
END:VEVENT
BEGIN:VEVENT
DTSTART;TZID=America/Toronto:20251128T180000
DTEND;TZID=America/Toronto:20251128T210000
DTSTAMP:20260423T025001
CREATED:20251106T164602Z
LAST-MODIFIED:20251106T165024Z
UID:23786-1764352800-1764363600@www.infotetquebec.com
SUMMARY:Granby\, QC/Holiday dinner for TFWs
DESCRIPTION:To log in : \nhttps://meet.jit.si/CONGEDIEMENT
URL:https://www.infotetquebec.com/en/event/granby-qc-holiday-dinner-for-tfws/
LOCATION:181 Rue Principale\, Granby\, QC J2G 2V5.
ATTACH;FMTTYPE=image/png:https://www.infotetquebec.com/wp-content/uploads/2025/11/Anglais-1-min.png
ORGANIZER;CN="Granby Industriel":MAILTO:ga.brand@granby-industriel.com
END:VEVENT
BEGIN:VEVENT
DTSTART;TZID=America/Toronto:20251128T190000
DTEND;TZID=America/Toronto:20251128T220000
DTSTAMP:20260423T025001
CREATED:20251114T144943Z
LAST-MODIFIED:20251114T145048Z
UID:23905-1764356400-1764367200@www.infotetquebec.com
SUMMARY:Sept-Îles\, QC/Bowling night for TFWs.
DESCRIPTION:To log in : \nhttps://meet.jit.si/CONGEDIEMENT
URL:https://www.infotetquebec.com/en/event/sept-iles-qc-bowling-night-for-tfws/
LOCATION:160 Rue Régnault\, Sept-Îles\, QC\, Canada
CATEGORIES:Bowling,Night
ATTACH;FMTTYPE=image/png:https://www.infotetquebec.com/wp-content/uploads/2025/11/Soiree-quilles-Francais.png
END:VEVENT
BEGIN:VEVENT
DTSTART;TZID=America/Toronto:20251129T150000
DTEND;TZID=America/Toronto:20251129T170000
DTSTAMP:20260423T025001
CREATED:20251128T184215Z
LAST-MODIFIED:20251128T184255Z
UID:24419-1764428400-1764435600@www.infotetquebec.com
SUMMARY:Saint-Jean-Sur-Richelieu\, QC/ Christmas party for TFWs.
DESCRIPTION:To log in : \nhttps://meet.jit.si/CONGEDIEMENT
URL:https://www.infotetquebec.com/en/event/saint-jean-sur-richelieu-qc-christmas-party-for-tfws/
LOCATION:190 Avenue Lareau\, Saint-Jean-sur-Richelieu\, QC.
CATEGORIES:Kermesse,Party,Social activity
ATTACH;FMTTYPE=image/jpeg:https://www.infotetquebec.com/wp-content/uploads/2025/11/3LOGOFETENOELFRA.jpeg
ORGANIZER;CN="L'ANCRE":MAILTO:karladuenas@lancre.ca
END:VEVENT
BEGIN:VEVENT
DTSTART;TZID=America/Toronto:20251130T130000
DTEND;TZID=America/Toronto:20251130T150000
DTSTAMP:20260423T025001
CREATED:20251103T204040Z
LAST-MODIFIED:20251103T204040Z
UID:23707-1764507600-1764514800@www.infotetquebec.com
SUMMARY:Coaticook\, QC/Basketball for the TFWs.
DESCRIPTION:To log in : \nhttps://meet.jit.si/CONGEDIEMENT
URL:https://www.infotetquebec.com/en/event/coaticook-qc-basketball-for-the-tfws-4/
LOCATION:497 Rue Saint-Jean-Baptiste\, Coaticook\, QC J1A 1G1
CATEGORIES:basketball,Cultural or sports activity
ATTACH;FMTTYPE=image/png:https://www.infotetquebec.com/wp-content/uploads/2025/11/EOS-Basketball-interieur-Coaticook-2025-II-an.png
END:VEVENT
BEGIN:VEVENT
DTSTART;TZID=America/Toronto:20251130T173000
DTEND;TZID=America/Toronto:20251130T193000
DTSTAMP:20260423T025001
CREATED:20251010T180037Z
LAST-MODIFIED:20251010T180037Z
UID:23254-1764523800-1764531000@www.infotetquebec.com
SUMMARY:Saint-Basile\, QC/Indoor soccer for TFWs
DESCRIPTION:To log in : \nhttps://meet.jit.si/CONGEDIEMENT
URL:https://www.infotetquebec.com/en/event/saint-basile-qc-indoor-soccer-for-tfws-8/
LOCATION:Centre Ernest-J.-Papillon\, Rue Sainte Angélique\, Saint-Basile\, QC\, Canada
CATEGORIES:Cultural or sports activity,soccer
ATTACH;FMTTYPE=image/png:https://www.infotetquebec.com/wp-content/uploads/2025/10/SOCCER-INTERIEUR-FR.png
END:VEVENT
BEGIN:VEVENT
DTSTART;TZID=America/Toronto:20251205T180000
DTEND;TZID=America/Toronto:20251205T200000
DTSTAMP:20260423T025001
CREATED:20251119T194028Z
LAST-MODIFIED:20251119T194109Z
UID:23968-1764957600-1764964800@www.infotetquebec.com
SUMMARY:Mirabel\, QC/Workshop: Learn about and discover les Laurentides for TFWs.
DESCRIPTION:To log in : \nhttps://meet.jit.si/CONGEDIEMENT
URL:https://www.infotetquebec.com/en/event/mirabel-qc-workshop-learn-about-and-discover-les-laurentides-for-tfws/
LOCATION:Les Serres Sagami St-Janvier Inc.\, Chemin Victor\, Mirabel\, QC.
CATEGORIES:Information session,Information session
ATTACH;FMTTYPE=image/jpeg:https://www.infotetquebec.com/wp-content/uploads/2025/11/franc-min.jpg
END:VEVENT
BEGIN:VEVENT
DTSTART;TZID=America/Toronto:20251206T173000
DTEND;TZID=America/Toronto:20251206T193000
DTSTAMP:20260423T025001
CREATED:20251126T140852Z
LAST-MODIFIED:20251126T141002Z
UID:24258-1765042200-1765049400@www.infotetquebec.com
SUMMARY:Coaticook\, QC/ Bowling in Coaticook for the TFWs.
DESCRIPTION:To log in : \nhttps://meet.jit.si/CONGEDIEMENT
URL:https://www.infotetquebec.com/en/event/coaticook-qc-bowling-in-coaticook-for-the-tfws/
LOCATION:940 Rue Child\, Coaticook\, QC J1A 2S5
CATEGORIES:Bowling,Cultural or sports activity
ATTACH;FMTTYPE=image/png:https://www.infotetquebec.com/wp-content/uploads/2025/11/Quilles-Coaticook-ang.png
END:VEVENT
BEGIN:VEVENT
DTSTART;TZID=America/Toronto:20251207T120000
DTEND;TZID=America/Toronto:20251207T140000
DTSTAMP:20260423T025001
CREATED:20251024T145549Z
LAST-MODIFIED:20251024T145724Z
UID:23596-1765108800-1765116000@www.infotetquebec.com
SUMMARY:Mirabel\, QC/Painting activity for TFWs
DESCRIPTION:To log in : \nhttps://meet.jit.si/CONGEDIEMENT
URL:https://www.infotetquebec.com/en/event/mirabel-qc-painting-activity-for-tfws/
LOCATION:11730 Rte Sir Wilfrid Laurier\, Mirabel\, QC J7N 2Z8
CATEGORIES:Cultural or sports activity
ATTACH;FMTTYPE=image/jpeg:https://www.infotetquebec.com/wp-content/uploads/2025/10/AFF-Fran-activite-peinture-7dec-2025.jpg
ORGANIZER;CN="Centre pour l'immigration en r%C3%A9gion (CIR)":MAILTO:centrepourlimmigrationenregion.org
END:VEVENT
BEGIN:VEVENT
DTSTART;TZID=America/Toronto:20251207T130000
DTEND;TZID=America/Toronto:20251207T150000
DTSTAMP:20260423T025001
CREATED:20251103T204118Z
LAST-MODIFIED:20251103T204118Z
UID:23709-1765112400-1765119600@www.infotetquebec.com
SUMMARY:Coaticook\, QC/Basketball for the TFWs.
DESCRIPTION:To log in : \nhttps://meet.jit.si/CONGEDIEMENT
URL:https://www.infotetquebec.com/en/event/coaticook-qc-basketball-for-the-tfws-5/
LOCATION:497 Rue Saint-Jean-Baptiste\, Coaticook\, QC J1A 1G1
CATEGORIES:basketball,Cultural or sports activity
ATTACH;FMTTYPE=image/png:https://www.infotetquebec.com/wp-content/uploads/2025/11/EOS-Basketball-interieur-Coaticook-2025-II-an.png
END:VEVENT
BEGIN:VEVENT
DTSTART;TZID=America/Toronto:20251207T173000
DTEND;TZID=America/Toronto:20251207T193000
DTSTAMP:20260423T025001
CREATED:20251010T180110Z
LAST-MODIFIED:20251010T180110Z
UID:23256-1765128600-1765135800@www.infotetquebec.com
SUMMARY:Saint-Basile\, QC/Indoor soccer for TFWs
DESCRIPTION:To log in : \nhttps://meet.jit.si/CONGEDIEMENT
URL:https://www.infotetquebec.com/en/event/saint-basile-qc-indoor-soccer-for-tfws-9/
LOCATION:Centre Ernest-J.-Papillon\, Rue Sainte Angélique\, Saint-Basile\, QC\, Canada
CATEGORIES:Cultural or sports activity,soccer
ATTACH;FMTTYPE=image/png:https://www.infotetquebec.com/wp-content/uploads/2025/10/SOCCER-INTERIEUR-FR.png
END:VEVENT
BEGIN:VEVENT
DTSTART;TZID=America/Toronto:20251210T180000
DTEND;TZID=America/Toronto:20251210T200000
DTSTAMP:20260423T025001
CREATED:20251205T152727Z
LAST-MODIFIED:20251205T152907Z
UID:24462-1765389600-1765396800@www.infotetquebec.com
SUMMARY:Sept-Îles\, QC/ Information session on banking (Desjardins) for TFWs
DESCRIPTION:To log in : \nhttps://meet.jit.si/CONGEDIEMENT
URL:https://www.infotetquebec.com/en/event/sept-iles-qc-information-session-on-banking-desjardins-for-tfws/
LOCATION:500 Av. Jolliet\, Sept-Îles\, QC G4R 2B4\, Canada
CATEGORIES:Information session,Information session
ATTACH;FMTTYPE=image/png:https://www.infotetquebec.com/wp-content/uploads/2025/12/Seance-dinformations-Banque-min.png
END:VEVENT
BEGIN:VEVENT
DTSTART;TZID=America/Toronto:20251213T170000
DTEND;TZID=America/Toronto:20251213T200000
DTSTAMP:20260423T025001
CREATED:20251205T142919Z
LAST-MODIFIED:20251205T143147Z
UID:24433-1765645200-1765656000@www.infotetquebec.com
SUMMARY:Mercier\, QC/ Christmas party for TFWs
DESCRIPTION:To log in : \nhttps://meet.jit.si/CONGEDIEMENT
URL:https://www.infotetquebec.com/en/event/mercier-qc-christmas-party-for-tfws/
LOCATION:631 Bd Saint-Jean-Baptiste\, Mercier\, QC J6R 2A3.
CATEGORIES:Party,Social activity
ATTACH;FMTTYPE=image/jpeg:https://www.infotetquebec.com/wp-content/uploads/2025/12/IMG-20251202-WA0035.jpg
ORGANIZER;CN="Complexe X Immigration":MAILTO:scerdeline@complx-immigration.ca
END:VEVENT
BEGIN:VEVENT
DTSTART;TZID=America/Toronto:20251213T170000
DTEND;TZID=America/Toronto:20251213T200000
DTSTAMP:20260423T025001
CREATED:20251209T142121Z
LAST-MODIFIED:20251209T142219Z
UID:24489-1765645200-1765656000@www.infotetquebec.com
SUMMARY:Québec\, QC/ Christmas dinner for TFWs
DESCRIPTION:To log in : \nhttps://meet.jit.si/CONGEDIEMENT
URL:https://www.infotetquebec.com/en/event/quebec-qc-christmas-dinner-for-tfws/
LOCATION:430 Rue Saint-Vallier O\, Québec\, QC G1N 1C1
CATEGORIES:Festival,Social activity
ATTACH;FMTTYPE=image/png:https://www.infotetquebec.com/wp-content/uploads/2025/12/Souper-de-noel-Francais.png
END:VEVENT
BEGIN:VEVENT
DTSTART;TZID=America/Toronto:20251214T130000
DTEND;TZID=America/Toronto:20251214T150000
DTSTAMP:20260423T025001
CREATED:20251103T204157Z
LAST-MODIFIED:20251103T204157Z
UID:23711-1765717200-1765724400@www.infotetquebec.com
SUMMARY:Coaticook\, QC/Basketball for the TFWs.
DESCRIPTION:To log in : \nhttps://meet.jit.si/CONGEDIEMENT
URL:https://www.infotetquebec.com/en/event/coaticook-qc-basketball-for-the-tfws-6/
LOCATION:497 Rue Saint-Jean-Baptiste\, Coaticook\, QC J1A 1G1
CATEGORIES:basketball,Cultural or sports activity
ATTACH;FMTTYPE=image/png:https://www.infotetquebec.com/wp-content/uploads/2025/11/EOS-Basketball-interieur-Coaticook-2025-II-an.png
END:VEVENT
BEGIN:VEVENT
DTSTART;TZID=America/Toronto:20251214T170000
DTEND;TZID=America/Toronto:20251214T190000
DTSTAMP:20260423T025001
CREATED:20251024T174451Z
LAST-MODIFIED:20251024T174603Z
UID:23623-1765731600-1765738800@www.infotetquebec.com
SUMMARY:Mirabel\, QC/Cooking activity for TFWs
DESCRIPTION:To log in : \nhttps://meet.jit.si/CONGEDIEMENT
URL:https://www.infotetquebec.com/en/event/mirabel-qc-cooking-activity-for-tfws/
LOCATION:11730 Rte Sir Wilfrid Laurier\, Mirabel\, QC J7N 2Z8
CATEGORIES:Cultural or sports activity
ATTACH;FMTTYPE=image/jpeg:https://www.infotetquebec.com/wp-content/uploads/2025/10/AFF-FRAN-activite-cuisine-14-dec2025.jpg
ORGANIZER;CN="Centre pour l'immigration en r%C3%A9gion (CIR)":MAILTO:centrepourlimmigrationenregion.org
END:VEVENT
BEGIN:VEVENT
DTSTART;TZID=America/Toronto:20251214T173000
DTEND;TZID=America/Toronto:20251214T193000
DTSTAMP:20260423T025001
CREATED:20251010T180347Z
LAST-MODIFIED:20251010T180347Z
UID:23260-1765733400-1765740600@www.infotetquebec.com
SUMMARY:Saint-Basile\, QC/Indoor soccer for TFWs
DESCRIPTION:To log in : \nhttps://meet.jit.si/CONGEDIEMENT
URL:https://www.infotetquebec.com/en/event/saint-basile-qc-indoor-soccer-for-tfws-11/
LOCATION:Centre Ernest-J.-Papillon\, Rue Sainte Angélique\, Saint-Basile\, QC\, Canada
CATEGORIES:Cultural or sports activity,soccer
ATTACH;FMTTYPE=image/png:https://www.infotetquebec.com/wp-content/uploads/2025/10/SOCCER-INTERIEUR-FR.png
END:VEVENT
BEGIN:VEVENT
DTSTART;TZID=America/Toronto:20251219T190000
DTEND;TZID=America/Toronto:20251219T210000
DTSTAMP:20260423T025001
CREATED:20251128T172143Z
LAST-MODIFIED:20251215T202320Z
UID:24404-1766170800-1766178000@www.infotetquebec.com
SUMMARY:Victoriaville\, QC/ Christmas party for TFWs.
DESCRIPTION:To log in : \nhttps://meet.jit.si/CONGEDIEMENT
URL:https://www.infotetquebec.com/en/event/victoriaville-qc-christmas-party-for-tfws/
LOCATION:905 Boulevard des Bois Francs Sud\, Victoriaville\, QC.
CATEGORIES:Night,Party
ATTACH;FMTTYPE=image/png:https://www.infotetquebec.com/wp-content/uploads/2025/11/Invitation-Soiree-de-Noel-Francais.png
END:VEVENT
BEGIN:VEVENT
DTSTART;TZID=America/Toronto:20251220T180000
DTEND;TZID=America/Toronto:20251220T230000
DTSTAMP:20260423T025001
CREATED:20251210T200734Z
LAST-MODIFIED:20251210T200827Z
UID:24637-1766253600-1766271600@www.infotetquebec.com
SUMMARY:Matane\, QC/ Festive Christmas party for TFWs
DESCRIPTION:To log in : \nhttps://meet.jit.si/CONGEDIEMENT
URL:https://www.infotetquebec.com/en/event/matane-qc-festive-christmas-party-for-tfws/
LOCATION:679 Route 195\, Matane\, QC.
CATEGORIES:Festival,Night,Social activity
ATTACH;FMTTYPE=image/png:https://www.infotetquebec.com/wp-content/uploads/2025/12/IMM-QC_Souper-de-Noel-2025_FRAN.png
END:VEVENT
BEGIN:VEVENT
DTSTART;TZID=America/Toronto:20251221T170000
DTEND;TZID=America/Toronto:20251221T200000
DTSTAMP:20260423T025001
CREATED:20251205T150203Z
LAST-MODIFIED:20251205T153041Z
UID:24446-1766336400-1766347200@www.infotetquebec.com
SUMMARY:Drummondville\, QC/ Village illuminated for the TFWs.
DESCRIPTION:To log in : \nhttps://meet.jit.si/CONGEDIEMENT
URL:https://www.infotetquebec.com/en/event/drummondville-qc-village-illuminated-for-the-tfws/
LOCATION:1425\, Rue Montplaisir\, Drummondville. Qc.
CATEGORIES:Festival,Social activity
ATTACH;FMTTYPE=image/jpeg:https://www.infotetquebec.com/wp-content/uploads/2025/12/Village-illumine-Desjardins_FR.jpg
END:VEVENT
BEGIN:VEVENT
DTSTART;TZID=America/Toronto:20251221T173000
DTEND;TZID=America/Toronto:20251221T193000
DTSTAMP:20260423T025001
CREATED:20251010T180216Z
LAST-MODIFIED:20251010T180251Z
UID:23258-1766338200-1766345400@www.infotetquebec.com
SUMMARY:Saint-Basile\, QC/Indoor soccer for TFWs
DESCRIPTION:To log in : \nhttps://meet.jit.si/CONGEDIEMENT
URL:https://www.infotetquebec.com/en/event/saint-basile-qc-indoor-soccer-for-tfws-10/
LOCATION:Centre Ernest-J.-Papillon\, Rue Sainte Angélique\, Saint-Basile\, QC\, Canada
CATEGORIES:Cultural or sports activity,soccer
ATTACH;FMTTYPE=image/png:https://www.infotetquebec.com/wp-content/uploads/2025/10/SOCCER-INTERIEUR-FR.png
END:VEVENT
BEGIN:VEVENT
DTSTART;TZID=America/Toronto:20251228T173000
DTEND;TZID=America/Toronto:20251228T193000
DTSTAMP:20260423T025001
CREATED:20251010T180500Z
LAST-MODIFIED:20251010T180500Z
UID:23262-1766943000-1766950200@www.infotetquebec.com
SUMMARY:Saint-Basile\, QC/Indoor soccer for TFWs
DESCRIPTION:To log in : \nhttps://meet.jit.si/CONGEDIEMENT
URL:https://www.infotetquebec.com/en/event/saint-basile-qc-indoor-soccer-for-tfws-12/
LOCATION:Centre Ernest-J.-Papillon\, Rue Sainte Angélique\, Saint-Basile\, QC\, Canada
CATEGORIES:Cultural or sports activity,soccer
ATTACH;FMTTYPE=image/png:https://www.infotetquebec.com/wp-content/uploads/2025/10/SOCCER-INTERIEUR-FR.png
END:VEVENT
BEGIN:VEVENT
DTSTART;TZID=America/Toronto:20260109T190000
DTEND;TZID=America/Toronto:20260109T210000
DTSTAMP:20260423T025001
CREATED:20260112T205907Z
LAST-MODIFIED:20260112T205907Z
UID:25458-1767985200-1767992400@www.infotetquebec.com
SUMMARY:Coaticook\, QC / Soccer in Coaticook for TFWs
DESCRIPTION:To log in : \nhttps://meet.jit.si/CONGEDIEMENT
URL:https://www.infotetquebec.com/en/event/coaticook-qc-soccer-in-coaticook-for-tfws/
LOCATION:497 Rue Saint-Jean-Baptiste\, Coaticook\, QC J1A 1G1\, Canada
CATEGORIES:Cultural or sports activity,soccer
ATTACH;FMTTYPE=image/png:https://www.infotetquebec.com/wp-content/uploads/2026/01/EOS-Soccer-Coaticook-interieur-2026-ang.png
END:VEVENT
END:VCALENDAR