BEGIN:VCALENDAR
VERSION:2.0
PRODID:-//Infotetquebec - ECPv6.15.20//NONSGML v1.0//EN
CALSCALE:GREGORIAN
METHOD:PUBLISH
X-WR-CALNAME:Infotetquebec
X-ORIGINAL-URL:https://www.infotetquebec.com/en/
X-WR-CALDESC:Events for Infotetquebec
REFRESH-INTERVAL;VALUE=DURATION:PT1H
X-Robots-Tag:noindex
X-PUBLISHED-TTL:PT1H
BEGIN:VTIMEZONE
TZID:America/Toronto
BEGIN:DAYLIGHT
TZOFFSETFROM:-0500
TZOFFSETTO:-0400
TZNAME:EDT
DTSTART:20250309T070000
END:DAYLIGHT
BEGIN:STANDARD
TZOFFSETFROM:-0400
TZOFFSETTO:-0500
TZNAME:EST
DTSTART:20251102T060000
END:STANDARD
BEGIN:DAYLIGHT
TZOFFSETFROM:-0500
TZOFFSETTO:-0400
TZNAME:EDT
DTSTART:20260308T070000
END:DAYLIGHT
BEGIN:STANDARD
TZOFFSETFROM:-0400
TZOFFSETTO:-0500
TZNAME:EST
DTSTART:20261101T060000
END:STANDARD
BEGIN:DAYLIGHT
TZOFFSETFROM:-0500
TZOFFSETTO:-0400
TZNAME:EDT
DTSTART:20270314T070000
END:DAYLIGHT
BEGIN:STANDARD
TZOFFSETFROM:-0400
TZOFFSETTO:-0500
TZNAME:EST
DTSTART:20271107T060000
END:STANDARD
END:VTIMEZONE
BEGIN:VEVENT
DTSTART;TZID=America/Toronto:20260426T123000
DTEND;TZID=America/Toronto:20260426T143000
DTSTAMP:20260423T033418
CREATED:20260414T153701Z
LAST-MODIFIED:20260414T153918Z
UID:28116-1777206600-1777213800@www.infotetquebec.com
SUMMARY:Lac-Beauport\, QC / Sugar shack brunch at Érablière du Lac-Beauport for TFWs.
DESCRIPTION:Lac-Beauport\, QC / Sugar shack brunch at Érablière du Lac-Beauport for TFWs. \n📍200 Chem. des Lacs\, Lac-Beauport\, QC G3B 1C4📅 April 26\, 2026🕐 12:30 PM – 2:30 PM \nTraditional “sugar shack”-style meal\, traditional music\, entertainment\, and museum. \n👉 This activity is intended for temporary foreign workers with closed work permits. \nPlease follow the instructions on the poster and contact the organizer.
URL:https://www.infotetquebec.com/en/event/lac-beauport-qc-sugar-shack-brunch-at-erabliere-du-lac-beauport-for-tfws/
LOCATION:200 Chem. des Lacs\, Lac-Beauport\, QC G3B 1C4
CATEGORIES:Brunch,Cultural or sports activity,Networking,Social activity
ATTACH;FMTTYPE=image/png:https://www.infotetquebec.com/wp-content/uploads/2026/04/Invitation-cabane-FR.png
ORGANIZER;CN="Centre multiethnique de Qu%C3%A9bec":MAILTO:sgiroux@centremultiethnique
END:VEVENT
BEGIN:VEVENT
DTSTART;TZID=America/Toronto:20260427T180000
DTEND;TZID=America/Toronto:20260427T193000
DTSTAMP:20260423T033418
CREATED:20260422T154511Z
LAST-MODIFIED:20260422T154548Z
UID:28212-1777312800-1777318200@www.infotetquebec.com
SUMMARY:Sherbrooke\, QC / Social evening for TFWs.
DESCRIPTION:Sherbrooke\, QC / Social evening for TFWs. \n📍 139 Rue Frontenac\, Sherbrooke\, QC\, Canada📅 April 27\, 2026🕐 6:00 PM – 7:30 PM \nA social evening for temporary foreign workers in the city of Sherbrooke\, aimed at creating a welcoming space that encourages networking and connections. A simple and accessible activity for everyone to share a pleasant moment in a warm and inclusive atmosphere. \n👉 This activity is intended for temporary foreign workers with closed work permits. \nPlease follow the instructions indicated on the poster and contact the organizer.
URL:https://www.infotetquebec.com/en/event/sherbrooke-qc-social-evening-for-tfws/
LOCATION:139 Rue Frontenac\, Sherbrooke\, QC\, Canada
CATEGORIES:Night,Social activity
ATTACH;FMTTYPE=image/png:https://www.infotetquebec.com/wp-content/uploads/2026/04/Soiree-sociale-a-Sherbrooke-fr.png
END:VEVENT
BEGIN:VEVENT
DTSTART;TZID=America/Toronto:20260522T180000
DTEND;TZID=America/Toronto:20260522T200000
DTSTAMP:20260423T033418
CREATED:20260210T161330Z
LAST-MODIFIED:20260210T161410Z
UID:26512-1779472800-1779480000@www.infotetquebec.com
SUMMARY:Saint-Marc-des-Carrières\, QC / Outdoor Soccer for TFWs
DESCRIPTION:Saint-Marc-des-Carrières\, QC / Outdoor Soccer for TFWs \n📍 1600 Boulevard Bona-Dussault\, Saint-Marc-des-Carrières\, QC\, Canada\n 📅 Every Friday from May 22 to September 25\, 2026\n 🕐 6:00–8:00 p.m. \n👉 This activity is intended for temporary foreign workers. \n Please follow the instructions on the poster and contact the organizer.
URL:https://www.infotetquebec.com/en/event/saint-marc-des-carrieres-qc-outdoor-soccer-for-tfws/
LOCATION:1600 Boulevard Bona-Dussault\, Saint-Marc-des-Carrières\, QC\, Canada
CATEGORIES:Cultural or sports activity,soccer
ATTACH;FMTTYPE=image/png:https://www.infotetquebec.com/wp-content/uploads/2026/02/Immigrant-quebec.png
END:VEVENT
BEGIN:VEVENT
DTSTART;TZID=America/Toronto:20260523T093000
DTEND;TZID=America/Toronto:20260523T123000
DTSTAMP:20260423T033418
CREATED:20260422T173608Z
LAST-MODIFIED:20260422T173813Z
UID:28231-1779528600-1779539400@www.infotetquebec.com
SUMMARY:Granby\, QC / Let's ride together: Activity for TFWs.
DESCRIPTION:Granby\, QC / Let’s ride together: Activity for TFWs. \n📍 97 Bd Leclerc E\, Granby\, QC J2H 2R1 / Pavillon Norbert Talbot📅 May 23\, 2026🕐 9:30 AM – 12:30 PM \nA simple and accessible activity for everyone to share a pleasant moment in a warm and inclusive atmosphere. \nProgram: \n\nA talk on the benefits of cycling\nA presentation on the region’s cycling network\nA bike ride along the cycling path\n\n👉 This activity is intended for temporary foreign workers with closed work permits. \nPlease follow the instructions indicated on the poster and contact the organizer.
URL:https://www.infotetquebec.com/en/event/granby-qc-lets-ride-together-activity-for-tfws/
LOCATION:97 Bd Leclerc E\, Granby\, QC J2H 2R1/Pavillon Norbert Talbot.
CATEGORIES:Cultural or sports activity,Social activity
ATTACH;FMTTYPE=image/png:https://www.infotetquebec.com/wp-content/uploads/2026/04/Anglais-3.png
ORGANIZER;CN="Granby Industriel":MAILTO:ga.brand@granby-industriel.com
END:VEVENT
BEGIN:VEVENT
DTSTART;TZID=America/Toronto:20260529T180000
DTEND;TZID=America/Toronto:20260529T200000
DTSTAMP:20260423T033418
CREATED:20260210T162613Z
LAST-MODIFIED:20260210T162613Z
UID:26537-1780077600-1780084800@www.infotetquebec.com
SUMMARY:Saint-Marc-des-Carrières\, QC / Outdoor Soccer for TFWs
DESCRIPTION:Saint-Marc-des-Carrières\, QC / Outdoor Soccer for TFWs \n📍 1600 Boulevard Bona-Dussault\, Saint-Marc-des-Carrières\, QC\, Canada\n 📅 Every Friday from May 22 to September 25\, 2026\n 🕐 6:00–8:00 p.m. \n👉 This activity is intended for temporary foreign workers. \n Please follow the instructions on the poster and contact the organizer.
URL:https://www.infotetquebec.com/en/event/saint-marc-des-carrieres-qc-outdoor-soccer-for-tfws-2/
LOCATION:1600 Boulevard Bona-Dussault\, Saint-Marc-des-Carrières\, QC\, Canada
CATEGORIES:Cultural or sports activity,soccer
ATTACH;FMTTYPE=image/png:https://www.infotetquebec.com/wp-content/uploads/2026/02/Immigrant-quebec.png
END:VEVENT
BEGIN:VEVENT
DTSTART;TZID=America/Toronto:20260605T180000
DTEND;TZID=America/Toronto:20260605T200000
DTSTAMP:20260423T033418
CREATED:20260210T162651Z
LAST-MODIFIED:20260210T162651Z
UID:26539-1780682400-1780689600@www.infotetquebec.com
SUMMARY:Saint-Marc-des-Carrières\, QC / Outdoor Soccer for TFWs
DESCRIPTION:Saint-Marc-des-Carrières\, QC / Outdoor Soccer for TFWs \n📍 1600 Boulevard Bona-Dussault\, Saint-Marc-des-Carrières\, QC\, Canada\n 📅 Every Friday from May 22 to September 25\, 2026\n 🕐 6:00–8:00 p.m. \n👉 This activity is intended for temporary foreign workers. \n Please follow the instructions on the poster and contact the organizer.
URL:https://www.infotetquebec.com/en/event/saint-marc-des-carrieres-qc-outdoor-soccer-for-tfws-3/
LOCATION:1600 Boulevard Bona-Dussault\, Saint-Marc-des-Carrières\, QC\, Canada
CATEGORIES:Cultural or sports activity,soccer
ATTACH;FMTTYPE=image/png:https://www.infotetquebec.com/wp-content/uploads/2026/02/Immigrant-quebec.png
END:VEVENT
BEGIN:VEVENT
DTSTART;TZID=America/Toronto:20260612T180000
DTEND;TZID=America/Toronto:20260612T200000
DTSTAMP:20260423T033418
CREATED:20260210T162825Z
LAST-MODIFIED:20260210T162825Z
UID:26541-1781287200-1781294400@www.infotetquebec.com
SUMMARY:Saint-Marc-des-Carrières\, QC / Outdoor Soccer for TFWs
DESCRIPTION:Saint-Marc-des-Carrières\, QC / Outdoor Soccer for TFWs \n📍 1600 Boulevard Bona-Dussault\, Saint-Marc-des-Carrières\, QC\, Canada\n 📅 Every Friday from May 22 to September 25\, 2026\n 🕐 6:00–8:00 p.m. \n👉 This activity is intended for temporary foreign workers. \n Please follow the instructions on the poster and contact the organizer.
URL:https://www.infotetquebec.com/en/event/saint-marc-des-carrieres-qc-outdoor-soccer-for-tfws-4/
LOCATION:1600 Boulevard Bona-Dussault\, Saint-Marc-des-Carrières\, QC\, Canada
CATEGORIES:Cultural or sports activity,soccer
ATTACH;FMTTYPE=image/png:https://www.infotetquebec.com/wp-content/uploads/2026/02/Immigrant-quebec.png
END:VEVENT
BEGIN:VEVENT
DTSTART;TZID=America/Toronto:20260619T180000
DTEND;TZID=America/Toronto:20260619T200000
DTSTAMP:20260423T033418
CREATED:20260210T163125Z
LAST-MODIFIED:20260210T163125Z
UID:26543-1781892000-1781899200@www.infotetquebec.com
SUMMARY:Saint-Marc-des-Carrières\, QC / Outdoor Soccer for TFWs
DESCRIPTION:Saint-Marc-des-Carrières\, QC / Outdoor Soccer for TFWs \n📍 1600 Boulevard Bona-Dussault\, Saint-Marc-des-Carrières\, QC\, Canada\n 📅 Every Friday from May 22 to September 25\, 2026\n 🕐 6:00–8:00 p.m. \n👉 This activity is intended for temporary foreign workers. \n Please follow the instructions on the poster and contact the organizer.
URL:https://www.infotetquebec.com/en/event/saint-marc-des-carrieres-qc-outdoor-soccer-for-tfws-5/
LOCATION:1600 Boulevard Bona-Dussault\, Saint-Marc-des-Carrières\, QC\, Canada
CATEGORIES:Cultural or sports activity,soccer
ATTACH;FMTTYPE=image/png:https://www.infotetquebec.com/wp-content/uploads/2026/02/Immigrant-quebec.png
END:VEVENT
BEGIN:VEVENT
DTSTART;TZID=America/Toronto:20260626T180000
DTEND;TZID=America/Toronto:20260626T200000
DTSTAMP:20260423T033418
CREATED:20260210T163150Z
LAST-MODIFIED:20260210T163150Z
UID:26545-1782496800-1782504000@www.infotetquebec.com
SUMMARY:Saint-Marc-des-Carrières\, QC / Outdoor Soccer for TFWs
DESCRIPTION:Saint-Marc-des-Carrières\, QC / Outdoor Soccer for TFWs \n📍 1600 Boulevard Bona-Dussault\, Saint-Marc-des-Carrières\, QC\, Canada\n 📅 Every Friday from May 22 to September 25\, 2026\n 🕐 6:00–8:00 p.m. \n👉 This activity is intended for temporary foreign workers. \n Please follow the instructions on the poster and contact the organizer.
URL:https://www.infotetquebec.com/en/event/saint-marc-des-carrieres-qc-outdoor-soccer-for-tfws-6/
LOCATION:1600 Boulevard Bona-Dussault\, Saint-Marc-des-Carrières\, QC\, Canada
CATEGORIES:Cultural or sports activity,soccer
ATTACH;FMTTYPE=image/png:https://www.infotetquebec.com/wp-content/uploads/2026/02/Immigrant-quebec.png
END:VEVENT
END:VCALENDAR