BEGIN:VCALENDAR
VERSION:2.0
PRODID:-//Infotetquebec - ECPv6.15.20//NONSGML v1.0//EN
CALSCALE:GREGORIAN
METHOD:PUBLISH
X-WR-CALNAME:Infotetquebec
X-ORIGINAL-URL:https://www.infotetquebec.com/en/
X-WR-CALDESC:Events for Infotetquebec
REFRESH-INTERVAL;VALUE=DURATION:PT1H
X-Robots-Tag:noindex
X-PUBLISHED-TTL:PT1H
BEGIN:VTIMEZONE
TZID:America/New_York
BEGIN:DAYLIGHT
TZOFFSETFROM:-0500
TZOFFSETTO:-0400
TZNAME:EDT
DTSTART:20230312T070000
END:DAYLIGHT
BEGIN:STANDARD
TZOFFSETFROM:-0400
TZOFFSETTO:-0500
TZNAME:EST
DTSTART:20231105T060000
END:STANDARD
BEGIN:DAYLIGHT
TZOFFSETFROM:-0500
TZOFFSETTO:-0400
TZNAME:EDT
DTSTART:20240310T070000
END:DAYLIGHT
BEGIN:STANDARD
TZOFFSETFROM:-0400
TZOFFSETTO:-0500
TZNAME:EST
DTSTART:20241103T060000
END:STANDARD
BEGIN:DAYLIGHT
TZOFFSETFROM:-0500
TZOFFSETTO:-0400
TZNAME:EDT
DTSTART:20250309T070000
END:DAYLIGHT
BEGIN:STANDARD
TZOFFSETFROM:-0400
TZOFFSETTO:-0500
TZNAME:EST
DTSTART:20251102T060000
END:STANDARD
END:VTIMEZONE
BEGIN:VEVENT
DTSTART;TZID=America/New_York:20240502T180000
DTEND;TZID=America/New_York:20240502T200000
DTSTAMP:20260421T202546
CREATED:20240502T160722Z
LAST-MODIFIED:20240502T160722Z
UID:13721-1714672800-1714680000@www.infotetquebec.com
SUMMARY:Montréal / 6@8 networking session FOR INCREASED INDEPENDENCE AND SUCCESSFUL SOCIAL INCLUSION
DESCRIPTION:
URL:https://www.infotetquebec.com/en/event/montreal-68-networking-session-for-increased-independence-and-successful-social-inclusion/
LOCATION:CACI\, 12049\, boul. Laurentien\, salle 402\, Montréal\, Québec\, H4K 1M8\, Canada
CATEGORIES:Information session
ORGANIZER;CN="CACI":MAILTO:info@caci-bc.org
END:VEVENT
BEGIN:VEVENT
DTSTART;TZID=America/New_York:20240504T140000
DTEND;TZID=America/New_York:20240504T210000
DTSTAMP:20260421T202546
CREATED:20240409T181903Z
LAST-MODIFIED:20240409T182540Z
UID:13295-1714831200-1714856400@www.infotetquebec.com
SUMMARY:Granby / Basketball Tournament
DESCRIPTION:
URL:https://www.infotetquebec.com/en/event/granby-basketball-tournament-4/
LOCATION:COLLEGE DU MONT SACRE COEUR PORTE #4\, 210 RUE DENISON EST\, Granby\, Canada
CATEGORIES:basketball,Cultural or sports activity
END:VEVENT
BEGIN:VEVENT
DTSTART;TZID=America/New_York:20240505T170000
DTEND;TZID=America/New_York:20240505T190000
DTSTAMP:20260421T202546
CREATED:20240322T180628Z
LAST-MODIFIED:20240322T180628Z
UID:12994-1714928400-1714935600@www.infotetquebec.com
SUMMARY:Saint-Basile / Indoor soccer
DESCRIPTION:
URL:https://www.infotetquebec.com/en/event/saint-basile-indoor-soccer-13/
LOCATION:Centre communautaire Ernest Papillon de St-Basile\, 100 Rang Ste Angélique\, Saint-Basile\, Québec\, G0A 3G0\, Canada
CATEGORIES:soccer
END:VEVENT
BEGIN:VEVENT
DTSTART;TZID=America/New_York:20240507T180000
DTEND;TZID=America/New_York:20240507T190000
DTSTAMP:20260421T202546
CREATED:20240502T175756Z
LAST-MODIFIED:20240502T175756Z
UID:13744-1715104800-1715108400@www.infotetquebec.com
SUMMARY:Radio Coaticook CIGN FM 96\,7 : driving in Québec
DESCRIPTION:CIGN FM 96\,7 – Radio coopérative de Coaticook \n\n \n 
URL:https://www.infotetquebec.com/en/event/radio-coaticook-cign-fm-967-driving-in-quebec/
LOCATION:En ligne
END:VEVENT
BEGIN:VEVENT
DTSTART;TZID=America/New_York:20240508T190000
DTEND;TZID=America/New_York:20240508T203000
DTSTAMP:20260421T202546
CREATED:20240503T174131Z
LAST-MODIFIED:20240503T174131Z
UID:13793-1715194800-1715200200@www.infotetquebec.com
SUMMARY:Online / Information session: demystifying dismissal
DESCRIPTION:https://meet.jit.si/CONGEDIEMENT\n \n 
URL:https://www.infotetquebec.com/en/event/online-information-session-demystifying-dismissal/
LOCATION:En ligne
CATEGORIES:Information session
END:VEVENT
BEGIN:VEVENT
DTSTART;TZID=America/New_York:20240509T190000
DTEND;TZID=America/New_York:20240509T203000
DTSTAMP:20260421T202546
CREATED:20240424T183910Z
LAST-MODIFIED:20240424T183911Z
UID:13629-1715281200-1715286600@www.infotetquebec.com
SUMMARY:Online / Health support group
DESCRIPTION:
URL:https://www.infotetquebec.com/en/event/online-health-support-group/
LOCATION:En ligne
CATEGORIES:Information session,webinar
END:VEVENT
BEGIN:VEVENT
DTSTART;TZID=America/New_York:20240511T080000
DTEND;TZID=America/New_York:20240511T170000
DTSTAMP:20260421T202546
CREATED:20240502T174235Z
LAST-MODIFIED:20240502T174236Z
UID:13732-1715414400-1715446800@www.infotetquebec.com
SUMMARY:Drummondville / Tennis
DESCRIPTION:Informations : Joaquin Larriva\, +1 819 477-5511 #404\, j.larriva@drummondeconomique.ca
URL:https://www.infotetquebec.com/en/event/drummondville-tennis/
LOCATION:Drummondville\, Québec\, Canada
CATEGORIES:Cultural or sports activity
END:VEVENT
BEGIN:VEVENT
DTSTART;TZID=America/New_York:20240511T140000
DTEND;TZID=America/New_York:20240511T160000
DTSTAMP:20260421T202546
CREATED:20240510T201341Z
LAST-MODIFIED:20240510T201342Z
UID:13981-1715436000-1715443200@www.infotetquebec.com
SUMMARY:Orford / Music concert
DESCRIPTION:
URL:https://www.infotetquebec.com/en/event/orford-music-concert/
LOCATION:RÉSIDENCE ARTISTIQUE À ORFORD\, 3165\, CHEMIN DU PARC ORFORD\, Orford\, Québec\, Canada
CATEGORIES:Cultural or sports activity
END:VEVENT
BEGIN:VEVENT
DTSTART;TZID=America/New_York:20240511T140000
DTEND;TZID=America/New_York:20240511T210000
DTSTAMP:20260421T202546
CREATED:20240409T182918Z
LAST-MODIFIED:20240409T183128Z
UID:13309-1715436000-1715461200@www.infotetquebec.com
SUMMARY:Granby / Basketball Tournament
DESCRIPTION:
URL:https://www.infotetquebec.com/en/event/granby-basketball-tournament-5/
LOCATION:COLLEGE DU MONT SACRE COEUR PORTE #4\, 210 RUE DENISON EST\, Granby\, Canada
CATEGORIES:basketball,Cultural or sports activity
END:VEVENT
BEGIN:VEVENT
DTSTART;TZID=America/New_York:20240512T170000
DTEND;TZID=America/New_York:20240512T190000
DTSTAMP:20260421T202546
CREATED:20240322T181133Z
LAST-MODIFIED:20240322T181134Z
UID:13003-1715533200-1715540400@www.infotetquebec.com
SUMMARY:Saint-Basile / Indoor soccer
DESCRIPTION:
URL:https://www.infotetquebec.com/en/event/saint-basile-indoor-soccer-14/
LOCATION:Centre communautaire Ernest Papillon de St-Basile\, 100 Rang Ste Angélique\, Saint-Basile\, Québec\, G0A 3G0\, Canada
CATEGORIES:soccer
END:VEVENT
BEGIN:VEVENT
DTSTART;TZID=America/New_York:20240514T180000
DTEND;TZID=America/New_York:20240514T190000
DTSTAMP:20260421T202546
CREATED:20240502T181807Z
LAST-MODIFIED:20240502T181807Z
UID:13756-1715709600-1715713200@www.infotetquebec.com
SUMMARY:Radio Coaticook CIGN FM 96\,7 : manage stress
DESCRIPTION:CIGN FM 96\,7 – Radio coopérative de Coaticook
URL:https://www.infotetquebec.com/en/event/radio-coaticook-cign-fm-967-manage-stress/
LOCATION:En ligne
END:VEVENT
BEGIN:VEVENT
DTSTART;TZID=America/New_York:20240517T170000
DTEND;TZID=America/New_York:20240517T190000
DTSTAMP:20260421T202546
CREATED:20240409T173019Z
LAST-MODIFIED:20240409T173020Z
UID:13224-1715965200-1715972400@www.infotetquebec.com
SUMMARY:Portneuf / "Portrait Project" exhibition
DESCRIPTION:
URL:https://www.infotetquebec.com/en/event/portneuf-portrait-project-exhibition/
LOCATION:Bibliothèque La Découverte\, 297 Avenue 1\, Portneuf\, Québec\, Canada
CATEGORIES:Cultural or sports activity
END:VEVENT
BEGIN:VEVENT
DTSTART;TZID=America/New_York:20240517T190000
DTEND;TZID=America/New_York:20240517T210000
DTSTAMP:20260421T202546
CREATED:20240419T194742Z
LAST-MODIFIED:20240419T194926Z
UID:13552-1715972400-1715979600@www.infotetquebec.com
SUMMARY:Chambly / Basketball
DESCRIPTION:WhatsApp 514 434-3642 \nlilianasalgado@integrationcompetences.ca \nInscriptions : https://forms.office.com/pages/responsepage.aspx?id=0_JvlIF-AUOMcJZzeTeuK9Z4nxmedR5FjMolHYNnFTdUNU1LQ0s2QjIwR0VJR1pNRk1TWlEyTUFMSy4u&origin=QRCode&qrcodeorigin=presentation
URL:https://www.infotetquebec.com/en/event/chambly-basketball/
LOCATION:Gymnase de l’École Madeleine-Brousseau\, 1700 Bd Lebel\, Chambly\, QC\, Canada
CATEGORIES:basketball,Cultural or sports activity
ORGANIZER;CN="Int%C3%A9gration comp%C3%A9tences":MAILTO:lilianasalgado@integrationcompetences.ca
END:VEVENT
BEGIN:VEVENT
DTSTART;TZID=America/New_York:20240518T080000
DTEND;TZID=America/New_York:20240518T170000
DTSTAMP:20260421T202546
CREATED:20240503T175723Z
LAST-MODIFIED:20240503T175723Z
UID:13805-1716019200-1716051600@www.infotetquebec.com
SUMMARY:Victoriaville / Intercultural culinary exchange
DESCRIPTION:Réservations: +1 819 806-448I
URL:https://www.infotetquebec.com/en/event/victoriaville-intercultural-culinary-exchange/
LOCATION:CUISINES POPULAIRES DE BOIS-FRANCS\, 15\, rue Fleury\, Victoriaville\, Québec\, G6P 6L1\, Canada
CATEGORIES:Cultural or sports activity
ORGANIZER;CN="Corporation de d%C3%A9veloppement %C3%A9conomique Victoriaville et sa r%C3%A9gion":MAILTO:vsanchez@cdevr.ca
END:VEVENT
BEGIN:VEVENT
DTSTART;TZID=America/New_York:20240518T140000
DTEND;TZID=America/New_York:20240518T210000
DTSTAMP:20260421T202546
CREATED:20240409T183916Z
LAST-MODIFIED:20240409T184120Z
UID:13323-1716040800-1716066000@www.infotetquebec.com
SUMMARY:Granby / Basketball Tournament
DESCRIPTION:
URL:https://www.infotetquebec.com/en/event/granby-basketball-tournament-6/
LOCATION:COLLEGE DU MONT SACRE COEUR PORTE #4\, 210 RUE DENISON EST\, Granby\, Canada
CATEGORIES:basketball,Cultural or sports activity
END:VEVENT
BEGIN:VEVENT
DTSTART;TZID=America/New_York:20240518T150000
DTEND;TZID=America/New_York:20240518T170000
DTSTAMP:20260421T202546
CREATED:20240516T142028Z
LAST-MODIFIED:20240516T142028Z
UID:14060-1716044400-1716051600@www.infotetquebec.com
SUMMARY:Saint-Raymond / Intercultural soccer
DESCRIPTION:
URL:https://www.infotetquebec.com/en/event/saint-raymond-intercultural-soccer/
LOCATION:École Louis- Jobin\, 400 boulevard Cloutier\, Saint-Raymond\, Québec\, Canada
CATEGORIES:Cultural or sports activity,soccer
END:VEVENT
BEGIN:VEVENT
DTSTART;TZID=America/New_York:20240519T100000
DTEND;TZID=America/New_York:20240519T163000
DTSTAMP:20260421T202546
CREATED:20240423T182504Z
LAST-MODIFIED:20240423T182849Z
UID:13602-1716112800-1716136200@www.infotetquebec.com
SUMMARY:Richelieu / Intercultural festival
DESCRIPTION:Date:  Saturday\, March 16\, 2024\nTime: From 10:00 am to 4:30 pm\nCost: Free admission\n\n\nVenue:  Parc Florence-Viens à Richelieu\n\n890 Rue des Oblats\, Richelieu\, QC J3L 4W9\nhttps://www.google.com/maps/place/890+Rue+des+Oblats\,+Richelieu\,+QC+J3L+4W9/@45.4474866\,-73.2533775\,17z/data=!3m1!4b1!4m5!3m4!1s0x4cc9a88cf079c5e9:0xac72c8d4037b7c65!8m2!3d45.4474866!4d-73.2533775?entry=ttu \n\nPerson in charge of the activity: Liliana Salgado\, WhatsApp 514 434 3642\, lilianasalgado@integrationcompetences.ca
URL:https://www.infotetquebec.com/en/event/richelieu-festival-of-intercultural-encounters/
LOCATION:890 Rue des Oblats\, Richelieu\, Québec\, J3L 4W9\, Canada
CATEGORIES:Cultural or sports activity,Party
ORGANIZER;CN="Int%C3%A9gration comp%C3%A9tences":MAILTO:lilianasalgado@integrationcompetences.ca
END:VEVENT
BEGIN:VEVENT
DTSTART;TZID=America/New_York:20240519T150000
DTEND;TZID=America/New_York:20240519T170000
DTSTAMP:20260421T202546
CREATED:20240506T192529Z
LAST-MODIFIED:20240506T192529Z
UID:13825-1716130800-1716138000@www.infotetquebec.com
SUMMARY:Saint-Rémi / Mass in Spanish
DESCRIPTION:
URL:https://www.infotetquebec.com/en/event/saint-remi-mass-in-spanish/
LOCATION:840 rue Notre Dame\, Saint-Rémi\, Québec\, JOL 2LO\, Canada
CATEGORIES:Mass
ORGANIZER;CN="Fondation Oscar Romero":MAILTO:melvin1vision@gmail.com
END:VEVENT
BEGIN:VEVENT
DTSTART;TZID=America/New_York:20240519T170000
DTEND;TZID=America/New_York:20240519T190000
DTSTAMP:20260421T202546
CREATED:20240322T181611Z
LAST-MODIFIED:20240322T181611Z
UID:13012-1716138000-1716145200@www.infotetquebec.com
SUMMARY:Saint-Basile / Indoor soccer
DESCRIPTION:
URL:https://www.infotetquebec.com/en/event/saint-basile-indoor-soccer-15/
LOCATION:Centre communautaire Ernest Papillon de St-Basile\, 100 Rang Ste Angélique\, Saint-Basile\, Québec\, G0A 3G0\, Canada
CATEGORIES:soccer
END:VEVENT
BEGIN:VEVENT
DTSTART;TZID=America/New_York:20240521T180000
DTEND;TZID=America/New_York:20240521T190000
DTSTAMP:20260421T202546
CREATED:20240502T182436Z
LAST-MODIFIED:20240502T182557Z
UID:13767-1716314400-1716318000@www.infotetquebec.com
SUMMARY:Radio Coaticook CIGN FM 96\,7 : financial management
DESCRIPTION:CIGN FM 96\,7 – Radio coopérative de Coaticook
URL:https://www.infotetquebec.com/en/event/financial-management/
LOCATION:En ligne
END:VEVENT
BEGIN:VEVENT
DTSTART;TZID=America/New_York:20240523T140000
DTEND;TZID=America/New_York:20240523T180000
DTSTAMP:20260421T202546
CREATED:20240515T145616Z
LAST-MODIFIED:20240515T145616Z
UID:14012-1716472800-1716487200@www.infotetquebec.com
SUMMARY:Saint-Césaire / Consular day and information clinic
DESCRIPTION:
URL:https://www.infotetquebec.com/en/event/saint-cesaire-consular-day-and-information-clinic/
LOCATION:Rancho Latino\, 2054 QC-112\, Saint-Césaire\, Québec\, Canada
CATEGORIES:Information session
ORGANIZER;CN="L'ANCRE":MAILTO:karladuenas@lancre.ca
END:VEVENT
BEGIN:VEVENT
DTSTART;TZID=America/New_York:20240523T190000
DTEND;TZID=America/New_York:20240523T203000
DTSTAMP:20260421T202547
CREATED:20240425T184155Z
LAST-MODIFIED:20240425T184155Z
UID:13641-1716490800-1716496200@www.infotetquebec.com
SUMMARY:Online / Health support group
DESCRIPTION:
URL:https://www.infotetquebec.com/en/event/online-health-support-group-2/
CATEGORIES:Information session,webinar
END:VEVENT
BEGIN:VEVENT
DTSTART;TZID=America/New_York:20240525T140000
DTEND;TZID=America/New_York:20240525T210000
DTSTAMP:20260421T202547
CREATED:20240409T184414Z
LAST-MODIFIED:20240409T184747Z
UID:13337-1716645600-1716670800@www.infotetquebec.com
SUMMARY:Granby / Basketball Tournament
DESCRIPTION:
URL:https://www.infotetquebec.com/en/event/granby-basketball-tournament-7/
LOCATION:COLLEGE DU MONT SACRE COEUR PORTE #4\, 210 RUE DENISON EST\, Granby\, Canada
CATEGORIES:basketball,Cultural or sports activity
END:VEVENT
BEGIN:VEVENT
DTSTART;TZID=America/New_York:20240526T170000
DTEND;TZID=America/New_York:20240526T190000
DTSTAMP:20260421T202547
CREATED:20240322T181941Z
LAST-MODIFIED:20240322T181941Z
UID:13021-1716742800-1716750000@www.infotetquebec.com
SUMMARY:Saint-Basile / Indoor soccer
DESCRIPTION:
URL:https://www.infotetquebec.com/en/event/saint-basile-indoor-soccer-16/
LOCATION:Centre communautaire Ernest Papillon de St-Basile\, 100 Rang Ste Angélique\, Saint-Basile\, Québec\, G0A 3G0\, Canada
CATEGORIES:soccer
END:VEVENT
BEGIN:VEVENT
DTSTART;TZID=America/New_York:20240527T183000
DTEND;TZID=America/New_York:20240527T203000
DTSTAMP:20260421T202547
CREATED:20240524T164200Z
LAST-MODIFIED:20240524T164201Z
UID:14464-1716834600-1716841800@www.infotetquebec.com
SUMMARY:Québec / CNESST information workshop in French and Spanish
DESCRIPTION:Spanish workshop from 6:30pm to 7:30 pm\nFrench workshop from 7:30pm to 8:30 pm
URL:https://www.infotetquebec.com/en/event/quebec-cnesst-information-workshop-in-french-and-spanish/
LOCATION:Iberville Quatre\, 2954 Bd Laurier Bureau 650\, Québec\, Québec\, G1V 4T2\, Canada
CATEGORIES:Information session
END:VEVENT
BEGIN:VEVENT
DTSTART;TZID=America/New_York:20240528T180000
DTEND;TZID=America/New_York:20240528T190000
DTSTAMP:20260421T202547
CREATED:20240502T183039Z
LAST-MODIFIED:20240502T183039Z
UID:13779-1716919200-1716922800@www.infotetquebec.com
SUMMARY:Radio Coaticook CIGN FM 96\,7 : support organizations
DESCRIPTION:CIGN FM 96\,7 – Radio coopérative de Coaticook
URL:https://www.infotetquebec.com/en/event/radio-coaticook-cign-fm-967-support-organizations/
LOCATION:En ligne
END:VEVENT
BEGIN:VEVENT
DTSTART;TZID=America/New_York:20240531T183000
DTEND;TZID=America/New_York:20240531T203000
DTSTAMP:20260421T202547
CREATED:20240523T174751Z
LAST-MODIFIED:20240523T175321Z
UID:14427-1717180200-1717187400@www.infotetquebec.com
SUMMARY:Donnacona / CNESST presentation activity
DESCRIPTION:THE TOPICS COVERED ARE\nLABOUR RIGHTS IN QUEBEC\nOCCUPATIONAL HEALTH AND SAFETY IN QUEBEC\nFRIDAY MAY 31\, STARTING AT 6:30 PM\nATP OFFICES IN DONNACONA DOOR PRIZES DURING THE EVENING\nBEVERAGES AND SNACKS WILL BE PROVIDED\nFOR PARTICIPANTS.
URL:https://www.infotetquebec.com/en/event/donnacona-cnesst-presentation-activity/
LOCATION:BUREAUX DE L’ATP À DONNACONA\, 162\, rue Notre-Dame\, suite 101\, Donnacona\, Québec\, G3M 1G4\, Canada
CATEGORIES:Information session
END:VEVENT
BEGIN:VEVENT
DTSTART;TZID=America/New_York:20240601T080000
DTEND;TZID=America/New_York:20240601T170000
DTSTAMP:20260421T202547
CREATED:20240409T185741Z
LAST-MODIFIED:20240409T190003Z
UID:13351-1717228800-1717261200@www.infotetquebec.com
SUMMARY:Granby / Basketball Tournament
DESCRIPTION:
URL:https://www.infotetquebec.com/en/event/granby-basketball-tournament-8/
LOCATION:COLLEGE DU MONT SACRE COEUR PORTE #4\, 210 RUE DENISON EST\, Granby\, Canada
CATEGORIES:basketball,Cultural or sports activity
END:VEVENT
BEGIN:VEVENT
DTSTART;TZID=America/New_York:20240602T120000
DTEND;TZID=America/New_York:20240602T180000
DTSTAMP:20260421T202547
CREATED:20240522T170100Z
LAST-MODIFIED:20240522T170217Z
UID:14195-1717329600-1717351200@www.infotetquebec.com
SUMMARY:Saint-Rémi / Inter-farm soccer tournament
DESCRIPTION:
URL:https://www.infotetquebec.com/en/event/saint-remi-womens-soccer-tournament/
LOCATION:terrain de soccer Saint-Rémi\, 25 Rue saint-sauveur\, Saint-Rémi\, Québec\, JOR 2L0\, Canada
CATEGORIES:soccer
ORGANIZER;CN="Complexe X Immigration":MAILTO:scerdeline@complx-immigration.ca
END:VEVENT
BEGIN:VEVENT
DTSTART;TZID=America/New_York:20240606T193000
DTEND;TZID=America/New_York:20240606T210000
DTSTAMP:20260421T202547
CREATED:20240425T184735Z
LAST-MODIFIED:20240425T184735Z
UID:13650-1717702200-1717707600@www.infotetquebec.com
SUMMARY:Online / Health support group
DESCRIPTION:
URL:https://www.infotetquebec.com/en/event/online-health-support-group-3/
LOCATION:En ligne
CATEGORIES:Information session
END:VEVENT
END:VCALENDAR