BEGIN:VCALENDAR
VERSION:2.0
PRODID:-//Infotetquebec - ECPv6.15.20//NONSGML v1.0//EN
CALSCALE:GREGORIAN
METHOD:PUBLISH
X-WR-CALNAME:Infotetquebec
X-ORIGINAL-URL:https://www.infotetquebec.com/en/
X-WR-CALDESC:Events for Infotetquebec
REFRESH-INTERVAL;VALUE=DURATION:PT1H
X-Robots-Tag:noindex
X-PUBLISHED-TTL:PT1H
BEGIN:VTIMEZONE
TZID:America/New_York
BEGIN:DAYLIGHT
TZOFFSETFROM:-0500
TZOFFSETTO:-0400
TZNAME:EDT
DTSTART:20230312T070000
END:DAYLIGHT
BEGIN:STANDARD
TZOFFSETFROM:-0400
TZOFFSETTO:-0500
TZNAME:EST
DTSTART:20231105T060000
END:STANDARD
BEGIN:DAYLIGHT
TZOFFSETFROM:-0500
TZOFFSETTO:-0400
TZNAME:EDT
DTSTART:20240310T070000
END:DAYLIGHT
BEGIN:STANDARD
TZOFFSETFROM:-0400
TZOFFSETTO:-0500
TZNAME:EST
DTSTART:20241103T060000
END:STANDARD
BEGIN:DAYLIGHT
TZOFFSETFROM:-0500
TZOFFSETTO:-0400
TZNAME:EDT
DTSTART:20250309T070000
END:DAYLIGHT
BEGIN:STANDARD
TZOFFSETFROM:-0400
TZOFFSETTO:-0500
TZNAME:EST
DTSTART:20251102T060000
END:STANDARD
END:VTIMEZONE
BEGIN:VEVENT
DTSTART;TZID=America/New_York:20240315T194500
DTEND;TZID=America/New_York:20240315T210000
DTSTAMP:20260423T061411
CREATED:20240205T203903Z
LAST-MODIFIED:20240205T204104Z
UID:12108-1710531900-1710536400@www.infotetquebec.com
SUMMARY:Coaticook / Soccer
DESCRIPTION:
URL:https://www.infotetquebec.com/en/event/coaticook-soccer-11/
LOCATION:Acti-Sports MRC de Coaticook\, 497 Rue Saint-Jean-Baptiste\, Coaticook\, Québec\, Canada
CATEGORIES:soccer
END:VEVENT
BEGIN:VEVENT
DTSTART;TZID=America/New_York:20240312T180000
DTEND;TZID=America/New_York:20240312T190000
DTSTAMP:20260423T061411
CREATED:20240212T224254Z
LAST-MODIFIED:20240212T224554Z
UID:12462-1710266400-1710270000@www.infotetquebec.com
SUMMARY:Coaticook / CIGN FM 96\,7 – Radio coopérative de Coaticook « Today we speak Spanish »
DESCRIPTION:
URL:https://www.infotetquebec.com/en/event/coaticook-cign-fm-967-radio-cooperative-de-coaticook-today-we-speak-spanish-5/
LOCATION:À la radio\, CIGN FM 96\,7\, Coaticook\, Québec\, Canada
CATEGORIES:Information session
END:VEVENT
BEGIN:VEVENT
DTSTART;TZID=America/New_York:20240310T140000
DTEND;TZID=America/New_York:20240310T160000
DTSTAMP:20260423T061411
CREATED:20240205T220845Z
LAST-MODIFIED:20240205T221425Z
UID:12235-1710079200-1710086400@www.infotetquebec.com
SUMMARY:Coaticook / Basketball
DESCRIPTION:
URL:https://www.infotetquebec.com/en/event/coaticook-basketball-9/
LOCATION:Acti-Sports MRC de Coaticook\, 497 Rue Saint-Jean-Baptiste\, Coaticook\, Québec\, Canada
CATEGORIES:basketball
END:VEVENT
BEGIN:VEVENT
DTSTART;TZID=America/New_York:20240310T130000
DTEND;TZID=America/New_York:20240310T160000
DTSTAMP:20260423T061411
CREATED:20240130T001943Z
LAST-MODIFIED:20240130T001944Z
UID:11803-1710075600-1710086400@www.infotetquebec.com
SUMMARY:Coaticook / Indoor swimming pool
DESCRIPTION:Come swim at the Coaticook pool! \nAll you need to bring is : \nSwimsuit \nTowel \nFREE SUNDAYS\, 1:00 TO 4:00 P.M. \n+1 873 662-2630 \nActi-Sports MRC de Coaticook \n497 Rue Saint-Jean-Baptiste\, \nCoaticook
URL:https://www.infotetquebec.com/en/event/coaticook-indoor-swimming-pool-6/
LOCATION:Acti-Sports MRC de Coaticook\, 497 Rue Saint-Jean-Baptiste\, Coaticook\, Québec\, Canada
CATEGORIES:Cultural or sports activity
END:VEVENT
BEGIN:VEVENT
DTSTART;TZID=America/New_York:20240309T190000
DTEND;TZID=America/New_York:20240309T220000
DTSTAMP:20260423T061411
CREATED:20240205T183905Z
LAST-MODIFIED:20240205T184232Z
UID:11941-1710010800-1710021600@www.infotetquebec.com
SUMMARY:Val-des-Sources / Soccer
DESCRIPTION:
URL:https://www.infotetquebec.com/en/event/val-des-sources-soccer-5/
LOCATION:ÉCOLEL’ESCALE – GIMNACIO\, 430\, 5E AV. VAL-DES-SOURCES\, Val-des-Sources\, Québec\, J1T 1X2\, Canada
CATEGORIES:soccer
END:VEVENT
BEGIN:VEVENT
DTSTART;TZID=America/New_York:20240309T110000
DTEND;TZID=America/New_York:20240309T140000
DTSTAMP:20260423T061411
CREATED:20231103T192424Z
LAST-MODIFIED:20231103T192424Z
UID:9739-1709982000-1709992800@www.infotetquebec.com
SUMMARY:Haute-Yamaska / Sugar Shack
DESCRIPTION:A special outing for TFWs with a closed permit with a Granby manufacturing company! \nTaste maple products\, the pride of Quebec! \nLimited seating\, reservations required: https://granby-industriel.com/2023/11/allons-a-la-cabane-vamos-a-la-cabana/ \nSaturday\, March 9\, 2024\, 11 a.m. to 2 p.m. \nHaute-Yamaska\, location to be determined \nInformation: Gloria Amparo Brand\, +1 450 777-2707 ext. 2622\, ga.brand@granby-industriel.com
URL:https://www.infotetquebec.com/en/event/haute-yamaska-sugar-shack/
LOCATION:Haute-Yamaska\, Canada
CATEGORIES:Cultural or sports activity
ATTACH;FMTTYPE=image/png:https://www.infotetquebec.com/wp-content/uploads/2023/11/Allons-a-la-cabane.png
ORGANIZER;CN="Granby Industriel":MAILTO:ga.brand@granby-industriel.com
END:VEVENT
BEGIN:VEVENT
DTSTART;TZID=America/New_York:20240308T194500
DTEND;TZID=America/New_York:20240308T210000
DTSTAMP:20260423T061411
CREATED:20240205T203126Z
LAST-MODIFIED:20240205T203443Z
UID:12092-1709927100-1709931600@www.infotetquebec.com
SUMMARY:Coaticook / Soccer
DESCRIPTION:
URL:https://www.infotetquebec.com/en/event/coaticook-soccer-10/
LOCATION:Acti-Sports MRC de Coaticook\, 497 Rue Saint-Jean-Baptiste\, Coaticook\, Québec\, Canada
CATEGORIES:soccer
END:VEVENT
BEGIN:VEVENT
DTSTART;TZID=America/New_York:20240305T180000
DTEND;TZID=America/New_York:20240305T190000
DTSTAMP:20260423T061411
CREATED:20240212T222910Z
LAST-MODIFIED:20240212T223730Z
UID:12445-1709661600-1709665200@www.infotetquebec.com
SUMMARY:Coaticook / CIGN FM 96\,7 – Radio coopérative de Coaticook « Today we speak Spanish »
DESCRIPTION:
URL:https://www.infotetquebec.com/en/event/coaticook-cign-fm-967-radio-cooperative-de-coaticook-today-we-speak-spanish-4/
LOCATION:À la radio\, CIGN FM 96\,7\, Coaticook\, Québec\, Canada
CATEGORIES:Information session
END:VEVENT
BEGIN:VEVENT
DTSTART;TZID=America/New_York:20240303T140000
DTEND;TZID=America/New_York:20240303T160000
DTSTAMP:20260423T061411
CREATED:20240205T220418Z
LAST-MODIFIED:20240205T220608Z
UID:12221-1709474400-1709481600@www.infotetquebec.com
SUMMARY:Coaticook / Basketball
DESCRIPTION:
URL:https://www.infotetquebec.com/en/event/coaticook-basketball-8/
LOCATION:Acti-Sports MRC de Coaticook\, 497 Rue Saint-Jean-Baptiste\, Coaticook\, Québec\, Canada
CATEGORIES:basketball
END:VEVENT
BEGIN:VEVENT
DTSTART;TZID=America/New_York:20240303T130000
DTEND;TZID=America/New_York:20240303T160000
DTSTAMP:20260423T061411
CREATED:20240130T001343Z
LAST-MODIFIED:20240130T001344Z
UID:11790-1709470800-1709481600@www.infotetquebec.com
SUMMARY:Coaticook / Indoor swimming pool
DESCRIPTION:Come swim at the Coaticook pool! \nAll you need to bring is : \nSwimsuit \nTowel \nFREE SUNDAYS\, 1:00 TO 4:00 P.M. \n+1 873 662-2630 \nActi-Sports MRC de Coaticook \n497 Rue Saint-Jean-Baptiste\, \nCoaticook
URL:https://www.infotetquebec.com/en/event/coaticook-indoor-swimming-pool-5/
LOCATION:Acti-Sports MRC de Coaticook\, 497 Rue Saint-Jean-Baptiste\, Coaticook\, Québec\, Canada
CATEGORIES:Cultural or sports activity
END:VEVENT
BEGIN:VEVENT
DTSTART;TZID=America/New_York:20240302T190000
DTEND;TZID=America/New_York:20240302T220000
DTSTAMP:20260423T061411
CREATED:20240205T183314Z
LAST-MODIFIED:20240205T183506Z
UID:11928-1709406000-1709416800@www.infotetquebec.com
SUMMARY:Val-des-Sources / Soccer
DESCRIPTION:
URL:https://www.infotetquebec.com/en/event/val-des-sources-soccer-4/
LOCATION:ÉCOLEL’ESCALE – GIMNACIO\, 430\, 5E AV. VAL-DES-SOURCES\, Val-des-Sources\, Québec\, J1T 1X2\, Canada
CATEGORIES:soccer
END:VEVENT
BEGIN:VEVENT
DTSTART;TZID=America/New_York:20240302T100000
DTEND;TZID=America/New_York:20240302T130000
DTSTAMP:20260423T061411
CREATED:20240216T201627Z
LAST-MODIFIED:20240216T201627Z
UID:12616-1709373600-1709384400@www.infotetquebec.com
SUMMARY:Saint-Eustache / Sugar shack
DESCRIPTION:
URL:https://www.infotetquebec.com/en/event/saint-eustache-sugar-shack/
LOCATION:1050 Bd Arthur-Sauvé\, Saint-Eustache\, Québec\, Canada
CATEGORIES:Cultural or sports activity
END:VEVENT
BEGIN:VEVENT
DTSTART;TZID=America/New_York:20240301T194500
DTEND;TZID=America/New_York:20240301T210000
DTSTAMP:20260423T061411
CREATED:20240205T201148Z
LAST-MODIFIED:20240205T201913Z
UID:12072-1709322300-1709326800@www.infotetquebec.com
SUMMARY:Coaticook / Soccer
DESCRIPTION:
URL:https://www.infotetquebec.com/en/event/coaticook-soccer-9/
LOCATION:Acti-Sports MRC de Coaticook\, 497 Rue Saint-Jean-Baptiste\, Coaticook\, Québec\, Canada
CATEGORIES:soccer
END:VEVENT
BEGIN:VEVENT
DTSTART;TZID=America/New_York:20240229T193000
DTEND;TZID=America/New_York:20240229T203000
DTSTAMP:20260423T061411
CREATED:20240216T165204Z
LAST-MODIFIED:20240216T165204Z
UID:12586-1709235000-1709238600@www.infotetquebec.com
SUMMARY:Online / Rendezvous with health: How do I get a medical consultation in Quebec?
DESCRIPTION:To help you learn how to take care of your physical and mental health\, CAFLA organizes a virtual version of the “Rendezvous with Health”\, where every Thursday at 7.30pm\, a live session is broadcast to address very important topics and answer your questions. \nVisit the “Trabajadores temporales CAFLA” Facebook page to take part: https://www.facebook.com/PTET.CAFLA
URL:https://www.infotetquebec.com/en/event/online-rendezvous-with-health-how-do-i-get-a-medical-consultation-in-quebec/
LOCATION:En ligne
CATEGORIES:Information session
END:VEVENT
BEGIN:VEVENT
DTSTART;TZID=America/New_York:20240227T180000
DTEND;TZID=America/New_York:20240227T190000
DTSTAMP:20260423T061411
CREATED:20240212T221932Z
LAST-MODIFIED:20240212T222426Z
UID:12428-1709056800-1709060400@www.infotetquebec.com
SUMMARY:Coaticook / CIGN FM 96\,7 – Radio coopérative de Coaticook « Today we speak Spanish »
DESCRIPTION:
URL:https://www.infotetquebec.com/en/event/coaticook-cign-fm-967-radio-cooperative-de-coaticook-today-we-speak-spanish-3/
LOCATION:À la radio\, CIGN FM 96\,7\, Coaticook\, Québec\, Canada
CATEGORIES:Information session
END:VEVENT
BEGIN:VEVENT
DTSTART;TZID=America/New_York:20240225T140000
DTEND;TZID=America/New_York:20240225T160000
DTSTAMP:20260423T061411
CREATED:20240205T215918Z
LAST-MODIFIED:20240205T220125Z
UID:12207-1708869600-1708876800@www.infotetquebec.com
SUMMARY:Coaticook / Basketball
DESCRIPTION:
URL:https://www.infotetquebec.com/en/event/coaticook-basketball-7/
LOCATION:Acti-Sports MRC de Coaticook\, 497 Rue Saint-Jean-Baptiste\, Coaticook\, Québec\, Canada
CATEGORIES:basketball
END:VEVENT
BEGIN:VEVENT
DTSTART;TZID=America/New_York:20240225T130000
DTEND;TZID=America/New_York:20240225T160000
DTSTAMP:20260423T061411
CREATED:20240130T000749Z
LAST-MODIFIED:20240130T000749Z
UID:11777-1708866000-1708876800@www.infotetquebec.com
SUMMARY:Coaticook / Indoor swimming pool
DESCRIPTION:Come swim at the Coaticook pool! \nAll you need to bring is : \nSwimsuit \nTowel \nFREE SUNDAYS\, 1:00 TO 4:00 P.M. \n+1 873 662-2630 \nActi-Sports MRC de Coaticook \n497 Rue Saint-Jean-Baptiste\, \nCoaticook
URL:https://www.infotetquebec.com/en/event/coaticook-indoor-swimming-pool-4/
LOCATION:Acti-Sports MRC de Coaticook\, 497 Rue Saint-Jean-Baptiste\, Coaticook\, Québec\, Canada
CATEGORIES:Cultural or sports activity
END:VEVENT
BEGIN:VEVENT
DTSTART;TZID=America/New_York:20240224T190000
DTEND;TZID=America/New_York:20240224T220000
DTSTAMP:20260423T061411
CREATED:20240205T182524Z
LAST-MODIFIED:20240205T183028Z
UID:11916-1708801200-1708812000@www.infotetquebec.com
SUMMARY:Val-des-Sources / Soccer
DESCRIPTION:
URL:https://www.infotetquebec.com/en/event/val-des-sources-soccer-3/
LOCATION:ÉCOLEL’ESCALE – GIMNACIO\, 430\, 5E AV. VAL-DES-SOURCES\, Val-des-Sources\, Québec\, J1T 1X2\, Canada
CATEGORIES:soccer
END:VEVENT
BEGIN:VEVENT
DTSTART;TZID=America/New_York:20240224T090000
DTEND;TZID=America/New_York:20240224T110000
DTSTAMP:20260423T061411
CREATED:20240216T170754Z
LAST-MODIFIED:20240216T170754Z
UID:12603-1708765200-1708772400@www.infotetquebec.com
SUMMARY:Sainte-Thérèse / Rendezvous with health (CAFLA)
DESCRIPTION:
URL:https://www.infotetquebec.com/en/event/sainte-therese-rendezvous-with-health-cafla/
LOCATION:Maison du citoyen\, 37 rue Turgeon\, salle A\, Sainte-Thérèse\, Québec\, J7E 3H2
CATEGORIES:Information session
END:VEVENT
BEGIN:VEVENT
DTSTART;TZID=America/New_York:20240223T194500
DTEND;TZID=America/New_York:20240223T210000
DTSTAMP:20260423T061411
CREATED:20240205T195015Z
LAST-MODIFIED:20240205T195703Z
UID:12027-1708717500-1708722000@www.infotetquebec.com
SUMMARY:Coaticook / Soccer
DESCRIPTION:
URL:https://www.infotetquebec.com/en/event/coaticook-soccer-8/
LOCATION:Acti-Sports MRC de Coaticook\, 497 Rue Saint-Jean-Baptiste\, Coaticook\, Québec\, Canada
CATEGORIES:bowling night
END:VEVENT
BEGIN:VEVENT
DTSTART;TZID=America/New_York:20240222T193000
DTEND;TZID=America/New_York:20240222T203000
DTSTAMP:20260423T061411
CREATED:20240216T165620Z
LAST-MODIFIED:20240216T165620Z
UID:12590-1708630200-1708633800@www.infotetquebec.com
SUMMARY:Online / Rendezvous with health: Financial stress and mental health. Bonus: TAX RETURN
DESCRIPTION:To help you learn how to take care of your physical and mental health\, CAFLA organizes a virtual version of the “Rendezvous with Health”\, where every Thursday at 7.30pm\, a live session is broadcast to address very important topics and answer your questions. \nVisit the “Trabajadores temporales CAFLA” Facebook page to take part: https://www.facebook.com/PTET.CAFLA
URL:https://www.infotetquebec.com/en/event/online-rendezvous-with-health-financial-stress-and-mental-health-bonus-tax-return/
LOCATION:En ligne
CATEGORIES:Information session
END:VEVENT
BEGIN:VEVENT
DTSTART;TZID=America/New_York:20240220T180000
DTEND;TZID=America/New_York:20240220T190000
DTSTAMP:20260423T061411
CREATED:20240212T221428Z
LAST-MODIFIED:20240212T221428Z
UID:12418-1708452000-1708455600@www.infotetquebec.com
SUMMARY:Coaticook / CIGN FM 96\,7 – Radio coopérative de Coaticook « Today we speak Spanish »
DESCRIPTION:
URL:https://www.infotetquebec.com/en/event/coaticook-cign-fm-967-radio-cooperative-de-coaticook-today-we-speak-spanish-2/
LOCATION:À la radio\, CIGN FM 96\,7\, Coaticook\, Québec\, Canada
CATEGORIES:Information session
END:VEVENT
BEGIN:VEVENT
DTSTART;TZID=America/New_York:20240218T140000
DTEND;TZID=America/New_York:20240218T160000
DTSTAMP:20260423T061411
CREATED:20240205T215413Z
LAST-MODIFIED:20240205T215739Z
UID:12193-1708264800-1708272000@www.infotetquebec.com
SUMMARY:Coaticook / Basketball
DESCRIPTION:
URL:https://www.infotetquebec.com/en/event/coaticook-basketball-6/
LOCATION:Acti-Sports MRC de Coaticook\, 497 Rue Saint-Jean-Baptiste\, Coaticook\, Québec\, Canada
CATEGORIES:basketball
END:VEVENT
BEGIN:VEVENT
DTSTART;TZID=America/New_York:20240218T130000
DTEND;TZID=America/New_York:20240218T160000
DTSTAMP:20260423T061411
CREATED:20240130T000112Z
LAST-MODIFIED:20240130T000113Z
UID:11764-1708261200-1708272000@www.infotetquebec.com
SUMMARY:Coaticook / Indoor swimming pool
DESCRIPTION:Come swim at the Coaticook pool! \nAll you need to bring is : \nSwimsuit \nTowel \nFREE SUNDAYS\, 1:00 TO 4:00 P.M. \n+1 873 662-2630 \nActi-Sports MRC de Coaticook \n497 Rue Saint-Jean-Baptiste\, \nCoaticook
URL:https://www.infotetquebec.com/en/event/coaticook-indoor-swimming-pool-3/
LOCATION:Acti-Sports MRC de Coaticook\, 497 Rue Saint-Jean-Baptiste\, Coaticook\, Québec\, Canada
CATEGORIES:Cultural or sports activity
END:VEVENT
BEGIN:VEVENT
DTSTART;TZID=America/New_York:20240217T190000
DTEND;TZID=America/New_York:20240217T220000
DTSTAMP:20260423T061411
CREATED:20240205T181842Z
LAST-MODIFIED:20240205T181842Z
UID:11905-1708196400-1708207200@www.infotetquebec.com
SUMMARY:Val-des-Sources / Soccer
DESCRIPTION:
URL:https://www.infotetquebec.com/en/event/val-des-sources-soccer-2/
LOCATION:ÉCOLEL’ESCALE – GIMNACIO\, 430\, 5E AV. VAL-DES-SOURCES\, Val-des-Sources\, Québec\, J1T 1X2\, Canada
CATEGORIES:soccer
END:VEVENT
BEGIN:VEVENT
DTSTART;VALUE=DATE:20240217
DTEND;VALUE=DATE:20240218
DTSTAMP:20260423T061411
CREATED:20240125T193939Z
LAST-MODIFIED:20240125T193939Z
UID:11395-1708128000-1708214399@www.infotetquebec.com
SUMMARY:Québec / A day at Village vacances Valcartier
DESCRIPTION:For temporary foreign workers with closed permits of less than one year.\nWhat’s new? Snow sliding and snow rafting\nWhen? February 17\, 2024\nWhy? This day is an opportunity to get away from routine\, enjoy winter and meet new people.\nIf you’re interested\, contact Samantha Giroux at sgiroux@centremultiethnique or by WhatsApp + 1 418 906-8222. We’ll hold a brief information session on the clothing you need for the activity.\nSee you there!
URL:https://www.infotetquebec.com/en/event/quebec-a-day-at-village-vacances-valcartier/
LOCATION:Village Vacances Valcartier\, 2280\, boulevard Valcartier\, Québec\, Québec\, Canada
CATEGORIES:Cultural or sports activity
ORGANIZER;CN="Centre multiethnique de Qu%C3%A9bec":MAILTO:sgiroux@centremultiethnique
END:VEVENT
BEGIN:VEVENT
DTSTART;TZID=America/New_York:20240216T194500
DTEND;TZID=America/New_York:20240216T210000
DTSTAMP:20260423T061411
CREATED:20240205T194418Z
LAST-MODIFIED:20240205T195834Z
UID:12013-1708112700-1708117200@www.infotetquebec.com
SUMMARY:Coaticook / Soccer
DESCRIPTION:
URL:https://www.infotetquebec.com/en/event/coaticook-soccer-7/
LOCATION:Acti-Sports MRC de Coaticook\, 497 Rue Saint-Jean-Baptiste\, Coaticook\, Québec\, Canada
CATEGORIES:soccer
END:VEVENT
BEGIN:VEVENT
DTSTART;TZID=America/New_York:20240216T190000
DTEND;TZID=America/New_York:20240216T220000
DTSTAMP:20260423T061411
CREATED:20240205T210541Z
LAST-MODIFIED:20240205T210542Z
UID:12161-1708110000-1708120800@www.infotetquebec.com
SUMMARY:Victoriaville / Hockey game
DESCRIPTION:
URL:https://www.infotetquebec.com/en/event/victoriaville-hockey-game/
LOCATION:Victoriaville\, QC\, Canada
CATEGORIES:Hockey
ORGANIZER;CN="Corporation de d%C3%A9veloppement %C3%A9conomique Victoriaville et sa r%C3%A9gion":MAILTO:vsanchez@cdevr.ca
END:VEVENT
BEGIN:VEVENT
DTSTART;TZID=America/New_York:20240216T183000
DTEND;TZID=America/New_York:20240216T210000
DTSTAMP:20260423T061411
CREATED:20240115T190458Z
LAST-MODIFIED:20240115T192044Z
UID:11146-1708108200-1708117200@www.infotetquebec.com
SUMMARY:Activity Soccer Athlete+!
DESCRIPTION:  \n\nDetails:  Activity Soccer Athlete+!\nDate:  Friday\, February 16\, 2024\nTime: From 6:30 pm to 9:00 pm\nCost: Free admission\nOrganiser: Intégration Compétences\nVenue:  École Madeleine-Brousseau\n\n1700 Boul Lebel\, Chambly\, QC J3L 0Z9 \nhttps://www.google.com/maps/place/1700+Bd+Lebel\,+Chambly\,+QC+J3L+0Z9/@45.4400321\,-73.3166022\,17z/data=!3m1!4b1!4m6!3m5!1s0x4cc9a8074e84478b:0xbbd67d20d1565579!8m2!3d45.4400321!4d-73.3140273!16s%2Fg%2F11f3xg3g3w?entry=ttu \n\nRegistration: by QR code\nPerson in charge of the activity: Liliana Salgado\, WhatsApp 514 434 3642\, lilianasalgado@integrationcompetences.ca\n\n 
URL:https://www.infotetquebec.com/en/event/activity-soccer-athlete/
LOCATION:École Madeleine-Brousseau\, 1700 Boul Lebel\, Chambly\, Québec\, QC J3L 0Z9\, Canada
CATEGORIES:Cultural or sports activity,soccer
ATTACH;FMTTYPE=image/png:https://www.infotetquebec.com/wp-content/uploads/2024/01/Soccer-16-fevrier_ENG.png
ORGANIZER;CN="Int%C3%A9gration comp%C3%A9tences":MAILTO:lilianasalgado@integrationcompetences.ca
END:VEVENT
BEGIN:VEVENT
DTSTART;TZID=America/New_York:20240213T180000
DTEND;TZID=America/New_York:20240213T190000
DTSTAMP:20260423T061411
CREATED:20240212T220157Z
LAST-MODIFIED:20240212T222012Z
UID:12397-1707847200-1707850800@www.infotetquebec.com
SUMMARY:Coaticook / CIGN FM 96\,7 - Radio coopérative de Coaticook « Today we speak Spanish »
DESCRIPTION:
URL:https://www.infotetquebec.com/en/event/coaticook-cign-fm-967-radio-cooperative-de-coaticook-today-we-speak-spanish/
LOCATION:À la radio\, CIGN FM 96\,7\, Coaticook\, Québec\, Canada
CATEGORIES:Information session
END:VEVENT
END:VCALENDAR