BEGIN:VCALENDAR
VERSION:2.0
PRODID:-//Infotetquebec - ECPv6.15.20//NONSGML v1.0//EN
CALSCALE:GREGORIAN
METHOD:PUBLISH
X-WR-CALNAME:Infotetquebec
X-ORIGINAL-URL:https://www.infotetquebec.com/en/
X-WR-CALDESC:Events for Infotetquebec
REFRESH-INTERVAL;VALUE=DURATION:PT1H
X-Robots-Tag:noindex
X-PUBLISHED-TTL:PT1H
BEGIN:VTIMEZONE
TZID:America/New_York
BEGIN:DAYLIGHT
TZOFFSETFROM:-0500
TZOFFSETTO:-0400
TZNAME:EDT
DTSTART:20220313T070000
END:DAYLIGHT
BEGIN:STANDARD
TZOFFSETFROM:-0400
TZOFFSETTO:-0500
TZNAME:EST
DTSTART:20221106T060000
END:STANDARD
BEGIN:DAYLIGHT
TZOFFSETFROM:-0500
TZOFFSETTO:-0400
TZNAME:EDT
DTSTART:20230312T070000
END:DAYLIGHT
BEGIN:STANDARD
TZOFFSETFROM:-0400
TZOFFSETTO:-0500
TZNAME:EST
DTSTART:20231105T060000
END:STANDARD
BEGIN:DAYLIGHT
TZOFFSETFROM:-0500
TZOFFSETTO:-0400
TZNAME:EDT
DTSTART:20240310T070000
END:DAYLIGHT
BEGIN:STANDARD
TZOFFSETFROM:-0400
TZOFFSETTO:-0500
TZNAME:EST
DTSTART:20241103T060000
END:STANDARD
END:VTIMEZONE
BEGIN:VEVENT
DTSTART;TZID=America/New_York:20230514T160000
DTEND;TZID=America/New_York:20230514T180000
DTSTAMP:20260424T052401
CREATED:20230428T151544Z
LAST-MODIFIED:20230428T151544Z
UID:6483-1684080000-1684087200@www.infotetquebec.com
SUMMARY:Portneuf / Soccer game
DESCRIPTION:Come play soccer at the Portneuf field (100 Paquin Street) every Sunday afternoon\n(16 h)!
URL:https://www.infotetquebec.com/en/event/portneuf-soccer-game-6/
LOCATION:100\, rue Paquin\, Portneuf\, Québec\, Canada
CATEGORIES:soccer
ATTACH;FMTTYPE=image/jpeg:https://www.infotetquebec.com/wp-content/uploads/2023/04/max-zindel-uPCTGBSrfsI-unsplash-2.jpg
END:VEVENT
BEGIN:VEVENT
DTSTART;TZID=America/New_York:20230514T103000
DTEND;TZID=America/New_York:20230514T123000
DTSTAMP:20260424T052401
CREATED:20230428T153652Z
LAST-MODIFIED:20230428T153652Z
UID:6502-1684060200-1684067400@www.infotetquebec.com
SUMMARY:Saint-Basile / Soccer game
DESCRIPTION:Come and play soccer at the Saint-Basile field (10 Place de l’Église) every Sunday in the late\nmorning (10:30 am)!
URL:https://www.infotetquebec.com/en/event/saint-basile-soccer-game-2/
LOCATION:10\, place de l’Église\, Saint-Basile\, Portneuf\, Québec\, Canada
CATEGORIES:soccer
ATTACH;FMTTYPE=image/jpeg:https://www.infotetquebec.com/wp-content/uploads/2023/04/max-zindel-uPCTGBSrfsI-unsplash-2.jpg
END:VEVENT
BEGIN:VEVENT
DTSTART;TZID=America/New_York:20230514T100000
DTEND;TZID=America/New_York:20230514T120000
DTSTAMP:20260424T052401
CREATED:20230504T144739Z
LAST-MODIFIED:20230504T144739Z
UID:6814-1684058400-1684065600@www.infotetquebec.com
SUMMARY:Sherbrooke / Beach volley
DESCRIPTION:Come play beach volleyball in Sherbrooke! \nThe activity is free.
URL:https://www.infotetquebec.com/en/event/sherbrooke-beach-volley/
LOCATION:Parc Atto-Beaver\, RUE ST. FRANCIS\, SHERBROOKE\, Québec\, JIM OB3
CATEGORIES:Cultural or sports activity
ATTACH;FMTTYPE=image/png:https://www.infotetquebec.com/wp-content/uploads/2023/05/EOS-Volleyball-de-plage-Sherbrooke.png
END:VEVENT
BEGIN:VEVENT
DTSTART;TZID=America/New_York:20230513T130000
DTEND;TZID=America/New_York:20230513T170000
DTSTAMP:20260424T052401
CREATED:20230504T132556Z
LAST-MODIFIED:20230504T132556Z
UID:6765-1683982800-1683997200@www.infotetquebec.com
SUMMARY:Granby / Afternoon at the zoo
DESCRIPTION:Free activity for temporary foreign workers! \nReservations at +1 873 662-2630
URL:https://www.infotetquebec.com/en/event/granby-afternoon-at-the-zoo/
LOCATION:1050 boul David-Bouchard N\, Granby\, Québec\, J2H0Y6\, Canada
CATEGORIES:Cultural or sports activity
ATTACH;FMTTYPE=image/png:https://www.infotetquebec.com/wp-content/uploads/2023/05/EOS-Apres-midi-Zoo-Granby-Es.png
END:VEVENT
BEGIN:VEVENT
DTSTART;TZID=America/New_York:20230513T110000
DTEND;TZID=America/New_York:20230513T140000
DTSTAMP:20260424T052401
CREATED:20230504T143012Z
LAST-MODIFIED:20230504T143012Z
UID:6798-1683975600-1683986400@www.infotetquebec.com
SUMMARY:Sherbrooke / Round table and lunch
DESCRIPTION:Take part in the intercultural dialogue space! \nRegistration required: WhatsApp + 1 872 662-2630
URL:https://www.infotetquebec.com/en/event/sherbrooke-round-table-and-lunch/
LOCATION:Pavillon Armand-Nadeau salle 103\, 220\, rue Marchant\, Sherbrooke\, Québec\, J1J3V2\, Canada
CATEGORIES:Cultural or sports activity
ATTACH;FMTTYPE=image/png:https://www.infotetquebec.com/wp-content/uploads/2023/05/EOS-Table-ronde-et-repas-Sherbrooke-Fr-QR.png
END:VEVENT
BEGIN:VEVENT
DTSTART;TZID=America/New_York:20230512T193000
DTEND;TZID=America/New_York:20230512T230000
DTSTAMP:20260424T052401
CREATED:20230504T151121Z
LAST-MODIFIED:20230504T151121Z
UID:6824-1683919800-1683932400@www.infotetquebec.com
SUMMARY:Waterville / Traditional dance night
DESCRIPTION:Come and dance with us! \nReserve your place at + 1 873 662-2630 or at jasmin.chabot@aide.org.
URL:https://www.infotetquebec.com/en/event/waterville-traditional-dance-night/
LOCATION:30 rue Compton O\, Waterville\, Québec\, J0B 3H0\, Canada
CATEGORIES:Cultural or sports activity
ATTACH;FMTTYPE=image/png:https://www.infotetquebec.com/wp-content/uploads/2023/05/EOS-Soiree-danse-Coaticook-Es.png
END:VEVENT
BEGIN:VEVENT
DTSTART;TZID=America/New_York:20230512T180000
DTEND;TZID=America/New_York:20230512T200000
DTSTAMP:20260424T052401
CREATED:20230428T140930Z
LAST-MODIFIED:20230428T140930Z
UID:6465-1683914400-1683921600@www.infotetquebec.com
SUMMARY:Portneuf / Soccer game
DESCRIPTION:Come play soccer at the Saint-Marc-des-Carrières field (1600 Bona-Dussault Boulevard) every\nFridays (6 p.m.)!
URL:https://www.infotetquebec.com/en/event/portneuf-soccer-game-2/
LOCATION:1600 boul. Bona-Dussault\, Saint-Marc-des-Carrières\, Québec\, G0A 4B0\, Canada
CATEGORIES:soccer
ATTACH;FMTTYPE=image/jpeg:https://www.infotetquebec.com/wp-content/uploads/2023/04/max-zindel-uPCTGBSrfsI-unsplash-2.jpg
END:VEVENT
BEGIN:VEVENT
DTSTART;TZID=America/New_York:20230507T160000
DTEND;TZID=America/New_York:20230507T180000
DTSTAMP:20260424T052401
CREATED:20230428T145447Z
LAST-MODIFIED:20230428T152530Z
UID:6479-1683475200-1683482400@www.infotetquebec.com
SUMMARY:Portneuf / Soccer game
DESCRIPTION:Come play soccer at the Portneuf field (100 Paquin Street) every Sunday afternoon\n(16 h)!
URL:https://www.infotetquebec.com/en/event/portneuf-soccer-game-5/
LOCATION:100\, rue Paquin\, Portneuf\, Québec\, Canada
CATEGORIES:soccer
ATTACH;FMTTYPE=image/jpeg:https://www.infotetquebec.com/wp-content/uploads/2023/04/max-zindel-uPCTGBSrfsI-unsplash-2.jpg
END:VEVENT
BEGIN:VEVENT
DTSTART;TZID=America/New_York:20230507T103000
DTEND;TZID=America/New_York:20230507T123000
DTSTAMP:20260424T052401
CREATED:20230428T153415Z
LAST-MODIFIED:20230428T154747Z
UID:6500-1683455400-1683462600@www.infotetquebec.com
SUMMARY:Saint-Basile / Soccer game
DESCRIPTION:Come and play soccer at the Saint-Basile field (10 Place de l’Église) every Sunday in the late\nmorning (10:30 am)!
URL:https://www.infotetquebec.com/en/event/saint-basile-soccer-game/
LOCATION:10\, place de l’Église\, Saint-Basile\, Portneuf\, Québec\, Canada
CATEGORIES:soccer
ATTACH;FMTTYPE=image/jpeg:https://www.infotetquebec.com/wp-content/uploads/2023/04/max-zindel-uPCTGBSrfsI-unsplash-2.jpg
END:VEVENT
BEGIN:VEVENT
DTSTART;TZID=America/New_York:20230505T180000
DTEND;TZID=America/New_York:20230505T200000
DTSTAMP:20260424T052401
CREATED:20230428T140313Z
LAST-MODIFIED:20230428T145503Z
UID:6459-1683309600-1683316800@www.infotetquebec.com
SUMMARY:Portneuf / Soccer game
DESCRIPTION:Come play soccer at the Saint-Marc-des-Carrières field (1600 Bona-Dussault Boulevard) every\nFridays (6 p.m.)!
URL:https://www.infotetquebec.com/en/event/portneuf-soccer-game/
LOCATION:1600 boul. Bona-Dussault\, Saint-Marc-des-Carrières\, Québec\, G0A 4B0\, Canada
CATEGORIES:soccer
ATTACH;FMTTYPE=image/jpeg:https://www.infotetquebec.com/wp-content/uploads/2023/04/max-zindel-uPCTGBSrfsI-unsplash-2.jpg
END:VEVENT
BEGIN:VEVENT
DTSTART;TZID=America/New_York:20230505T090000
DTEND;TZID=America/New_York:20230505T130000
DTSTAMP:20260424T052401
CREATED:20230504T133506Z
LAST-MODIFIED:20230504T133506Z
UID:6774-1683277200-1683291600@www.infotetquebec.com
SUMMARY:Sherbrooke / Tamales collective kitchen
DESCRIPTION:Come cook (and eat!) some great meat and chicken tamales! \nFor more information:\nWhatsApp +1 873 662-2630
URL:https://www.infotetquebec.com/en/event/sherbrooke-tamales-collective-kitchen/
LOCATION:2050 boul de Portland\, Sherbrooke\, Québec\, J1J 1T9\, Canada
CATEGORIES:Cultural or sports activity
ATTACH;FMTTYPE=image/png:https://www.infotetquebec.com/wp-content/uploads/2023/05/EOS-cuisine-collective-Es.png
END:VEVENT
BEGIN:VEVENT
DTSTART;TZID=America/New_York:20230430T103000
DTEND;TZID=America/New_York:20230430T140000
DTSTAMP:20260424T052401
CREATED:20230412T204919Z
LAST-MODIFIED:20230412T204919Z
UID:6217-1682850600-1682863200@www.infotetquebec.com
SUMMARY:Sugar shack
DESCRIPTION:Don’t miss the Sugar Shack\, a tradition where you can taste maple syrup in all its forms! \nLimited places \nInformation and reservations \nWhatsApp : + 1 873 662-2630
URL:https://www.infotetquebec.com/en/event/sugar-shack-3/
LOCATION:Cabane à sucre\, 323 chemin Smith\, Cookshire-Eaton\, Québec\, J0B 1M0\, Canada
CATEGORIES:Cultural or sports activity
ATTACH;FMTTYPE=image/png:https://www.infotetquebec.com/wp-content/uploads/2023/04/0-3.png
END:VEVENT
BEGIN:VEVENT
DTSTART;TZID=America/New_York:20230430T100000
DTEND;TZID=America/New_York:20230430T120000
DTSTAMP:20260424T052401
CREATED:20230412T212343Z
LAST-MODIFIED:20230412T212343Z
UID:6246-1682848800-1682856000@www.infotetquebec.com
SUMMARY:Soccer game
DESCRIPTION:Come and play soccer every Sunday in April at the Saint-Antoine de Sherbrooke school gym! \nInformation and reservation \nElizabeth Morales \nWhatsApp: +1 (873) 662-2699 \nAndrea Contreras \nWhatsApp: +1 (873) 662-2699
URL:https://www.infotetquebec.com/en/event/soccer-game-13/
LOCATION:Gymnase de l’école Saint-Antoine\, 16 rue Church Lennoxville\, Sherbrooke\, Québec\, J1M 1S9\, Canada
CATEGORIES:soccer
ATTACH;FMTTYPE=image/png:https://www.infotetquebec.com/wp-content/uploads/2023/04/0-5.png
END:VEVENT
BEGIN:VEVENT
DTSTART;TZID=America/New_York:20230429T191500
DTEND;TZID=America/New_York:20230429T210000
DTSTAMP:20260424T052401
CREATED:20230425T210356Z
LAST-MODIFIED:20230425T210708Z
UID:6389-1682795700-1682802000@www.infotetquebec.com
SUMMARY:Val-des-Sources / Soccer game
DESCRIPTION:Come and play soccer at the Escale-gym ! \nInformations and reservation  \nWhatsApp : +1 (873) 662-2630 \n 
URL:https://www.infotetquebec.com/en/event/val-des-sources-match-de-soccer/
LOCATION:Gymnase de l’École L’Escale\, 430\, 5e avenue\, Val-des-Sources\, Québec\, J1T 1X2\, Canada
CATEGORIES:soccer
ATTACH;FMTTYPE=image/png:https://www.infotetquebec.com/wp-content/uploads/2023/04/Soccer-VdS-Fr.png
END:VEVENT
BEGIN:VEVENT
DTSTART;TZID=America/New_York:20230429T130000
DTEND;TZID=America/New_York:20230429T160000
DTSTAMP:20260424T052401
CREATED:20230412T210644Z
LAST-MODIFIED:20230412T210856Z
UID:6229-1682773200-1682784000@www.infotetquebec.com
SUMMARY:Soccer game
DESCRIPTION:Come and play soccer at the Grandby Multi-sports hall! \nInformation and reservation \nElizabeth Morales \nWhatsApp: +1 (873) 662-2699 \nAndrea Contreras \nWhatsApp: +1 (873) 662-2699
URL:https://www.infotetquebec.com/en/event/soccer-game-10/
LOCATION:Salle Multi-sports de Granby\, 55 rue Robitaille\, Granby\, Québec\, J2H 0R7\, Canada
CATEGORIES:soccer
ATTACH;FMTTYPE=image/png:https://www.infotetquebec.com/wp-content/uploads/2023/04/0-4.png
END:VEVENT
BEGIN:VEVENT
DTSTART;TZID=America/New_York:20230429T100000
DTEND;TZID=America/New_York:20230429T120000
DTSTAMP:20260424T052401
CREATED:20230412T203040Z
LAST-MODIFIED:20230412T203219Z
UID:6198-1682762400-1682769600@www.infotetquebec.com
SUMMARY:Basketball game
DESCRIPTION:Come play basketball! Games are held every Saturday at Desranleau School in Sherbrooke. \nWhatsApp : +1(873)662-2630 \njasmin.chabot@aide.org
URL:https://www.infotetquebec.com/en/event/basketball-game-6/
LOCATION:École Desranleau\, 1970 rue Galt E\, Sherbrooke\, Québec\, J1G 3J1\, Canada
CATEGORIES:basketball
ATTACH;FMTTYPE=image/png:https://www.infotetquebec.com/wp-content/uploads/2023/04/0.png
END:VEVENT
BEGIN:VEVENT
DTSTART;TZID=America/New_York:20230428T190000
DTEND;TZID=America/New_York:20230428T230000
DTSTAMP:20260424T052401
CREATED:20230412T213821Z
LAST-MODIFIED:20230425T195434Z
UID:6254-1682708400-1682722800@www.infotetquebec.com
SUMMARY:Val-des-Sources / Board games and meal
DESCRIPTION:AIDE invites you to an evening of board games and to share a meal in Val-des-Sources! \nReserve your spot at + 1 873 662-2630.
URL:https://www.infotetquebec.com/en/event/board-games-and-meal/
LOCATION:493 rue Principale\, St-Georges de Windsor\, Québec\, J0A1J0\, Canada
CATEGORIES:bowling night
ATTACH;FMTTYPE=image/png:https://www.infotetquebec.com/wp-content/uploads/2023/04/EOS-Jeux-de-societe-VdS-Fr.png
END:VEVENT
BEGIN:VEVENT
DTSTART;TZID=America/New_York:20230427T140000
DTEND;TZID=America/New_York:20230427T180000
DTSTAMP:20260424T052401
CREATED:20230322T175715Z
LAST-MODIFIED:20230322T175715Z
UID:6112-1682604000-1682618400@www.infotetquebec.com
SUMMARY:Legal Information Clinic - Montreal
DESCRIPTION:The Immigrant Workers Centre holds legal information clinics every Tuesday and Thursday in Montreal between 2:00 and 6:00 p.m. \nMake an appointment or drop in: \ninfo@iwc-cti.ca\,\nprivate message on the Iwc-Cti Facebook page\nWhatsApp: +1 438 507 2566\nleave a message at 514 242-2111\nIndividual support\, group workshops on labour standards or health and safety\, and personalized coaching.
URL:https://www.infotetquebec.com/en/event/legal-information-clinic-montreal-10/
LOCATION:4755\, Van Horne Av.\, Office/Bureau/Oficina #110 Montréal\, QC H3W 1H8\, Canada
CATEGORIES:Information session
ATTACH;FMTTYPE=image/png:https://www.infotetquebec.com/wp-content/uploads/2023/03/IWC-CTI_logo-fr-web-retina.png
END:VEVENT
BEGIN:VEVENT
DTSTART;TZID=America/New_York:20230425T140000
DTEND;TZID=America/New_York:20230425T180000
DTSTAMP:20260424T052401
CREATED:20230322T175422Z
LAST-MODIFIED:20230322T175422Z
UID:6108-1682431200-1682445600@www.infotetquebec.com
SUMMARY:Legal Information Clinic - Montreal
DESCRIPTION:The Immigrant Workers Centre holds legal information clinics every Tuesday and Thursday in Montreal between 2:00 and 6:00 p.m. \nMake an appointment or drop in: \ninfo@iwc-cti.ca\,\nprivate message on the Iwc-Cti Facebook page\nWhatsApp: +1 438 507 2566\nleave a message at 514 242-2111\nIndividual support\, group workshops on labour standards or health and safety\, and personalized coaching.
URL:https://www.infotetquebec.com/en/event/legal-information-clinic-montreal-9/
LOCATION:4755\, Van Horne Av.\, Office/Bureau/Oficina #110 Montréal\, QC H3W 1H8\, Canada
CATEGORIES:Information session
ATTACH;FMTTYPE=image/png:https://www.infotetquebec.com/wp-content/uploads/2023/03/IWC-CTI_logo-fr-web-retina.png
END:VEVENT
BEGIN:VEVENT
DTSTART;TZID=America/New_York:20230423T100000
DTEND;TZID=America/New_York:20230423T120000
DTSTAMP:20260424T052401
CREATED:20230412T212042Z
LAST-MODIFIED:20230412T212042Z
UID:6242-1682244000-1682251200@www.infotetquebec.com
SUMMARY:Soccer game
DESCRIPTION:Come and play soccer every Sunday in April at the Saint-Antoine de Sherbrooke school gym! \nInformation and reservation \nElizabeth Morales \nWhatsApp: +1 (873) 662-2699 \nAndrea Contreras \nWhatsApp: +1 (873) 662-2699
URL:https://www.infotetquebec.com/en/event/soccer-game-12/
LOCATION:Gymnase de l’école Saint-Antoine\, 16 rue Church Lennoxville\, Sherbrooke\, Québec\, J1M 1S9\, Canada
CATEGORIES:soccer
ATTACH;FMTTYPE=image/png:https://www.infotetquebec.com/wp-content/uploads/2023/04/0-5.png
END:VEVENT
BEGIN:VEVENT
DTSTART;TZID=America/New_York:20230422T190000
DTEND;TZID=America/New_York:20230422T210000
DTSTAMP:20260424T052401
CREATED:20230412T204229Z
LAST-MODIFIED:20230412T204229Z
UID:6209-1682190000-1682197200@www.infotetquebec.com
SUMMARY:Bowling
DESCRIPTION:Bowling Night in Stanstead \nLimited seating \nInformation and reservations \nWhatsApp : +1 873 662-2630
URL:https://www.infotetquebec.com/en/event/bowling-2/
LOCATION:Centre récréatif Stanstead\, 160 rue Railroad\, Standstead\, Québec\, J0B 3E2\, Canada
CATEGORIES:bowling night
ATTACH;FMTTYPE=image/png:https://www.infotetquebec.com/wp-content/uploads/2023/04/0-1.png
END:VEVENT
BEGIN:VEVENT
DTSTART;TZID=America/New_York:20230422T100000
DTEND;TZID=America/New_York:20230422T120000
DTSTAMP:20260424T052401
CREATED:20230412T202304Z
LAST-MODIFIED:20230412T202843Z
UID:6189-1682157600-1682164800@www.infotetquebec.com
SUMMARY:Basketball game
DESCRIPTION:Come play basketball! Games are held every Saturday at École Desranleau in Sherbrooke. \nWhatsApp: +1(873)662-2630 \njasmin.chabot@aide.org
URL:https://www.infotetquebec.com/en/event/match-de-basketball/
LOCATION:École Desranleau\, 1970 rue Galt E\, Sherbrooke\, Québec\, J1G 3J1\, Canada
CATEGORIES:basketball
ATTACH;FMTTYPE=image/png:https://www.infotetquebec.com/wp-content/uploads/2023/04/0.png
END:VEVENT
BEGIN:VEVENT
DTSTART;TZID=America/New_York:20230420T140000
DTEND;TZID=America/New_York:20230420T180000
DTSTAMP:20260424T052401
CREATED:20230322T175049Z
LAST-MODIFIED:20230322T175102Z
UID:6103-1681999200-1682013600@www.infotetquebec.com
SUMMARY:Legal Information Clinic - Montreal
DESCRIPTION:The Immigrant Workers Centre holds legal information clinics every Tuesday and Thursday in Montreal between 2:00 and 6:00 p.m. \nMake an appointment or drop in: \ninfo@iwc-cti.ca\,private message on the Iwc-Cti Facebook pageWhatsApp: +1 438 507 2566leave a message at 514 242-2111Individual support\, group workshops on labour standards or health and safety\, and personalized coaching.
URL:https://www.infotetquebec.com/en/event/legal-information-clinic-montreal-8/
LOCATION:4755\, Van Horne Av.\, Office/Bureau/Oficina #110 Montréal\, QC H3W 1H8\, Canada
CATEGORIES:Information session
ATTACH;FMTTYPE=image/png:https://www.infotetquebec.com/wp-content/uploads/2023/03/IWC-CTI_logo-fr-web-retina.png
END:VEVENT
BEGIN:VEVENT
DTSTART;TZID=America/New_York:20230418T140000
DTEND;TZID=America/New_York:20230418T180000
DTSTAMP:20260424T052401
CREATED:20230322T174654Z
LAST-MODIFIED:20230322T174654Z
UID:6099-1681826400-1681840800@www.infotetquebec.com
SUMMARY:Legal Information Clinic - Montreal
DESCRIPTION:The Immigrant Workers Centre holds legal information clinics every Tuesday and Thursday in Montreal between 2:00 and 6:00 p.m. \nMake an appointment or drop in: \ninfo@iwc-cti.ca\,\nprivate message on the Iwc-Cti Facebook page\nWhatsApp: +1 438 507 2566\nleave a message at 514 242-2111\nIndividual support\, group workshops on labour standards or health and safety\, and personalized coaching.
URL:https://www.infotetquebec.com/en/event/legal-information-clinic-montreal-7/
LOCATION:4755\, Van Horne Av.\, Office/Bureau/Oficina #110 Montréal\, QC H3W 1H8\, Canada
CATEGORIES:Information session
ATTACH;FMTTYPE=image/png:https://www.infotetquebec.com/wp-content/uploads/2023/03/IWC-CTI_logo-fr-web-retina.png
END:VEVENT
BEGIN:VEVENT
DTSTART;TZID=America/New_York:20230416T100000
DTEND;TZID=America/New_York:20230416T120000
DTSTAMP:20260424T052401
CREATED:20230412T211604Z
LAST-MODIFIED:20230412T211604Z
UID:6238-1681639200-1681646400@www.infotetquebec.com
SUMMARY:Soccer game
DESCRIPTION:Come and play soccer every Sunday in April at the Saint-Antoine de Sherbrooke school gym! \nInformation and reservation \nElizabeth Morales \nWhatsApp: +1 (873) 662-2699 \nAndrea Contreras \nWhatsApp: +1 (873) 662-2699
URL:https://www.infotetquebec.com/en/event/soccer-game-11/
LOCATION:Gymnase de l’école Saint-Antoine\, 16 rue Church Lennoxville\, Sherbrooke\, Québec\, J1M 1S9\, Canada
CATEGORIES:soccer
ATTACH;FMTTYPE=image/png:https://www.infotetquebec.com/wp-content/uploads/2023/04/0-5.png
END:VEVENT
BEGIN:VEVENT
DTSTART;TZID=America/New_York:20230415T100000
DTEND;TZID=America/New_York:20230415T120000
DTSTAMP:20260424T052401
CREATED:20230412T201524Z
LAST-MODIFIED:20230412T202630Z
UID:6179-1681552800-1681560000@www.infotetquebec.com
SUMMARY:Basketball game
DESCRIPTION:  \nCome play basketball! Games are held every Saturday at Desranleau School in Sherbrooke. \nWhatsApp : +1(873)662-2630 \njasmin.chabot@aide.org
URL:https://www.infotetquebec.com/en/event/match-amical-de-basketball/
LOCATION:École Desranleau\, 1970 rue Galt E\, Sherbrooke\, Québec\, J1G 3J1\, Canada
CATEGORIES:basketball
ATTACH;FMTTYPE=image/png:https://www.infotetquebec.com/wp-content/uploads/2023/04/0.png
END:VEVENT
BEGIN:VEVENT
DTSTART;TZID=America/New_York:20230413T140000
DTEND;TZID=America/New_York:20230413T180000
DTSTAMP:20260424T052401
CREATED:20230322T174359Z
LAST-MODIFIED:20230322T174359Z
UID:6095-1681394400-1681408800@www.infotetquebec.com
SUMMARY:Legal Information Clinic - Montreal
DESCRIPTION:The Immigrant Workers Centre holds legal information clinics every Tuesday and Thursday in Montreal between 2:00 and 6:00 p.m. \nMake an appointment or drop in: \ninfo@iwc-cti.ca\,\nprivate message on the Iwc-Cti Facebook page\nWhatsApp: +1 438 507 2566\nleave a message at 514 242-2111\nIndividual support\, group workshops on labour standards or health and safety\, and personalized coaching.
URL:https://www.infotetquebec.com/en/event/legal-information-clinic-montreal-6/
LOCATION:4755\, Van Horne Av.\, Office/Bureau/Oficina #110 Montréal\, QC H3W 1H8\, Canada
CATEGORIES:Information session
ATTACH;FMTTYPE=image/png:https://www.infotetquebec.com/wp-content/uploads/2023/03/IWC-CTI_logo-fr-web-retina.png
END:VEVENT
BEGIN:VEVENT
DTSTART;TZID=America/New_York:20230411T140000
DTEND;TZID=America/New_York:20230411T180000
DTSTAMP:20260424T052401
CREATED:20230322T174129Z
LAST-MODIFIED:20230322T174129Z
UID:6090-1681221600-1681236000@www.infotetquebec.com
SUMMARY:Legal Information Clinic - Montreal
DESCRIPTION:The Immigrant Workers Centre holds legal information clinics every Tuesday and Thursday in Montreal between 2:00 and 6:00 p.m. \nMake an appointment or drop in: \ninfo@iwc-cti.ca\,\nprivate message on the Iwc-Cti Facebook page\nWhatsApp: +1 438 507 2566\nleave a message at 514 242-2111\nIndividual support\, group workshops on labour standards or health and safety\, and personalized coaching.
URL:https://www.infotetquebec.com/en/event/legal-information-clinic-montreal-5/
LOCATION:4755\, Van Horne Av.\, Office/Bureau/Oficina #110 Montréal\, QC H3W 1H8\, Canada
CATEGORIES:Information session
ATTACH;FMTTYPE=image/png:https://www.infotetquebec.com/wp-content/uploads/2023/03/IWC-CTI_logo-fr-web-retina.png
END:VEVENT
BEGIN:VEVENT
DTSTART;TZID=America/New_York:20230406T140000
DTEND;TZID=America/New_York:20230406T180000
DTSTAMP:20260424T052401
CREATED:20230322T173801Z
LAST-MODIFIED:20230322T175720Z
UID:6085-1680789600-1680804000@www.infotetquebec.com
SUMMARY:Legal Information Clinic - Montreal
DESCRIPTION:The Immigrant Workers Centre holds legal information clinics every Tuesday and Thursday in Montreal between 2:00 and 6:00 p.m. \nMake an appointment or drop in: \ninfo@iwc-cti.ca\,\nprivate message on the Iwc-Cti Facebook page\nWhatsApp: +1 438 507 2566\nleave a message at 514 242-2111\nIndividual support\, group workshops on labour standards or health and safety\, and personalized coaching.
URL:https://www.infotetquebec.com/en/event/legal-information-clinic-montreal-4/
LOCATION:4755\, Van Horne Av.\, Office/Bureau/Oficina #110 Montréal\, QC H3W 1H8\, Canada
CATEGORIES:Information session
END:VEVENT
BEGIN:VEVENT
DTSTART;TZID=America/New_York:20230404T140000
DTEND;TZID=America/New_York:20230404T180000
DTSTAMP:20260424T052401
CREATED:20230322T173118Z
LAST-MODIFIED:20230322T173118Z
UID:6080-1680616800-1680631200@www.infotetquebec.com
SUMMARY:Legal Information Clinic - Montreal
DESCRIPTION:The Immigrant Workers Centre holds legal information clinics every Tuesday and Thursday in Montreal between 2:00 and 6:00 p.m. \nMake an appointment or drop in: \ninfo@iwc-cti.ca\,\nprivate message on the Iwc-Cti Facebook page\nWhatsApp: +1 438 507 2566\nleave a message at 514 242-2111\nIndividual support\, group workshops on labour standards or health and safety\, and personalized coaching.
URL:https://www.infotetquebec.com/en/event/legal-information-clinic-montreal-3/
LOCATION:4755\, Van Horne Av.\, Office/Bureau/Oficina #110 Montréal\, QC H3W 1H8\, Canada
CATEGORIES:Information session
ATTACH;FMTTYPE=image/png:https://www.infotetquebec.com/wp-content/uploads/2023/03/IWC-CTI_logo-fr-web-retina.png
END:VEVENT
END:VCALENDAR