BEGIN:VCALENDAR
VERSION:2.0
PRODID:-//Infotetquebec - ECPv6.15.20//NONSGML v1.0//EN
CALSCALE:GREGORIAN
METHOD:PUBLISH
X-WR-CALNAME:Infotetquebec
X-ORIGINAL-URL:https://www.infotetquebec.com/en/
X-WR-CALDESC:Events for Infotetquebec
REFRESH-INTERVAL;VALUE=DURATION:PT1H
X-Robots-Tag:noindex
X-PUBLISHED-TTL:PT1H
BEGIN:VTIMEZONE
TZID:America/New_York
BEGIN:DAYLIGHT
TZOFFSETFROM:-0500
TZOFFSETTO:-0400
TZNAME:EDT
DTSTART:20230312T070000
END:DAYLIGHT
BEGIN:STANDARD
TZOFFSETFROM:-0400
TZOFFSETTO:-0500
TZNAME:EST
DTSTART:20231105T060000
END:STANDARD
BEGIN:DAYLIGHT
TZOFFSETFROM:-0500
TZOFFSETTO:-0400
TZNAME:EDT
DTSTART:20240310T070000
END:DAYLIGHT
BEGIN:STANDARD
TZOFFSETFROM:-0400
TZOFFSETTO:-0500
TZNAME:EST
DTSTART:20241103T060000
END:STANDARD
BEGIN:DAYLIGHT
TZOFFSETFROM:-0500
TZOFFSETTO:-0400
TZNAME:EDT
DTSTART:20250309T070000
END:DAYLIGHT
BEGIN:STANDARD
TZOFFSETFROM:-0400
TZOFFSETTO:-0500
TZNAME:EST
DTSTART:20251102T060000
END:STANDARD
END:VTIMEZONE
BEGIN:VEVENT
DTSTART;TZID=America/New_York:20240825T110000
DTEND;TZID=America/New_York:20240825T170000
DTSTAMP:20260421T072840
CREATED:20240823T192006Z
LAST-MODIFIED:20240823T192006Z
UID:15671-1724583600-1724605200@www.infotetquebec.com
SUMMARY:Ayer's Cliff - Agricultural exhibition
DESCRIPTION:Registration :\nhttps://forms.gle/DaR7njQq2kxKKmTk9
URL:https://www.infotetquebec.com/en/event/ayers-cliff-agricultural-exhibition/
LOCATION:977 rue Main\, Ayer’sCliff (QC) J3V 5J5\, Canada
CATEGORIES:Festival
END:VEVENT
BEGIN:VEVENT
DTSTART;TZID=America/New_York:20240825T120000
DTEND;TZID=America/New_York:20240825T180000
DTSTAMP:20260421T072840
CREATED:20240522T192240Z
LAST-MODIFIED:20240522T192240Z
UID:14353-1724587200-1724608800@www.infotetquebec.com
SUMMARY:Saint-Rémi / Inter-farm soccer tournament
DESCRIPTION:
URL:https://www.infotetquebec.com/en/event/saint-remi-inter-farm-soccer-tournament-12/
LOCATION:terrain de soccer Saint-Rémi\, 25 Rue saint-sauveur\, Saint-Rémi\, Québec\, JOR 2L0\, Canada
CATEGORIES:soccer
ORGANIZER;CN="Complexe X Immigration":MAILTO:scerdeline@complx-immigration.ca
END:VEVENT
END:VCALENDAR