BEGIN:VCALENDAR
VERSION:2.0
PRODID:-//Infotetquebec - ECPv6.15.20//NONSGML v1.0//EN
CALSCALE:GREGORIAN
METHOD:PUBLISH
X-ORIGINAL-URL:https://www.infotetquebec.com/en/
X-WR-CALDESC:Events for Infotetquebec
REFRESH-INTERVAL;VALUE=DURATION:PT1H
X-Robots-Tag:noindex
X-PUBLISHED-TTL:PT1H
BEGIN:VTIMEZONE
TZID:America/New_York
BEGIN:DAYLIGHT
TZOFFSETFROM:-0500
TZOFFSETTO:-0400
TZNAME:EDT
DTSTART:20230312T070000
END:DAYLIGHT
BEGIN:STANDARD
TZOFFSETFROM:-0400
TZOFFSETTO:-0500
TZNAME:EST
DTSTART:20231105T060000
END:STANDARD
BEGIN:DAYLIGHT
TZOFFSETFROM:-0500
TZOFFSETTO:-0400
TZNAME:EDT
DTSTART:20240310T070000
END:DAYLIGHT
BEGIN:STANDARD
TZOFFSETFROM:-0400
TZOFFSETTO:-0500
TZNAME:EST
DTSTART:20241103T060000
END:STANDARD
BEGIN:DAYLIGHT
TZOFFSETFROM:-0500
TZOFFSETTO:-0400
TZNAME:EDT
DTSTART:20250309T070000
END:DAYLIGHT
BEGIN:STANDARD
TZOFFSETFROM:-0400
TZOFFSETTO:-0500
TZNAME:EST
DTSTART:20251102T060000
END:STANDARD
END:VTIMEZONE
BEGIN:VEVENT
DTSTART;TZID=America/New_York:20240815T160000
DTEND;TZID=America/New_York:20240815T200000
DTSTAMP:20260421T085515
CREATED:20240816T142237Z
LAST-MODIFIED:20240816T142237Z
UID:15501-1723737600-1723752000@www.infotetquebec.com
SUMMARY:Compton / Fiesta Latina Africa
DESCRIPTION:
URL:https://www.infotetquebec.com/en/event/compton-fiesta-latina-africa/
LOCATION:MARCHÉ PUBLIC DE COMPTON\, PARC DES LIONS\, 6747 ROUTE LOUIS S. ST-LAURENT\,\, Compton\, Canada
END:VEVENT
BEGIN:VEVENT
DTSTART;TZID=America/New_York:20240815T190000
DTEND;TZID=America/New_York:20240815T203000
DTSTAMP:20260421T085515
CREATED:20240425T200449Z
LAST-MODIFIED:20240425T200449Z
UID:13699-1723748400-1723753800@www.infotetquebec.com
SUMMARY:Online / Health support group
DESCRIPTION:
URL:https://www.infotetquebec.com/en/event/online-health-support-group-8/
LOCATION:En ligne
CATEGORIES:Information session,webinar
END:VEVENT
END:VCALENDAR