BEGIN:VCALENDAR
VERSION:2.0
PRODID:-//Infotetquebec - ECPv6.15.20//NONSGML v1.0//EN
CALSCALE:GREGORIAN
METHOD:PUBLISH
X-WR-CALNAME:Infotetquebec
X-ORIGINAL-URL:https://www.infotetquebec.com/en/
X-WR-CALDESC:Events for Infotetquebec
REFRESH-INTERVAL;VALUE=DURATION:PT1H
X-Robots-Tag:noindex
X-PUBLISHED-TTL:PT1H
BEGIN:VTIMEZONE
TZID:America/New_York
BEGIN:DAYLIGHT
TZOFFSETFROM:-0500
TZOFFSETTO:-0400
TZNAME:EDT
DTSTART:20230312T070000
END:DAYLIGHT
BEGIN:STANDARD
TZOFFSETFROM:-0400
TZOFFSETTO:-0500
TZNAME:EST
DTSTART:20231105T060000
END:STANDARD
BEGIN:DAYLIGHT
TZOFFSETFROM:-0500
TZOFFSETTO:-0400
TZNAME:EDT
DTSTART:20240310T070000
END:DAYLIGHT
BEGIN:STANDARD
TZOFFSETFROM:-0400
TZOFFSETTO:-0500
TZNAME:EST
DTSTART:20241103T060000
END:STANDARD
BEGIN:DAYLIGHT
TZOFFSETFROM:-0500
TZOFFSETTO:-0400
TZNAME:EDT
DTSTART:20250309T070000
END:DAYLIGHT
BEGIN:STANDARD
TZOFFSETFROM:-0400
TZOFFSETTO:-0500
TZNAME:EST
DTSTART:20251102T060000
END:STANDARD
END:VTIMEZONE
BEGIN:VEVENT
DTSTART;TZID=America/New_York:20240813T183000
DTEND;TZID=America/New_York:20240813T200000
DTSTAMP:20260421T085300
CREATED:20240731T183152Z
LAST-MODIFIED:20240731T183153Z
UID:15195-1723573800-1723579200@www.infotetquebec.com
SUMMARY:Online / Tax information workshop in Quebec and Canada (in Spanish)
DESCRIPTION:
URL:https://www.infotetquebec.com/en/event/online-tax-information-workshop-in-quebec-and-canada-in-spanish/
LOCATION:En ligne
CATEGORIES:Information session,webinar
ORGANIZER;CN="Centre multiethnique de Qu%C3%A9bec":MAILTO:sgiroux@centremultiethnique
END:VEVENT
END:VCALENDAR