BEGIN:VCALENDAR
VERSION:2.0
PRODID:-//Infotetquebec - ECPv6.15.20//NONSGML v1.0//EN
CALSCALE:GREGORIAN
METHOD:PUBLISH
X-WR-CALNAME:Infotetquebec
X-ORIGINAL-URL:https://www.infotetquebec.com/en/
X-WR-CALDESC:Events for Infotetquebec
REFRESH-INTERVAL;VALUE=DURATION:PT1H
X-Robots-Tag:noindex
X-PUBLISHED-TTL:PT1H
BEGIN:VTIMEZONE
TZID:America/New_York
BEGIN:DAYLIGHT
TZOFFSETFROM:-0500
TZOFFSETTO:-0400
TZNAME:EDT
DTSTART:20230312T070000
END:DAYLIGHT
BEGIN:STANDARD
TZOFFSETFROM:-0400
TZOFFSETTO:-0500
TZNAME:EST
DTSTART:20231105T060000
END:STANDARD
BEGIN:DAYLIGHT
TZOFFSETFROM:-0500
TZOFFSETTO:-0400
TZNAME:EDT
DTSTART:20240310T070000
END:DAYLIGHT
BEGIN:STANDARD
TZOFFSETFROM:-0400
TZOFFSETTO:-0500
TZNAME:EST
DTSTART:20241103T060000
END:STANDARD
BEGIN:DAYLIGHT
TZOFFSETFROM:-0500
TZOFFSETTO:-0400
TZNAME:EDT
DTSTART:20250309T070000
END:DAYLIGHT
BEGIN:STANDARD
TZOFFSETFROM:-0400
TZOFFSETTO:-0500
TZNAME:EST
DTSTART:20251102T060000
END:STANDARD
END:VTIMEZONE
BEGIN:VEVENT
DTSTART;TZID=America/New_York:20240809T163000
DTEND;TZID=America/New_York:20240809T183000
DTSTAMP:20260421T072839
CREATED:20240724T142352Z
LAST-MODIFIED:20240724T142652Z
UID:15004-1723221000-1723228200@www.infotetquebec.com
SUMMARY:Donnaconna / Introducing Desjardins Accès D services
DESCRIPTION:
URL:https://www.infotetquebec.com/en/event/donnaconna-presentacion-de-los-servicios-de-acces-d-desjardins/
LOCATION:Bureaux d’Accès Travail Portneuf\, 162 Rue Notre Dame\, Donnaconna\, Québec\, G3M 1G4\, Canada
END:VEVENT
BEGIN:VEVENT
DTSTART;TZID=America/New_York:20240809T190000
DTEND;TZID=America/New_York:20240809T210000
DTSTAMP:20260421T072839
CREATED:20240807T172028Z
LAST-MODIFIED:20240807T172028Z
UID:15318-1723230000-1723237200@www.infotetquebec.com
SUMMARY:Weedon / Wrestling show
DESCRIPTION:
URL:https://www.infotetquebec.com/en/event/weedon-wrestling-show/
LOCATION:185 RUE DES ÉRABLES\, Weedon\, Québec\, JOB 3J0\, Canada
CATEGORIES:Night
END:VEVENT
END:VCALENDAR