BEGIN:VCALENDAR
VERSION:2.0
PRODID:-//Infotetquebec - ECPv6.15.20//NONSGML v1.0//EN
CALSCALE:GREGORIAN
METHOD:PUBLISH
X-WR-CALNAME:Infotetquebec
X-ORIGINAL-URL:https://www.infotetquebec.com/en/
X-WR-CALDESC:Events for Infotetquebec
REFRESH-INTERVAL;VALUE=DURATION:PT1H
X-Robots-Tag:noindex
X-PUBLISHED-TTL:PT1H
BEGIN:VTIMEZONE
TZID:America/New_York
BEGIN:DAYLIGHT
TZOFFSETFROM:-0500
TZOFFSETTO:-0400
TZNAME:EDT
DTSTART:20230312T070000
END:DAYLIGHT
BEGIN:STANDARD
TZOFFSETFROM:-0400
TZOFFSETTO:-0500
TZNAME:EST
DTSTART:20231105T060000
END:STANDARD
BEGIN:DAYLIGHT
TZOFFSETFROM:-0500
TZOFFSETTO:-0400
TZNAME:EDT
DTSTART:20240310T070000
END:DAYLIGHT
BEGIN:STANDARD
TZOFFSETFROM:-0400
TZOFFSETTO:-0500
TZNAME:EST
DTSTART:20241103T060000
END:STANDARD
BEGIN:DAYLIGHT
TZOFFSETFROM:-0500
TZOFFSETTO:-0400
TZNAME:EDT
DTSTART:20250309T070000
END:DAYLIGHT
BEGIN:STANDARD
TZOFFSETFROM:-0400
TZOFFSETTO:-0500
TZNAME:EST
DTSTART:20251102T060000
END:STANDARD
END:VTIMEZONE
BEGIN:VEVENT
DTSTART;TZID=America/New_York:20240324T130000
DTEND;TZID=America/New_York:20240324T160000
DTSTAMP:20260422T100015
CREATED:20240130T003300Z
LAST-MODIFIED:20240130T003300Z
UID:11829-1711285200-1711296000@www.infotetquebec.com
SUMMARY:Coaticook / Indoor swimming pool
DESCRIPTION:Come swim at the Coaticook pool! \nAll you need to bring is : \nSwimsuit \nTowel \nFREE SUNDAYS\, 1:00 TO 4:00 P.M. \n+1 873 662-2630 \nActi-Sports MRC de Coaticook \n497 Rue Saint-Jean-Baptiste\, \nCoaticook
URL:https://www.infotetquebec.com/en/event/coaticook-indoor-swimming-pool-8/
LOCATION:Acti-Sports MRC de Coaticook\, 497 Rue Saint-Jean-Baptiste\, Coaticook\, Québec\, Canada
CATEGORIES:Cultural or sports activity
END:VEVENT
BEGIN:VEVENT
DTSTART;TZID=America/New_York:20240324T133000
DTEND;TZID=America/New_York:20240324T153000
DTSTAMP:20260422T100015
CREATED:20240322T171407Z
LAST-MODIFIED:20240322T171407Z
UID:12943-1711287000-1711294200@www.infotetquebec.com
SUMMARY:Coaticook / Sugar Shack
DESCRIPTION:
URL:https://www.infotetquebec.com/en/event/coaticook-sugar-shack/
LOCATION:Erablière Grand-Maman\, 953 route 141\, Coaticook\, Québec\, Canada
CATEGORIES:Cultural or sports activity
END:VEVENT
BEGIN:VEVENT
DTSTART;TZID=America/New_York:20240324T140000
DTEND;TZID=America/New_York:20240324T160000
DTSTAMP:20260422T100015
CREATED:20240205T222221Z
LAST-MODIFIED:20240205T222451Z
UID:12263-1711288800-1711296000@www.infotetquebec.com
SUMMARY:Coaticook / Basketball
DESCRIPTION:
URL:https://www.infotetquebec.com/en/event/coaticook-basketball-11/
LOCATION:Acti-Sports MRC de Coaticook\, 497 Rue Saint-Jean-Baptiste\, Coaticook\, Québec\, Canada
CATEGORIES:basketball
END:VEVENT
END:VCALENDAR