BEGIN:VCALENDAR
VERSION:2.0
PRODID:-//Infotetquebec - ECPv6.15.20//NONSGML v1.0//EN
CALSCALE:GREGORIAN
METHOD:PUBLISH
X-WR-CALNAME:Infotetquebec
X-ORIGINAL-URL:https://www.infotetquebec.com/en/
X-WR-CALDESC:Events for Infotetquebec
REFRESH-INTERVAL;VALUE=DURATION:PT1H
X-Robots-Tag:noindex
X-PUBLISHED-TTL:PT1H
BEGIN:VTIMEZONE
TZID:America/New_York
BEGIN:DAYLIGHT
TZOFFSETFROM:-0500
TZOFFSETTO:-0400
TZNAME:EDT
DTSTART:20230312T070000
END:DAYLIGHT
BEGIN:STANDARD
TZOFFSETFROM:-0400
TZOFFSETTO:-0500
TZNAME:EST
DTSTART:20231105T060000
END:STANDARD
BEGIN:DAYLIGHT
TZOFFSETFROM:-0500
TZOFFSETTO:-0400
TZNAME:EDT
DTSTART:20240310T070000
END:DAYLIGHT
BEGIN:STANDARD
TZOFFSETFROM:-0400
TZOFFSETTO:-0500
TZNAME:EST
DTSTART:20241103T060000
END:STANDARD
BEGIN:DAYLIGHT
TZOFFSETFROM:-0500
TZOFFSETTO:-0400
TZNAME:EDT
DTSTART:20250309T070000
END:DAYLIGHT
BEGIN:STANDARD
TZOFFSETFROM:-0400
TZOFFSETTO:-0500
TZNAME:EST
DTSTART:20251102T060000
END:STANDARD
END:VTIMEZONE
BEGIN:VEVENT
DTSTART;TZID=America/New_York:20240323T150000
DTEND;TZID=America/New_York:20240323T170000
DTSTAMP:20260422T115718
CREATED:20240318T161718Z
LAST-MODIFIED:20240318T162037Z
UID:12810-1711206000-1711213200@www.infotetquebec.com
SUMMARY:Victoriaville / Bowling evening
DESCRIPTION:Inscrivez-vous ici !\nhttps://forms.office.com/Pages/ResponsePage.aspx?id=-Jk7LPtrHkKjw7tzoCPF0LcljwXXGfdLvaSHNMAo4vFURTVGMDJTMkxaRko4MUxQOTZZWEdISlBLUy4u&origin=QRCode\n 
URL:https://www.infotetquebec.com/en/event/victoriaville-bowling-evening/
LOCATION:Quillorama des Bois-Francs\, 100 Boulevard des Bois-Francs N\, Victoriaville\, Québec\, G6P 1E7\, Canada
CATEGORIES:Cultural or sports activity
ORGANIZER;CN="Corporation de d%C3%A9veloppement %C3%A9conomique Victoriaville et sa r%C3%A9gion":MAILTO:vsanchez@cdevr.ca
END:VEVENT
BEGIN:VEVENT
DTSTART;TZID=America/New_York:20240323T190000
DTEND;TZID=America/New_York:20240323T220000
DTSTAMP:20260422T115718
CREATED:20240205T185202Z
LAST-MODIFIED:20240205T185444Z
UID:11969-1711220400-1711231200@www.infotetquebec.com
SUMMARY:Val-des-Sources / Soccer
DESCRIPTION:
URL:https://www.infotetquebec.com/en/event/val-des-sources-soccer-7/
LOCATION:ÉCOLEL’ESCALE – GIMNACIO\, 430\, 5E AV. VAL-DES-SOURCES\, Val-des-Sources\, Québec\, J1T 1X2\, Canada
CATEGORIES:soccer
END:VEVENT
END:VCALENDAR