BEGIN:VCALENDAR
VERSION:2.0
PRODID:-//Infotetquebec - ECPv6.15.20//NONSGML v1.0//EN
CALSCALE:GREGORIAN
METHOD:PUBLISH
X-ORIGINAL-URL:https://www.infotetquebec.com/en/
X-WR-CALDESC:Events for Infotetquebec
REFRESH-INTERVAL;VALUE=DURATION:PT1H
X-Robots-Tag:noindex
X-PUBLISHED-TTL:PT1H
BEGIN:VTIMEZONE
TZID:America/New_York
BEGIN:DAYLIGHT
TZOFFSETFROM:-0500
TZOFFSETTO:-0400
TZNAME:EDT
DTSTART:20220313T070000
END:DAYLIGHT
BEGIN:STANDARD
TZOFFSETFROM:-0400
TZOFFSETTO:-0500
TZNAME:EST
DTSTART:20221106T060000
END:STANDARD
BEGIN:DAYLIGHT
TZOFFSETFROM:-0500
TZOFFSETTO:-0400
TZNAME:EDT
DTSTART:20230312T070000
END:DAYLIGHT
BEGIN:STANDARD
TZOFFSETFROM:-0400
TZOFFSETTO:-0500
TZNAME:EST
DTSTART:20231105T060000
END:STANDARD
BEGIN:DAYLIGHT
TZOFFSETFROM:-0500
TZOFFSETTO:-0400
TZNAME:EDT
DTSTART:20240310T070000
END:DAYLIGHT
BEGIN:STANDARD
TZOFFSETFROM:-0400
TZOFFSETTO:-0500
TZNAME:EST
DTSTART:20241103T060000
END:STANDARD
END:VTIMEZONE
BEGIN:VEVENT
DTSTART;TZID=America/New_York:20231203T130000
DTEND;TZID=America/New_York:20231203T160000
DTSTAMP:20260423T131241
CREATED:20231114T164134Z
LAST-MODIFIED:20240126T180205Z
UID:9850-1701608400-1701619200@www.infotetquebec.com
SUMMARY:Sainte-Clotilde-de-Châteauguay / Christmas diner
DESCRIPTION:Complexe X Immigration\, organise un repas de retrouvailles pour les travailleurs étrangers.\nNous vous attendons en grand nombre: employeurs et travailleurs étrangers pour partager ensemble ce moment convivial!\nInscription par courriel requise: info@complx-immigration.ca
URL:https://www.infotetquebec.com/en/event/sainte-clotilde-de-chateauguay-christmas-diner-2/
LOCATION:Centre communautaire Sainte-Clotilde\, 824 2e Rang\, Sainte-Clotilde-de-Châteauguay\, Québec\, J0L 1W0\, Canada
CATEGORIES:Festival
ORGANIZER;CN="Complexe X Immigration":MAILTO:scerdeline@complx-immigration.ca
END:VEVENT
BEGIN:VEVENT
DTSTART;TZID=America/New_York:20231203T140000
DTEND;TZID=America/New_York:20231203T160000
DTSTAMP:20260423T131241
CREATED:20231114T180754Z
LAST-MODIFIED:20240126T183620Z
UID:9880-1701612000-1701619200@www.infotetquebec.com
SUMMARY:Coaticook / Basketball
DESCRIPTION:
URL:https://www.infotetquebec.com/en/event/coaticook-basketball-3/
LOCATION:Gymnase Acti-sports\, 497 rue Saint-Jean-Baptiste\, Coaticook\, Québec\, J1A 2K2\, Canada
CATEGORIES:basketball
END:VEVENT
BEGIN:VEVENT
DTSTART;TZID=America/New_York:20231203T140000
DTEND;TZID=America/New_York:20231203T170000
DTSTAMP:20260423T131241
CREATED:20231114T154355Z
LAST-MODIFIED:20240126T184659Z
UID:9827-1701612000-1701622800@www.infotetquebec.com
SUMMARY:Montréal / Intercultural Christmas Kermesse
DESCRIPTION:Music\nGames\nFood\nDraw\n\nLet’s celebrate together !
URL:https://www.infotetquebec.com/en/event/montreal-kermesse-navidena-intercultural/
LOCATION:Centre du Plateau\, 2275 St Joseph Blvd E\, Montreal\, Québec\, H2H 1G4\, Canada
CATEGORIES:Cultural or sports activity,Festival
END:VEVENT
END:VCALENDAR