BEGIN:VCALENDAR
VERSION:2.0
PRODID:-//Infotetquebec - ECPv6.15.20//NONSGML v1.0//EN
CALSCALE:GREGORIAN
METHOD:PUBLISH
X-ORIGINAL-URL:https://www.infotetquebec.com/en/
X-WR-CALDESC:Events for Infotetquebec
REFRESH-INTERVAL;VALUE=DURATION:PT1H
X-Robots-Tag:noindex
X-PUBLISHED-TTL:PT1H
BEGIN:VTIMEZONE
TZID:America/New_York
BEGIN:DAYLIGHT
TZOFFSETFROM:-0500
TZOFFSETTO:-0400
TZNAME:EDT
DTSTART:20220313T070000
END:DAYLIGHT
BEGIN:STANDARD
TZOFFSETFROM:-0400
TZOFFSETTO:-0500
TZNAME:EST
DTSTART:20221106T060000
END:STANDARD
BEGIN:DAYLIGHT
TZOFFSETFROM:-0500
TZOFFSETTO:-0400
TZNAME:EDT
DTSTART:20230312T070000
END:DAYLIGHT
BEGIN:STANDARD
TZOFFSETFROM:-0400
TZOFFSETTO:-0500
TZNAME:EST
DTSTART:20231105T060000
END:STANDARD
BEGIN:DAYLIGHT
TZOFFSETFROM:-0500
TZOFFSETTO:-0400
TZNAME:EDT
DTSTART:20240310T070000
END:DAYLIGHT
BEGIN:STANDARD
TZOFFSETFROM:-0400
TZOFFSETTO:-0500
TZNAME:EST
DTSTART:20241103T060000
END:STANDARD
END:VTIMEZONE
BEGIN:VEVENT
DTSTART;TZID=America/New_York:20231028T133000
DTEND;TZID=America/New_York:20231028T160000
DTSTAMP:20260423T180840
CREATED:20231011T204443Z
LAST-MODIFIED:20240122T203938Z
UID:9173-1698499800-1698508800@www.infotetquebec.com
SUMMARY:Terrebonne / First forum for temporary foreign workers
DESCRIPTION:REGISTRATION\nWhatsApp : + 1 514 984-9597
URL:https://www.infotetquebec.com/en/event/terrebonne-first-forum-for-temporary-foreign-workers/
LOCATION:Complexes sportifs de Terrebonne\, 2845 boul. des Entreprises\, Terrebonne\, Québec\, J6X 4J8\, Canada
CATEGORIES:Networking
END:VEVENT
BEGIN:VEVENT
DTSTART;TZID=America/New_York:20231028T160000
DTEND;TZID=America/New_York:20231028T170000
DTSTAMP:20260423T180840
CREATED:20231023T162424Z
LAST-MODIFIED:20240123T141308Z
UID:9427-1698508800-1698512400@www.infotetquebec.com
SUMMARY:Daveluyville / Ice skating
DESCRIPTION:Activité destinée aux travailleurs étrangers temporaires.\nVenez vivre l’expérience de patiner sur la glace !\nSAMEDI LE 28 OCTOBRE | 16H À 17H\nACTIVITÉ GRATUITE\nTRANSPORT INCLUS AU DÉPART DE VICTORIAVILLE EN DIRECTION DE DAVELUYVILLE\, EN ALLER-RETOUR\nLieu de l’activité: Centre Sportif Daveluyville\nInscription obligatoire (code QR sur l’image)
URL:https://www.infotetquebec.com/en/event/daveluyville-ice-skating/
LOCATION:Centre sportif Daveluyville\, 1 9e Ave\, Daveluyville\, Québec\, G0Z 1C0\, Canada
CATEGORIES:Cultural or sports activity
ORGANIZER;CN="Corporation de d%C3%A9veloppement %C3%A9conomique Victoriaville et sa r%C3%A9gion":MAILTO:vsanchez@cdevr.ca
END:VEVENT
BEGIN:VEVENT
DTSTART;TZID=America/New_York:20231028T180000
DTEND;TZID=America/New_York:20231028T200000
DTSTAMP:20260423T180840
CREATED:20231023T170811Z
LAST-MODIFIED:20231023T171802Z
UID:9454-1698516000-1698523200@www.infotetquebec.com
SUMMARY:Baie-Comeau + online / Group talk in French and English
DESCRIPTION:Group talk \nExchange and sharing of experience – Information session – Networking \nOCTOBER 28\, 2023 6:00 – 8:00 pm \n22 PLACE LA SALLE (EMERSION) \n& ONLINE \nSubscription mandatory
URL:https://www.infotetquebec.com/en/event/baie-comeau-et-en-ligne-group-talk-in-french-and-english/
LOCATION:Centre Emersion\, 22\, Place La Salle\, Baie-Comeau\, Québec\, G4Z 1K3\, Canada
CATEGORIES:Information session,Networking,webinar
ATTACH;FMTTYPE=image/png:https://www.infotetquebec.com/wp-content/uploads/2023/10/Causerie-de-Group-28-Octobre-2023_fr.png
ORGANIZER;CN="Regroupement multiculturel Manicouagan":MAILTO:valeriedjapa@vi2vals-immigration.ca
END:VEVENT
END:VCALENDAR