BEGIN:VCALENDAR
VERSION:2.0
PRODID:-//Infotetquebec - ECPv6.15.20//NONSGML v1.0//EN
CALSCALE:GREGORIAN
METHOD:PUBLISH
X-WR-CALNAME:Infotetquebec
X-ORIGINAL-URL:https://www.infotetquebec.com/en/
X-WR-CALDESC:Events for Infotetquebec
REFRESH-INTERVAL;VALUE=DURATION:PT1H
X-Robots-Tag:noindex
X-PUBLISHED-TTL:PT1H
BEGIN:VTIMEZONE
TZID:America/New_York
BEGIN:DAYLIGHT
TZOFFSETFROM:-0500
TZOFFSETTO:-0400
TZNAME:EDT
DTSTART:20220313T070000
END:DAYLIGHT
BEGIN:STANDARD
TZOFFSETFROM:-0400
TZOFFSETTO:-0500
TZNAME:EST
DTSTART:20221106T060000
END:STANDARD
BEGIN:DAYLIGHT
TZOFFSETFROM:-0500
TZOFFSETTO:-0400
TZNAME:EDT
DTSTART:20230312T070000
END:DAYLIGHT
BEGIN:STANDARD
TZOFFSETFROM:-0400
TZOFFSETTO:-0500
TZNAME:EST
DTSTART:20231105T060000
END:STANDARD
BEGIN:DAYLIGHT
TZOFFSETFROM:-0500
TZOFFSETTO:-0400
TZNAME:EDT
DTSTART:20240310T070000
END:DAYLIGHT
BEGIN:STANDARD
TZOFFSETFROM:-0400
TZOFFSETTO:-0500
TZNAME:EST
DTSTART:20241103T060000
END:STANDARD
END:VTIMEZONE
BEGIN:VEVENT
DTSTART;TZID=America/New_York:20230929T170000
DTEND;TZID=America/New_York:20230929T193000
DTSTAMP:20260423T195125
CREATED:20230919T135528Z
LAST-MODIFIED:20230919T140027Z
UID:9025-1696006800-1696015800@www.infotetquebec.com
SUMMARY:Saint-Paul-d'Abbotsford-Dinner and soccer
DESCRIPTION:Dinner and friendly soccer
URL:https://www.infotetquebec.com/en/event/saint-paul-dabbotsford-dinner-et-soccer/
LOCATION:35 rue Codaire\, Saint-Paul-d’Abbotsford\, QC J0E1A0\, 35 rue Codaire\, Saint-Paul-d'Abbotsford\, Québec\, J0E 1A0\, Canada
CATEGORIES:bowling night,Cultural or sports activity,soccer
ATTACH;FMTTYPE=image/png:https://www.infotetquebec.com/wp-content/uploads/2023/09/Friendly-soccer-Supper_EN.png
ORGANIZER;CN="Int%C3%A9gration comp%C3%A9tences":MAILTO:lilianasalgado@integrationcompetences.ca
END:VEVENT
BEGIN:VEVENT
DTSTART;TZID=America/New_York:20230929T180000
DTEND;TZID=America/New_York:20230929T200000
DTSTAMP:20260423T195125
CREATED:20230808T181908Z
LAST-MODIFIED:20230808T181908Z
UID:8118-1696010400-1696017600@www.infotetquebec.com
SUMMARY:Saint-Marc-des-Carrières / Soccer game
DESCRIPTION:Come play soccer at the Saint-Marc-des-Carrières field (1600 Bona-Dussault Boulevard) every\nFridays (6 p.m.)!
URL:https://www.infotetquebec.com/en/event/saint-marc-des-carrieres-soccer-game-8/
LOCATION:1600 boul. Bona-Dussault\, Saint-Marc-des-Carrières\, Québec\, G0A 4B0\, Canada
CATEGORIES:soccer
ATTACH;FMTTYPE=image/jpeg:https://www.infotetquebec.com/wp-content/uploads/2023/05/chaos-soccer-gear-Cjfl8r_eYxY-unsplash.jpg
END:VEVENT
BEGIN:VEVENT
DTSTART;TZID=America/New_York:20230929T200000
DTEND;TZID=America/New_York:20230929T220000
DTSTAMP:20260423T195125
CREATED:20230810T205230Z
LAST-MODIFIED:20230810T205230Z
UID:8463-1696017600-1696024800@www.infotetquebec.com
SUMMARY:Coaticook / Soccer game
DESCRIPTION:Every Friday from 8pm to 10pm. \nCome and play with us! \nReservations: WhatsApp +1 873 662-2630
URL:https://www.infotetquebec.com/en/event/coaticook-soccer-game-12/
LOCATION:PARC LAURENCE (TERRAIN 1)\, RUE LAURENCE\, Coaticook\, Québec\, Canada
CATEGORIES:soccer
ATTACH;FMTTYPE=image/jpeg:https://www.infotetquebec.com/wp-content/uploads/2023/08/EOS-Match-Football-Coaticook-Es.jpg
END:VEVENT
END:VCALENDAR