BEGIN:VCALENDAR
VERSION:2.0
PRODID:-//Infotetquebec - ECPv6.15.20//NONSGML v1.0//EN
CALSCALE:GREGORIAN
METHOD:PUBLISH
X-WR-CALNAME:Infotetquebec
X-ORIGINAL-URL:https://www.infotetquebec.com/en/
X-WR-CALDESC:Events for Infotetquebec
REFRESH-INTERVAL;VALUE=DURATION:PT1H
X-Robots-Tag:noindex
X-PUBLISHED-TTL:PT1H
BEGIN:VTIMEZONE
TZID:America/New_York
BEGIN:DAYLIGHT
TZOFFSETFROM:-0500
TZOFFSETTO:-0400
TZNAME:EDT
DTSTART:20220313T070000
END:DAYLIGHT
BEGIN:STANDARD
TZOFFSETFROM:-0400
TZOFFSETTO:-0500
TZNAME:EST
DTSTART:20221106T060000
END:STANDARD
BEGIN:DAYLIGHT
TZOFFSETFROM:-0500
TZOFFSETTO:-0400
TZNAME:EDT
DTSTART:20230312T070000
END:DAYLIGHT
BEGIN:STANDARD
TZOFFSETFROM:-0400
TZOFFSETTO:-0500
TZNAME:EST
DTSTART:20231105T060000
END:STANDARD
BEGIN:DAYLIGHT
TZOFFSETFROM:-0500
TZOFFSETTO:-0400
TZNAME:EDT
DTSTART:20240310T070000
END:DAYLIGHT
BEGIN:STANDARD
TZOFFSETFROM:-0400
TZOFFSETTO:-0500
TZNAME:EST
DTSTART:20241103T060000
END:STANDARD
END:VTIMEZONE
BEGIN:VEVENT
DTSTART;VALUE=DATE:20230619
DTEND;VALUE=DATE:20230620
DTSTAMP:20260424T000918
CREATED:20230607T160128Z
LAST-MODIFIED:20230607T160128Z
UID:7517-1687132800-1687219199@www.infotetquebec.com
SUMMARY:Baie-Saint-Paul / Legal clinic
DESCRIPTION:A legal information session is offered by Justice Pro Bono\, and an information session on physical and psychological health is offered by CAFLA. \nTake advantage of the opportunity to ask your questions in Spanish\, French or English. \nFor more information and reservations\, contact Joany Boily\, 418 435-2503\, joany@cje-appui.qc.ca.
URL:https://www.infotetquebec.com/en/event/baie-saint-paul-legal-clinic/
LOCATION:Baie-Saint-Paul
ATTACH;FMTTYPE=image/jpeg:https://www.infotetquebec.com/wp-content/uploads/2023/06/juridique-scaled.jpg
ORGANIZER;CN="Services de Main d'oeuvre L'Appui":MAILTO:info@cje-appui.qc.ca
END:VEVENT
BEGIN:VEVENT
DTSTART;TZID=America/New_York:20230619T190000
DTEND;TZID=America/New_York:20230619T200000
DTSTAMP:20260424T000918
CREATED:20230519T132111Z
LAST-MODIFIED:20230519T132111Z
UID:7226-1687201200-1687204800@www.infotetquebec.com
SUMMARY:Virtual discussion evenings
DESCRIPTION:You are cordially invited to an evening virtual chat on Quebec culture and values as well as an information session on labour standards\, health and safety. \nEvery Monday and Wednesday from 7 to 8 pm. \nRegistration: scerdeline@complx-immigration.ca \n+ 1 438 368-4613
URL:https://www.infotetquebec.com/en/event/virtual-discussion-evenings-7/
LOCATION:En ligne
CATEGORIES:webinar
ATTACH;FMTTYPE=image/png:https://www.infotetquebec.com/wp-content/uploads/2023/05/COMPLEXE-X_Activites-T-Etrangers-Causeries.png
ORGANIZER;CN="Complexe X Immigration":MAILTO:scerdeline@complx-immigration.ca
END:VEVENT
END:VCALENDAR