BEGIN:VCALENDAR
VERSION:2.0
PRODID:-//Infotetquebec - ECPv6.15.20//NONSGML v1.0//EN
CALSCALE:GREGORIAN
METHOD:PUBLISH
X-WR-CALNAME:Infotetquebec
X-ORIGINAL-URL:https://www.infotetquebec.com/en/
X-WR-CALDESC:Events for Infotetquebec
REFRESH-INTERVAL;VALUE=DURATION:PT1H
X-Robots-Tag:noindex
X-PUBLISHED-TTL:PT1H
BEGIN:VTIMEZONE
TZID:America/New_York
BEGIN:DAYLIGHT
TZOFFSETFROM:-0500
TZOFFSETTO:-0400
TZNAME:EDT
DTSTART:20220313T070000
END:DAYLIGHT
BEGIN:STANDARD
TZOFFSETFROM:-0400
TZOFFSETTO:-0500
TZNAME:EST
DTSTART:20221106T060000
END:STANDARD
BEGIN:DAYLIGHT
TZOFFSETFROM:-0500
TZOFFSETTO:-0400
TZNAME:EDT
DTSTART:20230312T070000
END:DAYLIGHT
BEGIN:STANDARD
TZOFFSETFROM:-0400
TZOFFSETTO:-0500
TZNAME:EST
DTSTART:20231105T060000
END:STANDARD
BEGIN:DAYLIGHT
TZOFFSETFROM:-0500
TZOFFSETTO:-0400
TZNAME:EDT
DTSTART:20240310T070000
END:DAYLIGHT
BEGIN:STANDARD
TZOFFSETFROM:-0400
TZOFFSETTO:-0500
TZNAME:EST
DTSTART:20241103T060000
END:STANDARD
END:VTIMEZONE
BEGIN:VEVENT
DTSTART;TZID=America/New_York:20230531T100000
DTEND;TZID=America/New_York:20230531T180000
DTSTAMP:20260424T000935
CREATED:20230504T163345Z
LAST-MODIFIED:20230504T164427Z
UID:6849-1685527200-1685556000@www.infotetquebec.com
SUMMARY:Montréal / Immigration and integration Fair in Quebec
DESCRIPTION:JOIN US! \nThe Fair will be held on May 31 and June 1\, 2023 at the Palais des congrès de Montréal. It is an opportunity to meet companies and actors from the community and civil society. The InfoTET team and the organizations participating in the projects will be on site at booth 437. Come and meet us! \nRegister for free HERE.\nFor more information on the Fair: salonimmigration.com.
URL:https://www.infotetquebec.com/en/event/montreal-immigration-and-integration-fair-in-quebec/
LOCATION:Palais des congrès de Montréal\, 1001 Place Jean Paul Riopelle\, Montréal\, Québec\, H2Z 1H5\, Canada
CATEGORIES:Networking
ATTACH;FMTTYPE=image/png:https://www.infotetquebec.com/wp-content/uploads/2023/05/SIIQ-2023-FacebookTwitterLogos-940x788-En.png
END:VEVENT
BEGIN:VEVENT
DTSTART;TZID=America/New_York:20230531T190000
DTEND;TZID=America/New_York:20230531T200000
DTSTAMP:20260424T000935
CREATED:20230518T213502Z
LAST-MODIFIED:20230518T213502Z
UID:7200-1685559600-1685563200@www.infotetquebec.com
SUMMARY:Virtual discussion evenings
DESCRIPTION:You are cordially invited to an evening virtual chat on Quebec culture and values as well as an information session on labour standards\, health and safety. \nEvery Monday and Wednesday from 7 to 8 pm. \nRegistration: scerdeline@complx-immigration.ca \n+ 1 438 368-4613
URL:https://www.infotetquebec.com/en/event/virtual-discussion-evenings-2/
LOCATION:En ligne
ATTACH;FMTTYPE=image/png:https://www.infotetquebec.com/wp-content/uploads/2023/05/Complex-X-Causerie_SPAN.png
ORGANIZER;CN="Complexe X Immigration":MAILTO:scerdeline@complx-immigration.ca
END:VEVENT
END:VCALENDAR