BEGIN:VCALENDAR
VERSION:2.0
PRODID:-//Infotetquebec - ECPv6.15.20//NONSGML v1.0//EN
CALSCALE:GREGORIAN
METHOD:PUBLISH
X-ORIGINAL-URL:https://www.infotetquebec.com/en/
X-WR-CALDESC:Events for Infotetquebec
REFRESH-INTERVAL;VALUE=DURATION:PT1H
X-Robots-Tag:noindex
X-PUBLISHED-TTL:PT1H
BEGIN:VTIMEZONE
TZID:America/New_York
BEGIN:DAYLIGHT
TZOFFSETFROM:-0500
TZOFFSETTO:-0400
TZNAME:EDT
DTSTART:20220313T070000
END:DAYLIGHT
BEGIN:STANDARD
TZOFFSETFROM:-0400
TZOFFSETTO:-0500
TZNAME:EST
DTSTART:20221106T060000
END:STANDARD
BEGIN:DAYLIGHT
TZOFFSETFROM:-0500
TZOFFSETTO:-0400
TZNAME:EDT
DTSTART:20230312T070000
END:DAYLIGHT
BEGIN:STANDARD
TZOFFSETFROM:-0400
TZOFFSETTO:-0500
TZNAME:EST
DTSTART:20231105T060000
END:STANDARD
BEGIN:DAYLIGHT
TZOFFSETFROM:-0500
TZOFFSETTO:-0400
TZNAME:EDT
DTSTART:20240310T070000
END:DAYLIGHT
BEGIN:STANDARD
TZOFFSETFROM:-0400
TZOFFSETTO:-0500
TZNAME:EST
DTSTART:20241103T060000
END:STANDARD
END:VTIMEZONE
BEGIN:VEVENT
DTSTART;TZID=America/New_York:20230521T103000
DTEND;TZID=America/New_York:20230521T123000
DTSTAMP:20260424T014658
CREATED:20230428T154011Z
LAST-MODIFIED:20230428T154011Z
UID:6508-1684665000-1684672200@www.infotetquebec.com
SUMMARY:Saint-Basile / Soccer game
DESCRIPTION:Come and play soccer at the Saint-Basile field (10 Place de l’Église) every Sunday in the late\nmorning (10:30 am)!
URL:https://www.infotetquebec.com/en/event/saint-basile-soccer-game-3/
LOCATION:10\, place de l’Église\, Saint-Basile\, Portneuf\, Québec\, Canada
CATEGORIES:soccer
ATTACH;FMTTYPE=image/jpeg:https://www.infotetquebec.com/wp-content/uploads/2023/04/max-zindel-uPCTGBSrfsI-unsplash-2.jpg
END:VEVENT
BEGIN:VEVENT
DTSTART;TZID=America/New_York:20230521T103000
DTEND;TZID=America/New_York:20230521T150000
DTSTAMP:20260424T014658
CREATED:20230504T134253Z
LAST-MODIFIED:20230504T134253Z
UID:6782-1684665000-1684681200@www.infotetquebec.com
SUMMARY:Sherbrooke / Big soccer tournament
DESCRIPTION:The soccer season is starting and AIDE is preparing the teams. \nBe part of it!
URL:https://www.infotetquebec.com/en/event/sherbrooke-big-soccer-tournament/
LOCATION:Parc Atto-Beaver\, RUE ST. FRANCIS\, SHERBROOKE\, Québec\, JIM OB3
CATEGORIES:soccer
ATTACH;FMTTYPE=image/png:https://www.infotetquebec.com/wp-content/uploads/2023/05/EOS-grand-tournoi-de-soccer-Fr.png
END:VEVENT
BEGIN:VEVENT
DTSTART;TZID=America/New_York:20230521T160000
DTEND;TZID=America/New_York:20230521T180000
DTSTAMP:20260424T014658
CREATED:20230428T151946Z
LAST-MODIFIED:20230428T151946Z
UID:6489-1684684800-1684692000@www.infotetquebec.com
SUMMARY:Portneuf / Soccer game
DESCRIPTION:Come play soccer at the Portneuf field (100 Paquin Street) every Sunday afternoon\n(16 h)!
URL:https://www.infotetquebec.com/en/event/portneuf-soccer-game-7/
LOCATION:100\, rue Paquin\, Portneuf\, Québec\, Canada
CATEGORIES:soccer
ATTACH;FMTTYPE=image/jpeg:https://www.infotetquebec.com/wp-content/uploads/2023/04/max-zindel-uPCTGBSrfsI-unsplash-2.jpg
END:VEVENT
END:VCALENDAR