BEGIN:VCALENDAR
VERSION:2.0
PRODID:-//Infotetquebec - ECPv6.15.20//NONSGML v1.0//EN
CALSCALE:GREGORIAN
METHOD:PUBLISH
X-ORIGINAL-URL:https://www.infotetquebec.com/en/
X-WR-CALDESC:Events for Infotetquebec
REFRESH-INTERVAL;VALUE=DURATION:PT1H
X-Robots-Tag:noindex
X-PUBLISHED-TTL:PT1H
BEGIN:VTIMEZONE
TZID:America/New_York
BEGIN:DAYLIGHT
TZOFFSETFROM:-0500
TZOFFSETTO:-0400
TZNAME:EDT
DTSTART:20220313T070000
END:DAYLIGHT
BEGIN:STANDARD
TZOFFSETFROM:-0400
TZOFFSETTO:-0500
TZNAME:EST
DTSTART:20221106T060000
END:STANDARD
BEGIN:DAYLIGHT
TZOFFSETFROM:-0500
TZOFFSETTO:-0400
TZNAME:EDT
DTSTART:20230312T070000
END:DAYLIGHT
BEGIN:STANDARD
TZOFFSETFROM:-0400
TZOFFSETTO:-0500
TZNAME:EST
DTSTART:20231105T060000
END:STANDARD
BEGIN:DAYLIGHT
TZOFFSETFROM:-0500
TZOFFSETTO:-0400
TZNAME:EDT
DTSTART:20240310T070000
END:DAYLIGHT
BEGIN:STANDARD
TZOFFSETFROM:-0400
TZOFFSETTO:-0500
TZNAME:EST
DTSTART:20241103T060000
END:STANDARD
END:VTIMEZONE
BEGIN:VEVENT
DTSTART;TZID=America/New_York:20230512T180000
DTEND;TZID=America/New_York:20230512T200000
DTSTAMP:20260424T014701
CREATED:20230428T140930Z
LAST-MODIFIED:20230428T140930Z
UID:6465-1683914400-1683921600@www.infotetquebec.com
SUMMARY:Portneuf / Soccer game
DESCRIPTION:Come play soccer at the Saint-Marc-des-Carrières field (1600 Bona-Dussault Boulevard) every\nFridays (6 p.m.)!
URL:https://www.infotetquebec.com/en/event/portneuf-soccer-game-2/
LOCATION:1600 boul. Bona-Dussault\, Saint-Marc-des-Carrières\, Québec\, G0A 4B0\, Canada
CATEGORIES:soccer
ATTACH;FMTTYPE=image/jpeg:https://www.infotetquebec.com/wp-content/uploads/2023/04/max-zindel-uPCTGBSrfsI-unsplash-2.jpg
END:VEVENT
BEGIN:VEVENT
DTSTART;TZID=America/New_York:20230512T193000
DTEND;TZID=America/New_York:20230512T230000
DTSTAMP:20260424T014701
CREATED:20230504T151121Z
LAST-MODIFIED:20230504T151121Z
UID:6824-1683919800-1683932400@www.infotetquebec.com
SUMMARY:Waterville / Traditional dance night
DESCRIPTION:Come and dance with us! \nReserve your place at + 1 873 662-2630 or at jasmin.chabot@aide.org.
URL:https://www.infotetquebec.com/en/event/waterville-traditional-dance-night/
LOCATION:30 rue Compton O\, Waterville\, Québec\, J0B 3H0\, Canada
CATEGORIES:Cultural or sports activity
ATTACH;FMTTYPE=image/png:https://www.infotetquebec.com/wp-content/uploads/2023/05/EOS-Soiree-danse-Coaticook-Es.png
END:VEVENT
END:VCALENDAR