BEGIN:VCALENDAR
VERSION:2.0
PRODID:-//Infotetquebec - ECPv6.15.20//NONSGML v1.0//EN
CALSCALE:GREGORIAN
METHOD:PUBLISH
X-ORIGINAL-URL:https://www.infotetquebec.com/en/
X-WR-CALDESC:Events for Infotetquebec
REFRESH-INTERVAL;VALUE=DURATION:PT1H
X-Robots-Tag:noindex
X-PUBLISHED-TTL:PT1H
BEGIN:VTIMEZONE
TZID:America/New_York
BEGIN:DAYLIGHT
TZOFFSETFROM:-0500
TZOFFSETTO:-0400
TZNAME:EDT
DTSTART:20220313T070000
END:DAYLIGHT
BEGIN:STANDARD
TZOFFSETFROM:-0400
TZOFFSETTO:-0500
TZNAME:EST
DTSTART:20221106T060000
END:STANDARD
BEGIN:DAYLIGHT
TZOFFSETFROM:-0500
TZOFFSETTO:-0400
TZNAME:EDT
DTSTART:20230312T070000
END:DAYLIGHT
BEGIN:STANDARD
TZOFFSETFROM:-0400
TZOFFSETTO:-0500
TZNAME:EST
DTSTART:20231105T060000
END:STANDARD
BEGIN:DAYLIGHT
TZOFFSETFROM:-0500
TZOFFSETTO:-0400
TZNAME:EDT
DTSTART:20240310T070000
END:DAYLIGHT
BEGIN:STANDARD
TZOFFSETFROM:-0400
TZOFFSETTO:-0500
TZNAME:EST
DTSTART:20241103T060000
END:STANDARD
END:VTIMEZONE
BEGIN:VEVENT
DTSTART;TZID=America/New_York:20230430T100000
DTEND;TZID=America/New_York:20230430T120000
DTSTAMP:20260424T050739
CREATED:20230412T212343Z
LAST-MODIFIED:20230412T212343Z
UID:6246-1682848800-1682856000@www.infotetquebec.com
SUMMARY:Soccer game
DESCRIPTION:Come and play soccer every Sunday in April at the Saint-Antoine de Sherbrooke school gym! \nInformation and reservation \nElizabeth Morales \nWhatsApp: +1 (873) 662-2699 \nAndrea Contreras \nWhatsApp: +1 (873) 662-2699
URL:https://www.infotetquebec.com/en/event/soccer-game-13/
LOCATION:Gymnase de l’école Saint-Antoine\, 16 rue Church Lennoxville\, Sherbrooke\, Québec\, J1M 1S9\, Canada
CATEGORIES:soccer
ATTACH;FMTTYPE=image/png:https://www.infotetquebec.com/wp-content/uploads/2023/04/0-5.png
END:VEVENT
BEGIN:VEVENT
DTSTART;TZID=America/New_York:20230430T103000
DTEND;TZID=America/New_York:20230430T140000
DTSTAMP:20260424T050739
CREATED:20230412T204919Z
LAST-MODIFIED:20230412T204919Z
UID:6217-1682850600-1682863200@www.infotetquebec.com
SUMMARY:Sugar shack
DESCRIPTION:Don’t miss the Sugar Shack\, a tradition where you can taste maple syrup in all its forms! \nLimited places \nInformation and reservations \nWhatsApp : + 1 873 662-2630
URL:https://www.infotetquebec.com/en/event/sugar-shack-3/
LOCATION:Cabane à sucre\, 323 chemin Smith\, Cookshire-Eaton\, Québec\, J0B 1M0\, Canada
CATEGORIES:Cultural or sports activity
ATTACH;FMTTYPE=image/png:https://www.infotetquebec.com/wp-content/uploads/2023/04/0-3.png
END:VEVENT
END:VCALENDAR