BEGIN:VCALENDAR
VERSION:2.0
PRODID:-//Infotetquebec - ECPv6.15.20//NONSGML v1.0//EN
CALSCALE:GREGORIAN
METHOD:PUBLISH
X-ORIGINAL-URL:https://www.infotetquebec.com/en/
X-WR-CALDESC:Events for Infotetquebec
REFRESH-INTERVAL;VALUE=DURATION:PT1H
X-Robots-Tag:noindex
X-PUBLISHED-TTL:PT1H
BEGIN:VTIMEZONE
TZID:America/New_York
BEGIN:DAYLIGHT
TZOFFSETFROM:-0500
TZOFFSETTO:-0400
TZNAME:EDT
DTSTART:20220313T070000
END:DAYLIGHT
BEGIN:STANDARD
TZOFFSETFROM:-0400
TZOFFSETTO:-0500
TZNAME:EST
DTSTART:20221106T060000
END:STANDARD
BEGIN:DAYLIGHT
TZOFFSETFROM:-0500
TZOFFSETTO:-0400
TZNAME:EDT
DTSTART:20230312T070000
END:DAYLIGHT
BEGIN:STANDARD
TZOFFSETFROM:-0400
TZOFFSETTO:-0500
TZNAME:EST
DTSTART:20231105T060000
END:STANDARD
BEGIN:DAYLIGHT
TZOFFSETFROM:-0500
TZOFFSETTO:-0400
TZNAME:EDT
DTSTART:20240310T070000
END:DAYLIGHT
BEGIN:STANDARD
TZOFFSETFROM:-0400
TZOFFSETTO:-0500
TZNAME:EST
DTSTART:20241103T060000
END:STANDARD
END:VTIMEZONE
BEGIN:VEVENT
DTSTART;TZID=America/New_York:20230324T193000
DTEND;TZID=America/New_York:20230324T230000
DTSTAMP:20260424T063820
CREATED:20230307T183920Z
LAST-MODIFIED:20230307T183920Z
UID:5994-1679686200-1679698800@www.infotetquebec.com
SUMMARY:Bowling
DESCRIPTION:Bowling Night in Richmond \nLimited seating \nInformation and reservations \nWhatsApp : +1 873 662-2630
URL:https://www.infotetquebec.com/en/event/bowling/
LOCATION:555 rue Craig\, Richmond\, QC\, J0B 2H0
ATTACH;FMTTYPE=image/png:https://www.infotetquebec.com/wp-content/uploads/2023/03/Capture-decran-le-2023-03-07-a-13.37.53.png
END:VEVENT
END:VCALENDAR