BEGIN:VCALENDAR
VERSION:2.0
PRODID:-//Infotetquebec - ECPv6.15.20//NONSGML v1.0//EN
CALSCALE:GREGORIAN
METHOD:PUBLISH
X-WR-CALNAME:Infotetquebec
X-ORIGINAL-URL:https://www.infotetquebec.com/en/
X-WR-CALDESC:Events for Infotetquebec
REFRESH-INTERVAL;VALUE=DURATION:PT1H
X-Robots-Tag:noindex
X-PUBLISHED-TTL:PT1H
BEGIN:VTIMEZONE
TZID:America/Toronto
BEGIN:DAYLIGHT
TZOFFSETFROM:-0500
TZOFFSETTO:-0400
TZNAME:EDT
DTSTART:20250309T070000
END:DAYLIGHT
BEGIN:STANDARD
TZOFFSETFROM:-0400
TZOFFSETTO:-0500
TZNAME:EST
DTSTART:20251102T060000
END:STANDARD
BEGIN:DAYLIGHT
TZOFFSETFROM:-0500
TZOFFSETTO:-0400
TZNAME:EDT
DTSTART:20260308T070000
END:DAYLIGHT
BEGIN:STANDARD
TZOFFSETFROM:-0400
TZOFFSETTO:-0500
TZNAME:EST
DTSTART:20261101T060000
END:STANDARD
BEGIN:DAYLIGHT
TZOFFSETFROM:-0500
TZOFFSETTO:-0400
TZNAME:EDT
DTSTART:20270314T070000
END:DAYLIGHT
BEGIN:STANDARD
TZOFFSETFROM:-0400
TZOFFSETTO:-0500
TZNAME:EST
DTSTART:20271107T060000
END:STANDARD
END:VTIMEZONE
BEGIN:VEVENT
DTSTART;TZID=America/Toronto:20260322T090000
DTEND;TZID=America/Toronto:20260322T153000
DTSTAMP:20260421T054721
CREATED:20260310T191259Z
LAST-MODIFIED:20260310T191352Z
UID:27239-1774170000-1774193400@www.infotetquebec.com
SUMMARY:La Malbaie\, QC / Beginner ski day for TFWs
DESCRIPTION:La Malbaie\, QC / Beginner ski day for TFWs \n📍 Mont Grand-Fonds\, 1000 Chemin des Loisirs\, La Malbaie\, QC\, Canada📅 March 22\, 2026🕐 9:00 AM – 3:30 PM \n👉 This activity is intended for temporary foreign workers. \nPlease follow the instructions on the poster and contact the organizer.
URL:https://www.infotetquebec.com/en/event/la-malbaie-qc-beginner-ski-day-for-tfws/
LOCATION:Mont Grand-Fonds\, 1000 Chemin des Loisirs\, La Malbaie\, QC\, Canada.
CATEGORIES:Cultural or sports activity,Social activity
ATTACH;FMTTYPE=image/png:https://www.infotetquebec.com/wp-content/uploads/2026/03/Mont-Grand-Fonds-IQ-FR.png
ORGANIZER;CN="Services de Main d'oeuvre L'Appui":MAILTO:info@cje-appui.qc.ca
END:VEVENT
END:VCALENDAR