BEGIN:VCALENDAR
VERSION:2.0
PRODID:-//Infotetquebec - ECPv6.15.20//NONSGML v1.0//EN
CALSCALE:GREGORIAN
METHOD:PUBLISH
X-WR-CALNAME:Infotetquebec
X-ORIGINAL-URL:https://www.infotetquebec.com/en/
X-WR-CALDESC:Events for Infotetquebec
REFRESH-INTERVAL;VALUE=DURATION:PT1H
X-Robots-Tag:noindex
X-PUBLISHED-TTL:PT1H
BEGIN:VTIMEZONE
TZID:America/Toronto
BEGIN:DAYLIGHT
TZOFFSETFROM:-0500
TZOFFSETTO:-0400
TZNAME:EDT
DTSTART:20240310T070000
END:DAYLIGHT
BEGIN:STANDARD
TZOFFSETFROM:-0400
TZOFFSETTO:-0500
TZNAME:EST
DTSTART:20241103T060000
END:STANDARD
BEGIN:DAYLIGHT
TZOFFSETFROM:-0500
TZOFFSETTO:-0400
TZNAME:EDT
DTSTART:20250309T070000
END:DAYLIGHT
BEGIN:STANDARD
TZOFFSETFROM:-0400
TZOFFSETTO:-0500
TZNAME:EST
DTSTART:20251102T060000
END:STANDARD
BEGIN:DAYLIGHT
TZOFFSETFROM:-0500
TZOFFSETTO:-0400
TZNAME:EDT
DTSTART:20260308T070000
END:DAYLIGHT
BEGIN:STANDARD
TZOFFSETFROM:-0400
TZOFFSETTO:-0500
TZNAME:EST
DTSTART:20261101T060000
END:STANDARD
END:VTIMEZONE
BEGIN:VEVENT
DTSTART;TZID=America/Toronto:20251128T180000
DTEND;TZID=America/Toronto:20251128T210000
DTSTAMP:20260421T043019
CREATED:20251106T164602Z
LAST-MODIFIED:20251106T165024Z
UID:23786-1764352800-1764363600@www.infotetquebec.com
SUMMARY:Granby\, QC/Holiday dinner for TFWs
DESCRIPTION:Granby\, QC/Holiday dinner for TFWs \n📍181 Rue Principale\, Granby\, QC J2G 2V5.  \nChez Bivic\, Rue Principale\, Granby\, QC\, Canada \n📅 28-november-2025\n🕐 18h00-21h00  \n👉 This activity is intended for temporary foreign workers (with a closed work permit). \nPlease follow the instructions shown on the event poster and contact the organizer. \nLimited availability \nGranby Industriel invites TET to a festive dinner to celebrate the end of the year\, to remember that winter is coming quickly\, to network\, and to get to know each other better in a spirit of peace\, joy\, and gratitude.
URL:https://www.infotetquebec.com/en/event/granby-qc-holiday-dinner-for-tfws/
LOCATION:181 Rue Principale\, Granby\, QC J2G 2V5.
ATTACH;FMTTYPE=image/png:https://www.infotetquebec.com/wp-content/uploads/2025/11/Anglais-1-min.png
ORGANIZER;CN="Granby Industriel":MAILTO:ga.brand@granby-industriel.com
END:VEVENT
END:VCALENDAR